BEGIN:VCALENDAR
VERSION:2.0
PRODID:-//Link: UCOP&#039;s e-newsletter - ECPv6.15.19//NONSGML v1.0//EN
CALSCALE:GREGORIAN
METHOD:PUBLISH
X-ORIGINAL-URL:https://link.ucop.edu
X-WR-CALDESC:Events for Link: UCOP&#039;s e-newsletter
REFRESH-INTERVAL;VALUE=DURATION:PT1H
X-Robots-Tag:noindex
X-PUBLISHED-TTL:PT1H
BEGIN:VTIMEZONE
TZID:America/Los_Angeles
BEGIN:STANDARD
TZOFFSETFROM:-0700
TZOFFSETTO:-0800
DTSTART:19701029T020000
RRULE:FREQ=YEARLY;BYMONTH=11;BYDAY=1SU
END:STANDARD
BEGIN:DAYLIGHT
DTSTART:19700402T020000
TZOFFSETFROM:-0800
TZOFFSETTO:-0700
RRULE:FREQ=YEARLY;BYMONTH=3;BYDAY=2SU
END:DAYLIGHT
END:VTIMEZONE
BEGIN:VTIMEZONE
TZID:America/Los_Angeles
BEGIN:DAYLIGHT
TZOFFSETFROM:-0800
TZOFFSETTO:-0700
TZNAME:PDT
DTSTART:20190310T100000
END:DAYLIGHT
BEGIN:STANDARD
TZOFFSETFROM:-0700
TZOFFSETTO:-0800
TZNAME:PST
DTSTART:20191103T090000
END:STANDARD
BEGIN:DAYLIGHT
TZOFFSETFROM:-0800
TZOFFSETTO:-0700
TZNAME:PDT
DTSTART:20200308T100000
END:DAYLIGHT
BEGIN:STANDARD
TZOFFSETFROM:-0700
TZOFFSETTO:-0800
TZNAME:PST
DTSTART:20201101T090000
END:STANDARD
BEGIN:DAYLIGHT
TZOFFSETFROM:-0800
TZOFFSETTO:-0700
TZNAME:PDT
DTSTART:20210314T100000
END:DAYLIGHT
BEGIN:STANDARD
TZOFFSETFROM:-0700
TZOFFSETTO:-0800
TZNAME:PST
DTSTART:20211107T090000
END:STANDARD
END:VTIMEZONE
BEGIN:VEVENT
DTSTART;TZID=America/Los_Angeles:20200218T120000
DTEND;TZID=America/Los_Angeles:20200218T130000
DTSTAMP:20260420T193545
CREATED:20200110T185232Z
LAST-MODIFIED:20200206T224605Z
UID:73352-1582027200-1582030800@link.ucop.edu
SUMMARY:BSFO Community Partnership: All Tied Up
DESCRIPTION:Armand Carr\, founder of All Tied Up\, will share how his nonprofit organization empowers local young men of color\, ages 13 to 21. Through the basic skills of tying a tie\, All Tied Up teaches young men about leadership\, self-respect and empathy. During the month of February\, BSFO is also hosting a tie-drive campaign in support of All Tied Up. Donation bins are located in the Franklin building lobby. \nDate: Tuesday\, February 18\, 2020 \nTime: 12:00-1:00pm \nLocation: Franklin\, Lobby One \nZoom: https://ucop.zoom.us/j/5109870407 \nEvent Chair: Arthur Barker
URL:https://link.ucop.edu/event/bsfo-community-partnership-all-tied-up/
LOCATION:Franklin\, Lobby One
END:VEVENT
END:VCALENDAR