BEGIN:VCALENDAR
VERSION:2.0
PRODID:-//Link: UCOP&#039;s e-newsletter - ECPv6.15.19//NONSGML v1.0//EN
CALSCALE:GREGORIAN
METHOD:PUBLISH
X-ORIGINAL-URL:https://link.ucop.edu
X-WR-CALDESC:Events for Link: UCOP&#039;s e-newsletter
REFRESH-INTERVAL;VALUE=DURATION:PT1H
X-Robots-Tag:noindex
X-PUBLISHED-TTL:PT1H
BEGIN:VTIMEZONE
TZID:America/Los_Angeles
BEGIN:STANDARD
TZOFFSETFROM:-0700
TZOFFSETTO:-0800
DTSTART:19701029T020000
RRULE:FREQ=YEARLY;BYMONTH=11;BYDAY=1SU
END:STANDARD
BEGIN:DAYLIGHT
DTSTART:19700402T020000
TZOFFSETFROM:-0800
TZOFFSETTO:-0700
RRULE:FREQ=YEARLY;BYMONTH=3;BYDAY=2SU
END:DAYLIGHT
END:VTIMEZONE
BEGIN:VTIMEZONE
TZID:America/Los_Angeles
BEGIN:DAYLIGHT
TZOFFSETFROM:-0800
TZOFFSETTO:-0700
TZNAME:PDT
DTSTART:20210314T100000
END:DAYLIGHT
BEGIN:STANDARD
TZOFFSETFROM:-0700
TZOFFSETTO:-0800
TZNAME:PST
DTSTART:20211107T090000
END:STANDARD
BEGIN:DAYLIGHT
TZOFFSETFROM:-0800
TZOFFSETTO:-0700
TZNAME:PDT
DTSTART:20220313T100000
END:DAYLIGHT
BEGIN:STANDARD
TZOFFSETFROM:-0700
TZOFFSETTO:-0800
TZNAME:PST
DTSTART:20221106T090000
END:STANDARD
BEGIN:DAYLIGHT
TZOFFSETFROM:-0800
TZOFFSETTO:-0700
TZNAME:PDT
DTSTART:20230312T100000
END:DAYLIGHT
BEGIN:STANDARD
TZOFFSETFROM:-0700
TZOFFSETTO:-0800
TZNAME:PST
DTSTART:20231105T090000
END:STANDARD
END:VTIMEZONE
BEGIN:VEVENT
DTSTART;TZID=America/Los_Angeles:20221025T090000
DTEND;TZID=America/Los_Angeles:20221025T120000
DTSTAMP:20260422T123713
CREATED:20220914T185256Z
LAST-MODIFIED:20220914T185256Z
UID:88138-1666688400-1666699200@link.ucop.edu
SUMMARY:Excel Advanced Data Analysis
DESCRIPTION:Must attend both sessions: \n\nTuesday\, October 18: 9:00am – 12:00pm\nTuesday\, October 25: 9:00am – 12:00pm\n\nIn this two-part class\, participants will learn: \n\nEssential Excel Skills\nWork with multiple worksheets and workbooks\nShare and protect workbooks\nAutomate workbook functionality\nIntroduction to Macros and VBA\nDynamic arrays\nFILTER\, SORTBY\, UNIQUE and other functions\nAuditing Tools\nForecast data\nTrends\, Analyze Data tool\, and Forecast Sheet\nCreate sparklines\nMap data\nMaps and 3D Maps
URL:https://link.ucop.edu/event/excel-advanced-data-analysis-2/
END:VEVENT
END:VCALENDAR