BEGIN:VCALENDAR
VERSION:2.0
PRODID:-//Link: UCOP&#039;s e-newsletter - ECPv6.15.19//NONSGML v1.0//EN
CALSCALE:GREGORIAN
METHOD:PUBLISH
X-ORIGINAL-URL:https://link.ucop.edu
X-WR-CALDESC:Events for Link: UCOP&#039;s e-newsletter
REFRESH-INTERVAL;VALUE=DURATION:PT1H
X-Robots-Tag:noindex
X-PUBLISHED-TTL:PT1H
BEGIN:VTIMEZONE
TZID:America/Los_Angeles
BEGIN:STANDARD
TZOFFSETFROM:-0700
TZOFFSETTO:-0800
DTSTART:19701029T020000
RRULE:FREQ=YEARLY;BYMONTH=11;BYDAY=1SU
END:STANDARD
BEGIN:DAYLIGHT
DTSTART:19700402T020000
TZOFFSETFROM:-0800
TZOFFSETTO:-0700
RRULE:FREQ=YEARLY;BYMONTH=3;BYDAY=2SU
END:DAYLIGHT
END:VTIMEZONE
BEGIN:VTIMEZONE
TZID:America/Los_Angeles
BEGIN:DAYLIGHT
TZOFFSETFROM:-0800
TZOFFSETTO:-0700
TZNAME:PDT
DTSTART:20190310T100000
END:DAYLIGHT
BEGIN:STANDARD
TZOFFSETFROM:-0700
TZOFFSETTO:-0800
TZNAME:PST
DTSTART:20191103T090000
END:STANDARD
BEGIN:DAYLIGHT
TZOFFSETFROM:-0800
TZOFFSETTO:-0700
TZNAME:PDT
DTSTART:20200308T100000
END:DAYLIGHT
BEGIN:STANDARD
TZOFFSETFROM:-0700
TZOFFSETTO:-0800
TZNAME:PST
DTSTART:20201101T090000
END:STANDARD
BEGIN:DAYLIGHT
TZOFFSETFROM:-0800
TZOFFSETTO:-0700
TZNAME:PDT
DTSTART:20210314T100000
END:DAYLIGHT
BEGIN:STANDARD
TZOFFSETFROM:-0700
TZOFFSETTO:-0800
TZNAME:PST
DTSTART:20211107T090000
END:STANDARD
END:VTIMEZONE
BEGIN:VEVENT
DTSTART;TZID=America/Los_Angeles:20201005T120000
DTEND;TZID=America/Los_Angeles:20201005T130000
DTSTAMP:20260416T162411
CREATED:20200928T222547Z
LAST-MODIFIED:20200928T222547Z
UID:77353-1601899200-1601902800@link.ucop.edu
SUMMARY:Hate Passwords? You're Not Alone: Why We Still Have Passwords in 2020
DESCRIPTION:There are few things in the world more ubiquitously despised than passwords.  How many times have you tried to login to a website\, only to realize that you “forgot your password\,” or tried to create a new password only to have every attempt rejected because it is not secure enough?   And then\, after satisfying all of these requirements\, you get a text with a “security code” that you have to type in — not ideal. How did we get ourselves in this situation\, and does any of this even help from a security point-of-view?   \nIn this talk\, I will present a brief history of passwords and discuss the evolution of authentication.  Then\, I will dive into the details of real-world attacks against passwords\, and provide insights as where the various security measures (e.g.\, strict passwords requirements and text messages) do and do not help.  My goal is to pull the curtain back on the various forms of password-based authentication and let you be the judge if you should be frustrated with or grateful for the various “security” hops that you must jump through on a daily basis.
URL:https://link.ucop.edu/event/hate-passwords-youre-not-alone-why-we-still-have-passwords-in-2020/
END:VEVENT
END:VCALENDAR