BEGIN:VCALENDAR
VERSION:2.0
PRODID:-//Link: UCOP&#039;s e-newsletter - ECPv6.15.19//NONSGML v1.0//EN
CALSCALE:GREGORIAN
METHOD:PUBLISH
X-ORIGINAL-URL:https://link.ucop.edu
X-WR-CALDESC:Events for Link: UCOP&#039;s e-newsletter
REFRESH-INTERVAL;VALUE=DURATION:PT1H
X-Robots-Tag:noindex
X-PUBLISHED-TTL:PT1H
BEGIN:VTIMEZONE
TZID:America/Los_Angeles
BEGIN:STANDARD
TZOFFSETFROM:-0700
TZOFFSETTO:-0800
DTSTART:19701029T020000
RRULE:FREQ=YEARLY;BYMONTH=11;BYDAY=1SU
END:STANDARD
BEGIN:DAYLIGHT
DTSTART:19700402T020000
TZOFFSETFROM:-0800
TZOFFSETTO:-0700
RRULE:FREQ=YEARLY;BYMONTH=3;BYDAY=2SU
END:DAYLIGHT
END:VTIMEZONE
BEGIN:VTIMEZONE
TZID:America/Los_Angeles
BEGIN:DAYLIGHT
TZOFFSETFROM:-0800
TZOFFSETTO:-0700
TZNAME:PDT
DTSTART:20220313T100000
END:DAYLIGHT
BEGIN:STANDARD
TZOFFSETFROM:-0700
TZOFFSETTO:-0800
TZNAME:PST
DTSTART:20221106T090000
END:STANDARD
BEGIN:DAYLIGHT
TZOFFSETFROM:-0800
TZOFFSETTO:-0700
TZNAME:PDT
DTSTART:20230312T100000
END:DAYLIGHT
BEGIN:STANDARD
TZOFFSETFROM:-0700
TZOFFSETTO:-0800
TZNAME:PST
DTSTART:20231105T090000
END:STANDARD
BEGIN:DAYLIGHT
TZOFFSETFROM:-0800
TZOFFSETTO:-0700
TZNAME:PDT
DTSTART:20240310T100000
END:DAYLIGHT
BEGIN:STANDARD
TZOFFSETFROM:-0700
TZOFFSETTO:-0800
TZNAME:PST
DTSTART:20241103T090000
END:STANDARD
END:VTIMEZONE
BEGIN:VEVENT
DTSTART;TZID=America/Los_Angeles:20230922T103000
DTEND;TZID=America/Los_Angeles:20230922T120000
DTSTAMP:20260421T052543
CREATED:20230801T225312Z
LAST-MODIFIED:20230801T225312Z
UID:93705-1695378600-1695384000@link.ucop.edu
SUMMARY:Imposter Syndrome\, Perfectionism and Perfectionist Culture
DESCRIPTION:Imposter syndrome or imposter phenomenon is the belief that you’re inadequate or incompetent despite evidence that you’re skilled and actually quite successful. We all struggle with this sometimes. But Imposter Syndrome and its oft times buddy\, perfectionism\, can paralyze you and actually make you less effective at work. But what if imposter syndrome isn’t just an internal process but also a result of a culture that focuses on mistakes making someone wrong? In this interactive session\, we will begin by learning about these concepts in a bit more detail\, and participate in informal assessments\, individual reflection and small group breakout sessions. We will explore these sometimes scary places to see how we might be able to begin to change the stories we tell ourselves in order to reach a happier and more sustainable positive sense of self. We’ll also take a look at the demands of our institutions and the Perfectionist Culture (sometimes called White Supremacy Culture) they often espouse in order to gain some perspective on ourselves\, our workplaces\, and possible alternatives. \nThis session is led by Pamela Rich\, Organizational Development Consultant at UC Berkeley. Pamela Rich has been an internal\, organization development consultant with UC Berkeley’s People and Organization Development team for 4 years. She has led groups all over campus through strategic planning\, team building and goal setting projects. She works to balance process with results aiming for just the right amount of discussion and action planning. In her facilitation\, she also seeks to promote a culture of inclusion and belonging appreciating a mindset of continuous improvement.
URL:https://link.ucop.edu/event/imposter-syndrome-perfectionism-and-perfectionist-culture-2/
END:VEVENT
END:VCALENDAR