BEGIN:VCALENDAR
VERSION:2.0
PRODID:-//Link: UCOP&#039;s e-newsletter - ECPv6.15.19//NONSGML v1.0//EN
CALSCALE:GREGORIAN
METHOD:PUBLISH
X-ORIGINAL-URL:https://link.ucop.edu
X-WR-CALDESC:Events for Link: UCOP&#039;s e-newsletter
REFRESH-INTERVAL;VALUE=DURATION:PT1H
X-Robots-Tag:noindex
X-PUBLISHED-TTL:PT1H
BEGIN:VTIMEZONE
TZID:America/Los_Angeles
BEGIN:STANDARD
TZOFFSETFROM:-0700
TZOFFSETTO:-0800
DTSTART:19701029T020000
RRULE:FREQ=YEARLY;BYMONTH=11;BYDAY=1SU
END:STANDARD
BEGIN:DAYLIGHT
DTSTART:19700402T020000
TZOFFSETFROM:-0800
TZOFFSETTO:-0700
RRULE:FREQ=YEARLY;BYMONTH=3;BYDAY=2SU
END:DAYLIGHT
END:VTIMEZONE
BEGIN:VTIMEZONE
TZID:America/Los_Angeles
BEGIN:DAYLIGHT
TZOFFSETFROM:-0800
TZOFFSETTO:-0700
TZNAME:PDT
DTSTART:20220313T100000
END:DAYLIGHT
BEGIN:STANDARD
TZOFFSETFROM:-0700
TZOFFSETTO:-0800
TZNAME:PST
DTSTART:20221106T090000
END:STANDARD
BEGIN:DAYLIGHT
TZOFFSETFROM:-0800
TZOFFSETTO:-0700
TZNAME:PDT
DTSTART:20230312T100000
END:DAYLIGHT
BEGIN:STANDARD
TZOFFSETFROM:-0700
TZOFFSETTO:-0800
TZNAME:PST
DTSTART:20231105T090000
END:STANDARD
BEGIN:DAYLIGHT
TZOFFSETFROM:-0800
TZOFFSETTO:-0700
TZNAME:PDT
DTSTART:20240310T100000
END:DAYLIGHT
BEGIN:STANDARD
TZOFFSETFROM:-0700
TZOFFSETTO:-0800
TZNAME:PST
DTSTART:20241103T090000
END:STANDARD
END:VTIMEZONE
BEGIN:VEVENT
DTSTART;TZID=America/Los_Angeles:20231115T121000
DTEND;TZID=America/Los_Angeles:20231115T130000
DTSTAMP:20260421T140808
CREATED:20231106T194537Z
LAST-MODIFIED:20231106T194537Z
UID:95254-1700050200-1700053200@link.ucop.edu
SUMMARY:LaSA Charla de la Tarde: Rodrigo Dominguez Villegas
DESCRIPTION:Join the Latinx Staff Association (LaSA) for a Charla de la Tarde — afternoon chat — featuring Rodrigo Dominguez Villegas\, Ph.D.\, director of Research and the Latino Data Hub\, Latino Policy and Politics Institute (LPI)\, UCLA. Come learn how data disaggregation can advance representation and equity\, and the need for better data collection standards to better reflect the diversity and complexity of Latinx communities. You’ll hear about the LPPI’s new Latino Data Hub\, a new tool to improve data disaggregation about Latinos in the U.S. \n 
URL:https://link.ucop.edu/event/lasa-charla-de-la-tarde-rodrigo-dominguez-villegas/
END:VEVENT
END:VCALENDAR