BEGIN:VCALENDAR
VERSION:2.0
PRODID:-//Link: UCOP&#039;s e-newsletter - ECPv6.15.19//NONSGML v1.0//EN
CALSCALE:GREGORIAN
METHOD:PUBLISH
X-ORIGINAL-URL:https://link.ucop.edu
X-WR-CALDESC:Events for Link: UCOP&#039;s e-newsletter
REFRESH-INTERVAL;VALUE=DURATION:PT1H
X-Robots-Tag:noindex
X-PUBLISHED-TTL:PT1H
BEGIN:VTIMEZONE
TZID:America/Los_Angeles
BEGIN:STANDARD
TZOFFSETFROM:-0700
TZOFFSETTO:-0800
DTSTART:19701029T020000
RRULE:FREQ=YEARLY;BYMONTH=11;BYDAY=1SU
END:STANDARD
BEGIN:DAYLIGHT
DTSTART:19700402T020000
TZOFFSETFROM:-0800
TZOFFSETTO:-0700
RRULE:FREQ=YEARLY;BYMONTH=3;BYDAY=2SU
END:DAYLIGHT
END:VTIMEZONE
BEGIN:VTIMEZONE
TZID:America/Los_Angeles
BEGIN:DAYLIGHT
TZOFFSETFROM:-0800
TZOFFSETTO:-0700
TZNAME:PDT
DTSTART:20230312T100000
END:DAYLIGHT
BEGIN:STANDARD
TZOFFSETFROM:-0700
TZOFFSETTO:-0800
TZNAME:PST
DTSTART:20231105T090000
END:STANDARD
BEGIN:DAYLIGHT
TZOFFSETFROM:-0800
TZOFFSETTO:-0700
TZNAME:PDT
DTSTART:20240310T100000
END:DAYLIGHT
BEGIN:STANDARD
TZOFFSETFROM:-0700
TZOFFSETTO:-0800
TZNAME:PST
DTSTART:20241103T090000
END:STANDARD
BEGIN:DAYLIGHT
TZOFFSETFROM:-0800
TZOFFSETTO:-0700
TZNAME:PDT
DTSTART:20250309T100000
END:DAYLIGHT
BEGIN:STANDARD
TZOFFSETFROM:-0700
TZOFFSETTO:-0800
TZNAME:PST
DTSTART:20251102T090000
END:STANDARD
END:VTIMEZONE
BEGIN:VEVENT
DTSTART;TZID=America/Los_Angeles:20241025T130000
DTEND;TZID=America/Los_Angeles:20241025T140000
DTSTAMP:20260419T142925
CREATED:20240726T192755Z
LAST-MODIFIED:20240926T205139Z
UID:100047-1729861200-1729864800@link.ucop.edu
SUMMARY:Leading Toward Equity
DESCRIPTION:Join the Equity\, Diversity and Inclusion (EDI) Department\, in partnership with Internal Communications\, for the second Leading Toward Equity event for 2024. The event will feature Catherine Spear\, executive director\, Systemwide Office of Civil Rights\, and Calvin Turner\, executive director\, UC Path. Junna Ro\, managing counsel for strategic legal initiatives\, UC Legal\, will moderate. \nLeaders will share unvarnished truths about their personal experiences with EDI\, their journeys of learning in this space and how they are leading efforts to further EDI and anti-racism efforts at our organization. It is a unique opportunity for staff to hear from our leaders while reflecting on our own experiences of discrimination\, bias or privilege based on race\, economic class or other dimensions. \nJoin via Zoom: https://UCOP.zoom.us/j/3967131838?omn=99503269453&from=addon
URL:https://link.ucop.edu/event/leading-toward-equity-4/
END:VEVENT
END:VCALENDAR