BEGIN:VCALENDAR
VERSION:2.0
PRODID:-//Link: UCOP&#039;s e-newsletter - ECPv6.15.19//NONSGML v1.0//EN
CALSCALE:GREGORIAN
METHOD:PUBLISH
X-ORIGINAL-URL:https://link.ucop.edu
X-WR-CALDESC:Events for Link: UCOP&#039;s e-newsletter
REFRESH-INTERVAL;VALUE=DURATION:PT1H
X-Robots-Tag:noindex
X-PUBLISHED-TTL:PT1H
BEGIN:VTIMEZONE
TZID:America/Los_Angeles
BEGIN:STANDARD
TZOFFSETFROM:-0700
TZOFFSETTO:-0800
DTSTART:19701029T020000
RRULE:FREQ=YEARLY;BYMONTH=11;BYDAY=1SU
END:STANDARD
BEGIN:DAYLIGHT
DTSTART:19700402T020000
TZOFFSETFROM:-0800
TZOFFSETTO:-0700
RRULE:FREQ=YEARLY;BYMONTH=3;BYDAY=2SU
END:DAYLIGHT
END:VTIMEZONE
BEGIN:VTIMEZONE
TZID:America/Los_Angeles
BEGIN:DAYLIGHT
TZOFFSETFROM:-0800
TZOFFSETTO:-0700
TZNAME:PDT
DTSTART:20220313T100000
END:DAYLIGHT
BEGIN:STANDARD
TZOFFSETFROM:-0700
TZOFFSETTO:-0800
TZNAME:PST
DTSTART:20221106T090000
END:STANDARD
BEGIN:DAYLIGHT
TZOFFSETFROM:-0800
TZOFFSETTO:-0700
TZNAME:PDT
DTSTART:20230312T100000
END:DAYLIGHT
BEGIN:STANDARD
TZOFFSETFROM:-0700
TZOFFSETTO:-0800
TZNAME:PST
DTSTART:20231105T090000
END:STANDARD
BEGIN:DAYLIGHT
TZOFFSETFROM:-0800
TZOFFSETTO:-0700
TZNAME:PDT
DTSTART:20240310T100000
END:DAYLIGHT
BEGIN:STANDARD
TZOFFSETFROM:-0700
TZOFFSETTO:-0800
TZNAME:PST
DTSTART:20241103T090000
END:STANDARD
END:VTIMEZONE
BEGIN:VEVENT
DTSTART;TZID=America/Los_Angeles:20230215T130000
DTEND;TZID=America/Los_Angeles:20230215T140000
DTSTAMP:20260420T034723
CREATED:20230131T151705Z
LAST-MODIFIED:20230131T151705Z
UID:90416-1676466000-1676469600@link.ucop.edu
SUMMARY:Leading Toward Equity: Van Williams\, Pamela Brown and Andenet Emiru
DESCRIPTION:Leading Towards Equity conversations present a unique opportunity for UCOP staff to hear from our leaders\, while reflecting on our own experiences of discrimination\, bias and privilege based on race\, economic class or other dimensions. We encourage staff to attend with the mindset of engaging with colleagues to think through how we can commit to shared accountability\, move toward becoming an anti-racist organization and strengthen a culture of equity\, diversity and inclusion at UCOP. \nThis conversation will feature Van Williams\, vice president of Information Technology Services and chief technology officer\, and Pamela Brown\, vice president of Institutional Research and Academic Planning. Andenet Emiru\, director of external partnerships and projects at the Center for Data-driven Insights and Innovation at University of California Health and a member of the UCOP EDI and Anti Racism Advisory Group\, will moderate. \nRegister online here
URL:https://link.ucop.edu/event/leading-toward-equity-van-williams-pamela-brown-and-andenet-emiru/
END:VEVENT
END:VCALENDAR