BEGIN:VCALENDAR
VERSION:2.0
PRODID:-//Link: UCOP&#039;s e-newsletter - ECPv6.15.20//NONSGML v1.0//EN
CALSCALE:GREGORIAN
METHOD:PUBLISH
X-ORIGINAL-URL:https://link.ucop.edu
X-WR-CALDESC:Events for Link: UCOP&#039;s e-newsletter
REFRESH-INTERVAL;VALUE=DURATION:PT1H
X-Robots-Tag:noindex
X-PUBLISHED-TTL:PT1H
BEGIN:VTIMEZONE
TZID:America/Los_Angeles
BEGIN:STANDARD
TZOFFSETFROM:-0700
TZOFFSETTO:-0800
DTSTART:19701029T020000
RRULE:FREQ=YEARLY;BYMONTH=11;BYDAY=1SU
END:STANDARD
BEGIN:DAYLIGHT
DTSTART:19700402T020000
TZOFFSETFROM:-0800
TZOFFSETTO:-0700
RRULE:FREQ=YEARLY;BYMONTH=3;BYDAY=2SU
END:DAYLIGHT
END:VTIMEZONE
BEGIN:VTIMEZONE
TZID:America/Los_Angeles
BEGIN:DAYLIGHT
TZOFFSETFROM:-0800
TZOFFSETTO:-0700
TZNAME:PDT
DTSTART:20240310T100000
END:DAYLIGHT
BEGIN:STANDARD
TZOFFSETFROM:-0700
TZOFFSETTO:-0800
TZNAME:PST
DTSTART:20241103T090000
END:STANDARD
BEGIN:DAYLIGHT
TZOFFSETFROM:-0800
TZOFFSETTO:-0700
TZNAME:PDT
DTSTART:20250309T100000
END:DAYLIGHT
BEGIN:STANDARD
TZOFFSETFROM:-0700
TZOFFSETTO:-0800
TZNAME:PST
DTSTART:20251102T090000
END:STANDARD
BEGIN:DAYLIGHT
TZOFFSETFROM:-0800
TZOFFSETTO:-0700
TZNAME:PDT
DTSTART:20260308T100000
END:DAYLIGHT
BEGIN:STANDARD
TZOFFSETFROM:-0700
TZOFFSETTO:-0800
TZNAME:PST
DTSTART:20261101T090000
END:STANDARD
END:VTIMEZONE
BEGIN:VEVENT
DTSTART;TZID=America/Los_Angeles:20250924T120000
DTEND;TZID=America/Los_Angeles:20250924T130000
DTSTAMP:20260424T102331
CREATED:20250908T201746Z
LAST-MODIFIED:20250908T201746Z
UID:106729-1758715200-1758718800@link.ucop.edu
SUMMARY:Legacy\, Science & Deportation
DESCRIPTION:UC ANR Hispanic Heritage Month 2025 Webinar Series\n“A Celebration of Our Dignity\, Our Legacy\, Our Voice / We Belong. We Build. We Rise.”Legacy\, Science & Deportation \nGuest: Dr. Adriana Mejía Briscoe – Professor of Ecology & Evolutionary Biology\, UC Irvine \nDr. Adriana Mejía Briscoe is a world-renowned evolutionary biologist whose research on butterfly genetics and vision has advanced the fields of ecology and evolutionary biology. A member of the National Academy of Sciences\, she bridges scientific excellence with cultural identity\, showing how personal history can deepen our understanding of belonging and legacy. \nWhile tracing her ancestry\, Dr. Adriana Mejía Briscoe uncovered a century-old corrido written by her great-great-grandfather about the mass deportations of Mexicans in the 1930s. The discovery connected her personal story to a larger narrative of resilience and displacement in Mexican American history. \nWhy This Matters\nHispanic Heritage Month is more than a celebration — it is a recognition of resilience\, contribution\, and the ongoing work to create a more inclusive future. These conversations invite reflection\, learning\, and connection across cultures and disciplines. \nMark your calendars and register today!\nREGISTER HERE or scan the QR code below. \nFor more information\, please contact:\nRicardo Vela\, rvela@ucanr.edu\, 951-660-9887
URL:https://link.ucop.edu/event/legacy-science-deportation/
END:VEVENT
END:VCALENDAR