BEGIN:VCALENDAR
VERSION:2.0
PRODID:-//Link: UCOP&#039;s e-newsletter - ECPv6.15.19//NONSGML v1.0//EN
CALSCALE:GREGORIAN
METHOD:PUBLISH
X-ORIGINAL-URL:https://link.ucop.edu
X-WR-CALDESC:Events for Link: UCOP&#039;s e-newsletter
REFRESH-INTERVAL;VALUE=DURATION:PT1H
X-Robots-Tag:noindex
X-PUBLISHED-TTL:PT1H
BEGIN:VTIMEZONE
TZID:America/Los_Angeles
BEGIN:STANDARD
TZOFFSETFROM:-0700
TZOFFSETTO:-0800
DTSTART:19701029T020000
RRULE:FREQ=YEARLY;BYMONTH=11;BYDAY=1SU
END:STANDARD
BEGIN:DAYLIGHT
DTSTART:19700402T020000
TZOFFSETFROM:-0800
TZOFFSETTO:-0700
RRULE:FREQ=YEARLY;BYMONTH=3;BYDAY=2SU
END:DAYLIGHT
END:VTIMEZONE
BEGIN:VTIMEZONE
TZID:America/Los_Angeles
BEGIN:DAYLIGHT
TZOFFSETFROM:-0800
TZOFFSETTO:-0700
TZNAME:PDT
DTSTART:20220313T100000
END:DAYLIGHT
BEGIN:STANDARD
TZOFFSETFROM:-0700
TZOFFSETTO:-0800
TZNAME:PST
DTSTART:20221106T090000
END:STANDARD
BEGIN:DAYLIGHT
TZOFFSETFROM:-0800
TZOFFSETTO:-0700
TZNAME:PDT
DTSTART:20230312T100000
END:DAYLIGHT
BEGIN:STANDARD
TZOFFSETFROM:-0700
TZOFFSETTO:-0800
TZNAME:PST
DTSTART:20231105T090000
END:STANDARD
BEGIN:DAYLIGHT
TZOFFSETFROM:-0800
TZOFFSETTO:-0700
TZNAME:PDT
DTSTART:20240310T100000
END:DAYLIGHT
BEGIN:STANDARD
TZOFFSETFROM:-0700
TZOFFSETTO:-0800
TZNAME:PST
DTSTART:20241103T090000
END:STANDARD
END:VTIMEZONE
BEGIN:VEVENT
DTSTART;TZID=America/Los_Angeles:20230616T100000
DTEND;TZID=America/Los_Angeles:20230616T100000
DTSTAMP:20260417T185632
CREATED:20230606T141916Z
LAST-MODIFIED:20230614T165033Z
UID:92700-1686909600-1686909600@link.ucop.edu
SUMMARY:Managers' update on the Unified Framework for Equity\, Diversity & Inclusion and Anti-Racism at UCOP
DESCRIPTION:Join the Office of Workplace Inclusion and Belonging for an update on the effort to develop a unified framework for equity\, diversity & inclusion (EDI) and anti-racism at UCOP. The framework will help guide shared accountability across UCOP for this critical work. During this event\, exclusively for managers and supervisors\, get an update on this work\, including next steps\, ask questions\, provide feedback on the content and approach\, and gain clarity on your role in advancing a culture of equity\, diversity and inclusion at UCOP. \nRegistration will be emailed to all managers and supervisors.
URL:https://link.ucop.edu/event/managers-update-on-the-unified-framework-for-equity-diversity-inclusion-and-anti-racism-at-ucop/
END:VEVENT
END:VCALENDAR