BEGIN:VCALENDAR
VERSION:2.0
PRODID:-//Link: UCOP&#039;s e-newsletter - ECPv6.15.19//NONSGML v1.0//EN
CALSCALE:GREGORIAN
METHOD:PUBLISH
X-ORIGINAL-URL:https://link.ucop.edu
X-WR-CALDESC:Events for Link: UCOP&#039;s e-newsletter
REFRESH-INTERVAL;VALUE=DURATION:PT1H
X-Robots-Tag:noindex
X-PUBLISHED-TTL:PT1H
BEGIN:VTIMEZONE
TZID:America/Los_Angeles
BEGIN:STANDARD
TZOFFSETFROM:-0700
TZOFFSETTO:-0800
DTSTART:19701029T020000
RRULE:FREQ=YEARLY;BYMONTH=11;BYDAY=1SU
END:STANDARD
BEGIN:DAYLIGHT
DTSTART:19700402T020000
TZOFFSETFROM:-0800
TZOFFSETTO:-0700
RRULE:FREQ=YEARLY;BYMONTH=3;BYDAY=2SU
END:DAYLIGHT
END:VTIMEZONE
BEGIN:VTIMEZONE
TZID:America/Los_Angeles
BEGIN:DAYLIGHT
TZOFFSETFROM:-0800
TZOFFSETTO:-0700
TZNAME:PDT
DTSTART:20250309T100000
END:DAYLIGHT
BEGIN:STANDARD
TZOFFSETFROM:-0700
TZOFFSETTO:-0800
TZNAME:PST
DTSTART:20251102T090000
END:STANDARD
BEGIN:DAYLIGHT
TZOFFSETFROM:-0800
TZOFFSETTO:-0700
TZNAME:PDT
DTSTART:20260308T100000
END:DAYLIGHT
BEGIN:STANDARD
TZOFFSETFROM:-0700
TZOFFSETTO:-0800
TZNAME:PST
DTSTART:20261101T090000
END:STANDARD
BEGIN:DAYLIGHT
TZOFFSETFROM:-0800
TZOFFSETTO:-0700
TZNAME:PDT
DTSTART:20270314T100000
END:DAYLIGHT
BEGIN:STANDARD
TZOFFSETFROM:-0700
TZOFFSETTO:-0800
TZNAME:PST
DTSTART:20271107T090000
END:STANDARD
END:VTIMEZONE
BEGIN:VEVENT
DTSTART;TZID=America/Los_Angeles:20260318T100000
DTEND;TZID=America/Los_Angeles:20260318T120000
DTSTAMP:20260423T015059
CREATED:20260219T012115Z
LAST-MODIFIED:20260219T012115Z
UID:109373-1773828000-1773835200@link.ucop.edu
SUMMARY:Managing Up: Cultivating a Partnership with Your Manager
DESCRIPTION:The manager-employee dynamic can be powerfully productive or woefully fraught. The big question is: what’s within YOUR locus of control as an employee to get what you need from your manager? In this workshop we’ll focus on exploring ways to develop a mutually beneficial working relationship with your supervisor as an individual contributor. This workshop will explore how individual contributors can develop trust by exploring their manager’s perspective\, advocating for self\, and providing upward feedback. This highly interactive session will review best practices to document your performance\, communicate clearly\, and practice delivering upward feedback.
URL:https://link.ucop.edu/event/managing-up-cultivating-a-partnership-with-your-manager-2/
LOCATION:Online
CATEGORIES:Training
ORGANIZER;CN="UCOP Learning and Development":MAILTO:ucopld@ucop.edu
END:VEVENT
END:VCALENDAR