BEGIN:VCALENDAR
VERSION:2.0
PRODID:-//Link: UCOP&#039;s e-newsletter - ECPv6.15.19//NONSGML v1.0//EN
CALSCALE:GREGORIAN
METHOD:PUBLISH
X-ORIGINAL-URL:https://link.ucop.edu
X-WR-CALDESC:Events for Link: UCOP&#039;s e-newsletter
REFRESH-INTERVAL;VALUE=DURATION:PT1H
X-Robots-Tag:noindex
X-PUBLISHED-TTL:PT1H
BEGIN:VTIMEZONE
TZID:America/Los_Angeles
BEGIN:STANDARD
TZOFFSETFROM:-0700
TZOFFSETTO:-0800
DTSTART:19701029T020000
RRULE:FREQ=YEARLY;BYMONTH=11;BYDAY=1SU
END:STANDARD
BEGIN:DAYLIGHT
DTSTART:19700402T020000
TZOFFSETFROM:-0800
TZOFFSETTO:-0700
RRULE:FREQ=YEARLY;BYMONTH=3;BYDAY=2SU
END:DAYLIGHT
END:VTIMEZONE
BEGIN:VTIMEZONE
TZID:America/Los_Angeles
BEGIN:DAYLIGHT
TZOFFSETFROM:-0800
TZOFFSETTO:-0700
TZNAME:PDT
DTSTART:20230312T100000
END:DAYLIGHT
BEGIN:STANDARD
TZOFFSETFROM:-0700
TZOFFSETTO:-0800
TZNAME:PST
DTSTART:20231105T090000
END:STANDARD
BEGIN:DAYLIGHT
TZOFFSETFROM:-0800
TZOFFSETTO:-0700
TZNAME:PDT
DTSTART:20240310T100000
END:DAYLIGHT
BEGIN:STANDARD
TZOFFSETFROM:-0700
TZOFFSETTO:-0800
TZNAME:PST
DTSTART:20241103T090000
END:STANDARD
BEGIN:DAYLIGHT
TZOFFSETFROM:-0800
TZOFFSETTO:-0700
TZNAME:PDT
DTSTART:20250309T100000
END:DAYLIGHT
BEGIN:STANDARD
TZOFFSETFROM:-0700
TZOFFSETTO:-0800
TZNAME:PST
DTSTART:20251102T090000
END:STANDARD
END:VTIMEZONE
BEGIN:VEVENT
DTSTART;TZID=America/Los_Angeles:20240908T110000
DTEND;TZID=America/Los_Angeles:20240908T120000
DTSTAMP:20260415T110208
CREATED:20240830T164648Z
LAST-MODIFIED:20240830T164648Z
UID:100611-1725793200-1725796800@link.ucop.edu
SUMMARY:March with UCOP Pride at Oakland LGBTQ+ Pride 2024
DESCRIPTION:UCOP employees\, friends and family are invited to march with the UCOP Pride employee resource group’s contingent in the Oakland LGBTQ+ Pride Parade on Sunday\, September 8\, from 11:00 am – 12:00 pm. Join us as we march through downtown Oakland to show UC’s commitment to advancing freedom\, justice and equity for LGBTQIA people and for building a future where everyone is free to be their entire selves in every aspect of their lives. \nEveryone who joins us at the march will receive a T-shirt to wear in the parade (plenty of shirts are available)! \nRegister to march in the Oakland Pride parade! \nOakland Pride will provide OP Pride with a specified time to form up prior to the start. OP Pride will inform all participants by email closer to the date of the march. \nWhy We March \nPride events are about human rights; they empower LGBTQIA individuals to reclaim the rights and freedoms they are denied\, and the public space they are often excluded from. Visibility is crucial\, especially when opposition groups and federal\, state and local governments are going to considerable lengths to put LGBTQIA people at the margins of society. Pride Marches are important because they change hearts and minds. For more\, read 5 reasons why Prides matter from Amnesty International. \nAbout UCOP Pride \nUCOP Pride is dedicated to providing advocacy\, education and community-building for the lesbian\, gay\, bisexual\, transgender\, queer\, intersex\, genderqueer and non-binary community\, and its allies\, within UCOP and beyond. UCOP Pride works to build community and solidarity among LGBTQIA staff and allies at UCOP\, engage and inspire LGBTQIA individuals who work at UCOP\, achieve greater inclusivity for the LGBTQIA community at UCOP and increase resources and broaden the base of support for LGBTQIA communities by improving UCOP’s awareness and understanding of LGBTQIA issues\, needs and opportunities. Let there be Pride! \nThanks\, and please let me know if you have any questions or need additional information.
URL:https://link.ucop.edu/event/march-with-ucop-pride-at-oakland-lgbtq-pride-2024/
LOCATION:Oakland
END:VEVENT
END:VCALENDAR