BEGIN:VCALENDAR
VERSION:2.0
PRODID:-//Link: UCOP&#039;s e-newsletter - ECPv6.15.19//NONSGML v1.0//EN
CALSCALE:GREGORIAN
METHOD:PUBLISH
X-ORIGINAL-URL:https://link.ucop.edu
X-WR-CALDESC:Events for Link: UCOP&#039;s e-newsletter
REFRESH-INTERVAL;VALUE=DURATION:PT1H
X-Robots-Tag:noindex
X-PUBLISHED-TTL:PT1H
BEGIN:VTIMEZONE
TZID:America/Los_Angeles
BEGIN:STANDARD
TZOFFSETFROM:-0700
TZOFFSETTO:-0800
DTSTART:19701029T020000
RRULE:FREQ=YEARLY;BYMONTH=11;BYDAY=1SU
END:STANDARD
BEGIN:DAYLIGHT
DTSTART:19700402T020000
TZOFFSETFROM:-0800
TZOFFSETTO:-0700
RRULE:FREQ=YEARLY;BYMONTH=3;BYDAY=2SU
END:DAYLIGHT
END:VTIMEZONE
BEGIN:VTIMEZONE
TZID:America/Los_Angeles
BEGIN:DAYLIGHT
TZOFFSETFROM:-0800
TZOFFSETTO:-0700
TZNAME:PDT
DTSTART:20240310T100000
END:DAYLIGHT
BEGIN:STANDARD
TZOFFSETFROM:-0700
TZOFFSETTO:-0800
TZNAME:PST
DTSTART:20241103T090000
END:STANDARD
BEGIN:DAYLIGHT
TZOFFSETFROM:-0800
TZOFFSETTO:-0700
TZNAME:PDT
DTSTART:20250309T100000
END:DAYLIGHT
BEGIN:STANDARD
TZOFFSETFROM:-0700
TZOFFSETTO:-0800
TZNAME:PST
DTSTART:20251102T090000
END:STANDARD
BEGIN:DAYLIGHT
TZOFFSETFROM:-0800
TZOFFSETTO:-0700
TZNAME:PDT
DTSTART:20260308T100000
END:DAYLIGHT
BEGIN:STANDARD
TZOFFSETFROM:-0700
TZOFFSETTO:-0800
TZNAME:PST
DTSTART:20261101T090000
END:STANDARD
END:VTIMEZONE
BEGIN:VEVENT
DTSTART;TZID=America/Los_Angeles:20251113T111000
DTEND;TZID=America/Los_Angeles:20251113T120000
DTSTAMP:20260419T054950
CREATED:20251028T200745Z
LAST-MODIFIED:20251028T200745Z
UID:107676-1763032200-1763035200@link.ucop.edu
SUMMARY:OE Coffee: Brew Ideas\, Cut Waste\, Save Costs
DESCRIPTION:Join the Operational Excellence Center of Expertise for “OE Coffee”\, an informal yet structured way to discuss process improvement ideas\, challenges\, and opportunities. \nParticipants bring their own topics\, vote on what matters most\, and engage in focused discussions. It’s a great way to share knowledge\, spark collaboration\, and leave with actionable insights. \nBYOC (bring your own coffee) ☕️ 😉 \nQuestions? Email oecoe@ucop.edu \nClick here to join the Operational Excellence Community of Practice group list to get announcements and event invitations.
URL:https://link.ucop.edu/event/oe-coffee-brew-ideas-cut-waste-save-costs/
LOCATION:Zoom
END:VEVENT
END:VCALENDAR