BEGIN:VCALENDAR
VERSION:2.0
PRODID:-//Link: UCOP&#039;s e-newsletter - ECPv6.15.19//NONSGML v1.0//EN
CALSCALE:GREGORIAN
METHOD:PUBLISH
X-ORIGINAL-URL:https://link.ucop.edu
X-WR-CALDESC:Events for Link: UCOP&#039;s e-newsletter
REFRESH-INTERVAL;VALUE=DURATION:PT1H
X-Robots-Tag:noindex
X-PUBLISHED-TTL:PT1H
BEGIN:VTIMEZONE
TZID:America/Los_Angeles
BEGIN:STANDARD
TZOFFSETFROM:-0700
TZOFFSETTO:-0800
DTSTART:19701029T020000
RRULE:FREQ=YEARLY;BYMONTH=11;BYDAY=1SU
END:STANDARD
BEGIN:DAYLIGHT
DTSTART:19700402T020000
TZOFFSETFROM:-0800
TZOFFSETTO:-0700
RRULE:FREQ=YEARLY;BYMONTH=3;BYDAY=2SU
END:DAYLIGHT
END:VTIMEZONE
BEGIN:VTIMEZONE
TZID:America/Los_Angeles
BEGIN:DAYLIGHT
TZOFFSETFROM:-0800
TZOFFSETTO:-0700
TZNAME:PDT
DTSTART:20220313T100000
END:DAYLIGHT
BEGIN:STANDARD
TZOFFSETFROM:-0700
TZOFFSETTO:-0800
TZNAME:PST
DTSTART:20221106T090000
END:STANDARD
BEGIN:DAYLIGHT
TZOFFSETFROM:-0800
TZOFFSETTO:-0700
TZNAME:PDT
DTSTART:20230312T100000
END:DAYLIGHT
BEGIN:STANDARD
TZOFFSETFROM:-0700
TZOFFSETTO:-0800
TZNAME:PST
DTSTART:20231105T090000
END:STANDARD
BEGIN:DAYLIGHT
TZOFFSETFROM:-0800
TZOFFSETTO:-0700
TZNAME:PDT
DTSTART:20240310T100000
END:DAYLIGHT
BEGIN:STANDARD
TZOFFSETFROM:-0700
TZOFFSETTO:-0800
TZNAME:PST
DTSTART:20241103T090000
END:STANDARD
END:VTIMEZONE
BEGIN:VEVENT
DTSTART;TZID=America/Los_Angeles:20230503T130000
DTEND;TZID=America/Los_Angeles:20230503T140000
DTSTAMP:20260415T063003
CREATED:20230411T165225Z
LAST-MODIFIED:20230413T211010Z
UID:91622-1683118800-1683122400@link.ucop.edu
SUMMARY:OPSA Panel: Managing Teams Today – A Conversation with Managers
DESCRIPTION:The OP Staff Assembly (OPSA)\, in collaboration with UCOP Learning & Development\, invites you to hear from valued UCOP managers as they share their journeys and best practices in navigating teams in today’s work environment. Panelist will share insights into how they build and lead teams\, navigate challenges with dispersed colleagues\, and incorporate flexibility as a key to supporting hybrid teams. Both people managers and individual contributors will leave with key takeaways to support any hybrid team flourish. You won’t want to miss this first OPSA Panel of 2023. \nThe panelist will include:\n• Amy Vrizuela\nDirector\, Business Resource Center \n• Christina Saint Martin\,\nMPA\, Director\, UCPath Production \n• Shirley Bittlingmeier\nExecutive Director\, IT Client Services Officer\, UC Office of the President \n• Tera Urias\nBusiness Operations Manager at UCPath
URL:https://link.ucop.edu/event/opsa-panel-managing-teams-today-a-conversation-with-managers/
END:VEVENT
END:VCALENDAR