BEGIN:VCALENDAR
VERSION:2.0
PRODID:-//Link: UCOP&#039;s e-newsletter - ECPv6.15.19//NONSGML v1.0//EN
CALSCALE:GREGORIAN
METHOD:PUBLISH
X-ORIGINAL-URL:https://link.ucop.edu
X-WR-CALDESC:Events for Link: UCOP&#039;s e-newsletter
REFRESH-INTERVAL;VALUE=DURATION:PT1H
X-Robots-Tag:noindex
X-PUBLISHED-TTL:PT1H
BEGIN:VTIMEZONE
TZID:America/Los_Angeles
BEGIN:STANDARD
TZOFFSETFROM:-0700
TZOFFSETTO:-0800
DTSTART:19701029T020000
RRULE:FREQ=YEARLY;BYMONTH=11;BYDAY=1SU
END:STANDARD
BEGIN:DAYLIGHT
DTSTART:19700402T020000
TZOFFSETFROM:-0800
TZOFFSETTO:-0700
RRULE:FREQ=YEARLY;BYMONTH=3;BYDAY=2SU
END:DAYLIGHT
END:VTIMEZONE
BEGIN:VTIMEZONE
TZID:America/Los_Angeles
BEGIN:DAYLIGHT
TZOFFSETFROM:-0800
TZOFFSETTO:-0700
TZNAME:PDT
DTSTART:20210314T100000
END:DAYLIGHT
BEGIN:STANDARD
TZOFFSETFROM:-0700
TZOFFSETTO:-0800
TZNAME:PST
DTSTART:20211107T090000
END:STANDARD
BEGIN:DAYLIGHT
TZOFFSETFROM:-0800
TZOFFSETTO:-0700
TZNAME:PDT
DTSTART:20220313T100000
END:DAYLIGHT
BEGIN:STANDARD
TZOFFSETFROM:-0700
TZOFFSETTO:-0800
TZNAME:PST
DTSTART:20221106T090000
END:STANDARD
BEGIN:DAYLIGHT
TZOFFSETFROM:-0800
TZOFFSETTO:-0700
TZNAME:PDT
DTSTART:20230312T100000
END:DAYLIGHT
BEGIN:STANDARD
TZOFFSETFROM:-0700
TZOFFSETTO:-0800
TZNAME:PST
DTSTART:20231105T090000
END:STANDARD
END:VTIMEZONE
BEGIN:VEVENT
DTSTART;TZID=America/Los_Angeles:20221109T083000
DTEND;TZID=America/Los_Angeles:20221109T123000
DTSTAMP:20260419T145808
CREATED:20220929T152445Z
LAST-MODIFIED:20221013T174701Z
UID:88346-1667982600-1667997000@link.ucop.edu
SUMMARY:Project Management 1 - Session 2
DESCRIPTION:This is a three-part series\, Project Management Level I\, led by The Center for Project Management. \nThis workshop series emphasizes the fundamentals of how to initiate\, create and manage a project. \nSession 2: Planning & Estimating a Project\nIn this course\, students learn how to build a professional-grade project plan and detailed estimates.\n \n\nConstruct a “work breakdown structure”\nConstruct a “network diagram\,” connecting tasks to show their logical relationships\nPerform critical path analysis\, “crashing\,” and “fast-tracking” to meet project requirements\nManage scope\nCreate a project staffing plan\nDiscuss the role of a change management plan\nDevelop and apply a communications management plan\nDevelop realistic\, “detailed\,” “bottom-up” estimates of the effort\, duration\, and budget\nCalibrate estimates based on resource assignments\n\nMust attend all three sessions: \n\nSession 1: Wednesday\, November 2\, 8:30am -12:30pm\nSession 2: Wednesday\, November 9\, 8:30am -12:30pm\nSession 3: Wednesday\, November 16\, 8:30am -12:30pm
URL:https://link.ucop.edu/event/project-management-advanced-session-2/
END:VEVENT
END:VCALENDAR