BEGIN:VCALENDAR
VERSION:2.0
PRODID:-//Link: UCOP&#039;s e-newsletter - ECPv6.15.19//NONSGML v1.0//EN
CALSCALE:GREGORIAN
METHOD:PUBLISH
X-ORIGINAL-URL:https://link.ucop.edu
X-WR-CALDESC:Events for Link: UCOP&#039;s e-newsletter
REFRESH-INTERVAL;VALUE=DURATION:PT1H
X-Robots-Tag:noindex
X-PUBLISHED-TTL:PT1H
BEGIN:VTIMEZONE
TZID:America/Los_Angeles
BEGIN:STANDARD
TZOFFSETFROM:-0700
TZOFFSETTO:-0800
DTSTART:19701029T020000
RRULE:FREQ=YEARLY;BYMONTH=11;BYDAY=1SU
END:STANDARD
BEGIN:DAYLIGHT
DTSTART:19700402T020000
TZOFFSETFROM:-0800
TZOFFSETTO:-0700
RRULE:FREQ=YEARLY;BYMONTH=3;BYDAY=2SU
END:DAYLIGHT
END:VTIMEZONE
BEGIN:VTIMEZONE
TZID:America/Los_Angeles
BEGIN:DAYLIGHT
TZOFFSETFROM:-0800
TZOFFSETTO:-0700
TZNAME:PDT
DTSTART:20220313T100000
END:DAYLIGHT
BEGIN:STANDARD
TZOFFSETFROM:-0700
TZOFFSETTO:-0800
TZNAME:PST
DTSTART:20221106T090000
END:STANDARD
BEGIN:DAYLIGHT
TZOFFSETFROM:-0800
TZOFFSETTO:-0700
TZNAME:PDT
DTSTART:20230312T100000
END:DAYLIGHT
BEGIN:STANDARD
TZOFFSETFROM:-0700
TZOFFSETTO:-0800
TZNAME:PST
DTSTART:20231105T090000
END:STANDARD
BEGIN:DAYLIGHT
TZOFFSETFROM:-0800
TZOFFSETTO:-0700
TZNAME:PDT
DTSTART:20240310T100000
END:DAYLIGHT
BEGIN:STANDARD
TZOFFSETFROM:-0700
TZOFFSETTO:-0800
TZNAME:PST
DTSTART:20241103T090000
END:STANDARD
END:VTIMEZONE
BEGIN:VEVENT
DTSTART;TZID=America/Los_Angeles:20230927T083000
DTEND;TZID=America/Los_Angeles:20230927T123000
DTSTAMP:20260417T141934
CREATED:20230801T224204Z
LAST-MODIFIED:20230801T224204Z
UID:10008378-1695803400-1695817800@link.ucop.edu
SUMMARY:Project Management I
DESCRIPTION:This is a three-part series\, Project Management Level I\, led by The Center for Project Management. This workshop series emphasizes the fundamentals of how to initiate\, create and manage a project. Participants must attend all 3 sessions from 8:30am-12:30pm \n\nSession 1 (Wednesday\, September 13): This course helps students to recognize the critical importance of having a clear\, shared understanding of a project at the outset by creating a comprehensive project charter\, or the decision document that authorizes the project to move into detailed planning and designates the project manager.\nSession 2 (Wednesday\, September 20): In this course\, students learn how to build a professional-grade project plan and detailed estimates.\nSession 3 (Wednesday\, September 27): In this course\, students learn how to convert a project plan and estimates into a project schedule\, and to track and communicate project status.
URL:https://link.ucop.edu/event/project-management-i/2023-09-27/
END:VEVENT
END:VCALENDAR