BEGIN:VCALENDAR
VERSION:2.0
PRODID:-//Link: UCOP&#039;s e-newsletter - ECPv6.15.19//NONSGML v1.0//EN
CALSCALE:GREGORIAN
METHOD:PUBLISH
X-ORIGINAL-URL:https://link.ucop.edu
X-WR-CALDESC:Events for Link: UCOP&#039;s e-newsletter
REFRESH-INTERVAL;VALUE=DURATION:PT1H
X-Robots-Tag:noindex
X-PUBLISHED-TTL:PT1H
BEGIN:VTIMEZONE
TZID:America/Los_Angeles
BEGIN:STANDARD
TZOFFSETFROM:-0700
TZOFFSETTO:-0800
DTSTART:19701029T020000
RRULE:FREQ=YEARLY;BYMONTH=11;BYDAY=1SU
END:STANDARD
BEGIN:DAYLIGHT
DTSTART:19700402T020000
TZOFFSETFROM:-0800
TZOFFSETTO:-0700
RRULE:FREQ=YEARLY;BYMONTH=3;BYDAY=2SU
END:DAYLIGHT
END:VTIMEZONE
BEGIN:VTIMEZONE
TZID:America/Los_Angeles
BEGIN:DAYLIGHT
TZOFFSETFROM:-0800
TZOFFSETTO:-0700
TZNAME:PDT
DTSTART:20230312T100000
END:DAYLIGHT
BEGIN:STANDARD
TZOFFSETFROM:-0700
TZOFFSETTO:-0800
TZNAME:PST
DTSTART:20231105T090000
END:STANDARD
BEGIN:DAYLIGHT
TZOFFSETFROM:-0800
TZOFFSETTO:-0700
TZNAME:PDT
DTSTART:20240310T100000
END:DAYLIGHT
BEGIN:STANDARD
TZOFFSETFROM:-0700
TZOFFSETTO:-0800
TZNAME:PST
DTSTART:20241103T090000
END:STANDARD
BEGIN:DAYLIGHT
TZOFFSETFROM:-0800
TZOFFSETTO:-0700
TZNAME:PDT
DTSTART:20250309T100000
END:DAYLIGHT
BEGIN:STANDARD
TZOFFSETFROM:-0700
TZOFFSETTO:-0800
TZNAME:PST
DTSTART:20251102T090000
END:STANDARD
END:VTIMEZONE
BEGIN:VEVENT
DTSTART;TZID=America/Los_Angeles:20240905T083000
DTEND;TZID=America/Los_Angeles:20240905T123000
DTSTAMP:20260415T142211
CREATED:20240729T162510Z
LAST-MODIFIED:20240729T162510Z
UID:100052-1725525000-1725539400@link.ucop.edu
SUMMARY:Project Management
DESCRIPTION:This is a three-part series\, Project Management Level I\, led by The Center for Project Management. This workshop series emphasizes the fundamentals of how to initiate\, create and manage a project. In this course\, you will learn how to: \n\nRecognize the critical importance of having a clear\, shared understanding of a project at the outset by creating a comprehensive project charter\, or the decision document that authorizes the project to move into detailed planning\, and designates the project manager\nBuild a professional-grade project plan and detailed estimates\nConvert a project plan and estimates into a project schedule\, and to track and communicate project status\n\nParticipants must attend all three sessions from 8:30am-12:30pm on September 5\, 11\, and 18 to receive credit for the course. \nRegister in the UC Learning Center \nQuestions? Email ucopld@ucop.edu
URL:https://link.ucop.edu/event/project-management/
END:VEVENT
END:VCALENDAR