BEGIN:VCALENDAR
VERSION:2.0
PRODID:-//Link: UCOP&#039;s e-newsletter - ECPv6.15.19//NONSGML v1.0//EN
CALSCALE:GREGORIAN
METHOD:PUBLISH
X-ORIGINAL-URL:https://link.ucop.edu
X-WR-CALDESC:Events for Link: UCOP&#039;s e-newsletter
REFRESH-INTERVAL;VALUE=DURATION:PT1H
X-Robots-Tag:noindex
X-PUBLISHED-TTL:PT1H
BEGIN:VTIMEZONE
TZID:America/Los_Angeles
BEGIN:STANDARD
TZOFFSETFROM:-0700
TZOFFSETTO:-0800
DTSTART:19701029T020000
RRULE:FREQ=YEARLY;BYMONTH=11;BYDAY=1SU
END:STANDARD
BEGIN:DAYLIGHT
DTSTART:19700402T020000
TZOFFSETFROM:-0800
TZOFFSETTO:-0700
RRULE:FREQ=YEARLY;BYMONTH=3;BYDAY=2SU
END:DAYLIGHT
END:VTIMEZONE
BEGIN:VTIMEZONE
TZID:America/Los_Angeles
BEGIN:DAYLIGHT
TZOFFSETFROM:-0800
TZOFFSETTO:-0700
TZNAME:PDT
DTSTART:20210314T100000
END:DAYLIGHT
BEGIN:STANDARD
TZOFFSETFROM:-0700
TZOFFSETTO:-0800
TZNAME:PST
DTSTART:20211107T090000
END:STANDARD
BEGIN:DAYLIGHT
TZOFFSETFROM:-0800
TZOFFSETTO:-0700
TZNAME:PDT
DTSTART:20220313T100000
END:DAYLIGHT
BEGIN:STANDARD
TZOFFSETFROM:-0700
TZOFFSETTO:-0800
TZNAME:PST
DTSTART:20221106T090000
END:STANDARD
BEGIN:DAYLIGHT
TZOFFSETFROM:-0800
TZOFFSETTO:-0700
TZNAME:PDT
DTSTART:20230312T100000
END:DAYLIGHT
BEGIN:STANDARD
TZOFFSETFROM:-0700
TZOFFSETTO:-0800
TZNAME:PST
DTSTART:20231105T090000
END:STANDARD
END:VTIMEZONE
BEGIN:VEVENT
DTSTART;TZID=America/Los_Angeles:20221019T120000
DTEND;TZID=America/Los_Angeles:20221019T130000
DTSTAMP:20260419T061829
CREATED:20221007T175634Z
LAST-MODIFIED:20221007T175634Z
UID:88456-1666180800-1666184400@link.ucop.edu
SUMMARY:Protecting California Homes from Extreme Heat
DESCRIPTION:California housing is unprepared for extreme heat today\, let alone future increases in duration and intensity expected with climate change. This presentation\, hosted by the UC Center Sacramento\, will share recommended actions to protect Californians where they live. The conversation will be lead by Dr. V. Kelly Turner\, assistant professor\, UCLA\, and co-director\, Luskin Center for Innovation. Register online here to receive a Zoom link.
URL:https://link.ucop.edu/event/protecting-california-homes-from-extreme-heat/
LOCATION:Zoom
END:VEVENT
END:VCALENDAR