BEGIN:VCALENDAR
VERSION:2.0
PRODID:-//Link: UCOP&#039;s e-newsletter - ECPv6.15.19//NONSGML v1.0//EN
CALSCALE:GREGORIAN
METHOD:PUBLISH
X-ORIGINAL-URL:https://link.ucop.edu
X-WR-CALDESC:Events for Link: UCOP&#039;s e-newsletter
REFRESH-INTERVAL;VALUE=DURATION:PT1H
X-Robots-Tag:noindex
X-PUBLISHED-TTL:PT1H
BEGIN:VTIMEZONE
TZID:America/Los_Angeles
BEGIN:STANDARD
TZOFFSETFROM:-0700
TZOFFSETTO:-0800
DTSTART:19701029T020000
RRULE:FREQ=YEARLY;BYMONTH=11;BYDAY=1SU
END:STANDARD
BEGIN:DAYLIGHT
DTSTART:19700402T020000
TZOFFSETFROM:-0800
TZOFFSETTO:-0700
RRULE:FREQ=YEARLY;BYMONTH=3;BYDAY=2SU
END:DAYLIGHT
END:VTIMEZONE
BEGIN:VTIMEZONE
TZID:America/Los_Angeles
BEGIN:DAYLIGHT
TZOFFSETFROM:-0800
TZOFFSETTO:-0700
TZNAME:PDT
DTSTART:20190310T100000
END:DAYLIGHT
BEGIN:STANDARD
TZOFFSETFROM:-0700
TZOFFSETTO:-0800
TZNAME:PST
DTSTART:20191103T090000
END:STANDARD
BEGIN:DAYLIGHT
TZOFFSETFROM:-0800
TZOFFSETTO:-0700
TZNAME:PDT
DTSTART:20200308T100000
END:DAYLIGHT
BEGIN:STANDARD
TZOFFSETFROM:-0700
TZOFFSETTO:-0800
TZNAME:PST
DTSTART:20201101T090000
END:STANDARD
BEGIN:DAYLIGHT
TZOFFSETFROM:-0800
TZOFFSETTO:-0700
TZNAME:PDT
DTSTART:20210314T100000
END:DAYLIGHT
BEGIN:STANDARD
TZOFFSETFROM:-0700
TZOFFSETTO:-0800
TZNAME:PST
DTSTART:20211107T090000
END:STANDARD
END:VTIMEZONE
BEGIN:VEVENT
DTSTART;TZID=America/Los_Angeles:20201006T100000
DTEND;TZID=America/Los_Angeles:20201006T110000
DTSTAMP:20260421T075844
CREATED:20200928T222646Z
LAST-MODIFIED:20200928T222646Z
UID:77356-1601978400-1601982000@link.ucop.edu
SUMMARY:Q & A with John Pescatore\, Director of Emerging Threats\, SANS Institute
DESCRIPTION:During this session SANS’ John Pescatore will highlight the top 3 security issues hitting organizations in 2020/2021 followed by Ken Newton\, UCSF IT Security Operations Manager asking questions to drill down in areas of particular interest to the USCF community\, then selected questions from the audience. \nJohn Pescatore joined SANS in January 2013 with 35 years of experience in computer\, network and information security. He was Gartner’s Lead Security Analyst for 13 years\, working with global 5000 corporations and major technology and service providers. Prior to joining Gartner Inc. in 1999\, Pescatore was Senior Consultant for Entrust Technologies and Trusted Information Systems. Prior to that\, Pescatore spent 11 years with GTE developing secure computing systems. Pescatore began his career at the National Security Agency\, where he designed secure voice systems and at the United States Secret Service\, where he developed secure communications and surveillance systems. He holds a BSEE from the University of Connecticut and is an NSA Certified Cryptologic Engineer. \nLearn More and Register
URL:https://link.ucop.edu/event/q-a-with-john-pescatore-director-of-emerging-threats-sans-institute/
END:VEVENT
END:VCALENDAR