BEGIN:VCALENDAR
VERSION:2.0
PRODID:-//Link: UCOP&#039;s e-newsletter - ECPv6.15.19//NONSGML v1.0//EN
CALSCALE:GREGORIAN
METHOD:PUBLISH
X-ORIGINAL-URL:https://link.ucop.edu
X-WR-CALDESC:Events for Link: UCOP&#039;s e-newsletter
REFRESH-INTERVAL;VALUE=DURATION:PT1H
X-Robots-Tag:noindex
X-PUBLISHED-TTL:PT1H
BEGIN:VTIMEZONE
TZID:America/Los_Angeles
BEGIN:STANDARD
TZOFFSETFROM:-0700
TZOFFSETTO:-0800
DTSTART:19701029T020000
RRULE:FREQ=YEARLY;BYMONTH=11;BYDAY=1SU
END:STANDARD
BEGIN:DAYLIGHT
DTSTART:19700402T020000
TZOFFSETFROM:-0800
TZOFFSETTO:-0700
RRULE:FREQ=YEARLY;BYMONTH=3;BYDAY=2SU
END:DAYLIGHT
END:VTIMEZONE
BEGIN:VTIMEZONE
TZID:America/Los_Angeles
BEGIN:DAYLIGHT
TZOFFSETFROM:-0800
TZOFFSETTO:-0700
TZNAME:PDT
DTSTART:20220313T100000
END:DAYLIGHT
BEGIN:STANDARD
TZOFFSETFROM:-0700
TZOFFSETTO:-0800
TZNAME:PST
DTSTART:20221106T090000
END:STANDARD
BEGIN:DAYLIGHT
TZOFFSETFROM:-0800
TZOFFSETTO:-0700
TZNAME:PDT
DTSTART:20230312T100000
END:DAYLIGHT
BEGIN:STANDARD
TZOFFSETFROM:-0700
TZOFFSETTO:-0800
TZNAME:PST
DTSTART:20231105T090000
END:STANDARD
BEGIN:DAYLIGHT
TZOFFSETFROM:-0800
TZOFFSETTO:-0700
TZNAME:PDT
DTSTART:20240310T100000
END:DAYLIGHT
BEGIN:STANDARD
TZOFFSETFROM:-0700
TZOFFSETTO:-0800
TZNAME:PST
DTSTART:20241103T090000
END:STANDARD
END:VTIMEZONE
BEGIN:VEVENT
DTSTART;TZID=America/Los_Angeles:20230926T130000
DTEND;TZID=America/Los_Angeles:20230926T143000
DTSTAMP:20260415T031853
CREATED:20230801T225518Z
LAST-MODIFIED:20230823T184750Z
UID:93707-1695733200-1695738600@link.ucop.edu
SUMMARY:Smooth Operator: Facilitating with Flow in Hybrid Meetings
DESCRIPTION:This hybrid workshop features techniques to equip anyone leading hybrid meetings with the right preparation and processes to run meetings smoothly\, increase participation and engagement\, and include all voices\, whether they’re joining in-person or virtually. \nObjectives of the course are: \n\nAddressing the biggest challenges meeting facilitators and participants face in a hybrid format\nUnderstanding how to prepare\, lead\, and follow up on hybrid meetings\nLearning processes for engaging hybrid meeting participants in productive brainstorming and decision-making\n\nWe encourage Hybrid Oakland employees to attend in-person in Broadway 7001.
URL:https://link.ucop.edu/event/smooth-operator-facilitating-with-flow-in-hybrid-meetings/
LOCATION:Broadway – B 7001
END:VEVENT
END:VCALENDAR