BEGIN:VCALENDAR
VERSION:2.0
PRODID:-//Link: UCOP&#039;s e-newsletter - ECPv6.15.19//NONSGML v1.0//EN
CALSCALE:GREGORIAN
METHOD:PUBLISH
X-ORIGINAL-URL:https://link.ucop.edu
X-WR-CALDESC:Events for Link: UCOP&#039;s e-newsletter
REFRESH-INTERVAL;VALUE=DURATION:PT1H
X-Robots-Tag:noindex
X-PUBLISHED-TTL:PT1H
BEGIN:VTIMEZONE
TZID:America/Los_Angeles
BEGIN:STANDARD
TZOFFSETFROM:-0700
TZOFFSETTO:-0800
DTSTART:19701029T020000
RRULE:FREQ=YEARLY;BYMONTH=11;BYDAY=1SU
END:STANDARD
BEGIN:DAYLIGHT
DTSTART:19700402T020000
TZOFFSETFROM:-0800
TZOFFSETTO:-0700
RRULE:FREQ=YEARLY;BYMONTH=3;BYDAY=2SU
END:DAYLIGHT
END:VTIMEZONE
BEGIN:VTIMEZONE
TZID:America/Los_Angeles
BEGIN:DAYLIGHT
TZOFFSETFROM:-0800
TZOFFSETTO:-0700
TZNAME:PDT
DTSTART:20220313T100000
END:DAYLIGHT
BEGIN:STANDARD
TZOFFSETFROM:-0700
TZOFFSETTO:-0800
TZNAME:PST
DTSTART:20221106T090000
END:STANDARD
BEGIN:DAYLIGHT
TZOFFSETFROM:-0800
TZOFFSETTO:-0700
TZNAME:PDT
DTSTART:20230312T100000
END:DAYLIGHT
BEGIN:STANDARD
TZOFFSETFROM:-0700
TZOFFSETTO:-0800
TZNAME:PST
DTSTART:20231105T090000
END:STANDARD
BEGIN:DAYLIGHT
TZOFFSETFROM:-0800
TZOFFSETTO:-0700
TZNAME:PDT
DTSTART:20240310T100000
END:DAYLIGHT
BEGIN:STANDARD
TZOFFSETFROM:-0700
TZOFFSETTO:-0800
TZNAME:PST
DTSTART:20241103T090000
END:STANDARD
END:VTIMEZONE
BEGIN:VEVENT
DTSTART;TZID=America/Los_Angeles:20230615T120000
DTEND;TZID=America/Los_Angeles:20230615T133000
DTSTAMP:20260421T052619
CREATED:20230613T132808Z
LAST-MODIFIED:20230613T132808Z
UID:92799-1686830400-1686835800@link.ucop.edu
SUMMARY:Together We Rise: Celebrating AAPI and LGBTQ Resilience
DESCRIPTION:In this UCSF-hosted event\, professor\, author\, psychologist and activist Kevin Nadal\, Ph.D.\, will focus on the intersections of Asian American Pacific Islander (AAPI) and lesbian\, gay\, bisexual\, transgender\, queer or questioning (LGBTQ) history and elevate the ways in which we can build collective hope to carry and move us forward. \n— Webinar: 12 – 1 p.m. (PT): Register for the main session\n— Q&A session: 1 – 1:30 p.m. (PT): Register for the Q&A session \nFor more information\, visit the event website or contact Tony Yang.
URL:https://link.ucop.edu/event/together-we-rise-celebrating-aapi-and-lgbtq-resilience/
CATEGORIES:Employee Resource + Affinity Groups
END:VEVENT
END:VCALENDAR