BEGIN:VCALENDAR
VERSION:2.0
PRODID:-//Link: UCOP&#039;s e-newsletter - ECPv6.15.20//NONSGML v1.0//EN
CALSCALE:GREGORIAN
METHOD:PUBLISH
X-ORIGINAL-URL:https://link.ucop.edu
X-WR-CALDESC:Events for Link: UCOP&#039;s e-newsletter
REFRESH-INTERVAL;VALUE=DURATION:PT1H
X-Robots-Tag:noindex
X-PUBLISHED-TTL:PT1H
BEGIN:VTIMEZONE
TZID:America/Los_Angeles
BEGIN:STANDARD
TZOFFSETFROM:-0700
TZOFFSETTO:-0800
DTSTART:19701029T020000
RRULE:FREQ=YEARLY;BYMONTH=11;BYDAY=1SU
END:STANDARD
BEGIN:DAYLIGHT
DTSTART:19700402T020000
TZOFFSETFROM:-0800
TZOFFSETTO:-0700
RRULE:FREQ=YEARLY;BYMONTH=3;BYDAY=2SU
END:DAYLIGHT
END:VTIMEZONE
BEGIN:VTIMEZONE
TZID:America/Los_Angeles
BEGIN:DAYLIGHT
TZOFFSETFROM:-0800
TZOFFSETTO:-0700
TZNAME:PDT
DTSTART:20240310T100000
END:DAYLIGHT
BEGIN:STANDARD
TZOFFSETFROM:-0700
TZOFFSETTO:-0800
TZNAME:PST
DTSTART:20241103T090000
END:STANDARD
BEGIN:DAYLIGHT
TZOFFSETFROM:-0800
TZOFFSETTO:-0700
TZNAME:PDT
DTSTART:20250309T100000
END:DAYLIGHT
BEGIN:STANDARD
TZOFFSETFROM:-0700
TZOFFSETTO:-0800
TZNAME:PST
DTSTART:20251102T090000
END:STANDARD
BEGIN:DAYLIGHT
TZOFFSETFROM:-0800
TZOFFSETTO:-0700
TZNAME:PDT
DTSTART:20260308T100000
END:DAYLIGHT
BEGIN:STANDARD
TZOFFSETFROM:-0700
TZOFFSETTO:-0800
TZNAME:PST
DTSTART:20261101T090000
END:STANDARD
END:VTIMEZONE
BEGIN:VEVENT
DTSTART;TZID=America/Los_Angeles:20250311T100000
DTEND;TZID=America/Los_Angeles:20250311T103000
DTSTAMP:20260423T133103
CREATED:20250307T205315Z
LAST-MODIFIED:20250307T205347Z
UID:103773-1741687200-1741689000@link.ucop.edu
SUMMARY:Travel Talk Tuesday: Travel/Entertainment Policy & Exceptions
DESCRIPTION:The process of navigating Business-related travel and events can sometimes be challenging\, but there are numerous resources available that can help. Before you travel or hold an event\, it is always a good idea to be aware of Travel and Entertainment policies and when exceptions to certain needs may be necessary. Join us March 11th from 10:00-10:30 AM when we will discuss: \n\nG-28 and Bus-79 Policy: what they are and what they cover\nResources: where you can access important information regarding policy so that you can familiarize yourself and be in the know.\nExceptions: What are they\, when are they needed and how to secure one.\n\nZoom Link: https://UCOP.zoom.us/j/3301316753?pwd=STFNemVrbTJsV0tJZU1BNWZFL2VSUT09 \n  \n 
URL:https://link.ucop.edu/event/travel-talk-tuesday-travel-entertainment-policy-and-exceptions/
LOCATION:Online (via Zoom)
ORGANIZER;CN="brctravelandent@ucop.edu":MAILTO:brctravelandent@ucop.edu
END:VEVENT
END:VCALENDAR