BEGIN:VCALENDAR
VERSION:2.0
PRODID:-//Link: UCOP&#039;s e-newsletter - ECPv6.15.19//NONSGML v1.0//EN
CALSCALE:GREGORIAN
METHOD:PUBLISH
X-ORIGINAL-URL:https://link.ucop.edu
X-WR-CALDESC:Events for Link: UCOP&#039;s e-newsletter
REFRESH-INTERVAL;VALUE=DURATION:PT1H
X-Robots-Tag:noindex
X-PUBLISHED-TTL:PT1H
BEGIN:VTIMEZONE
TZID:America/Los_Angeles
BEGIN:STANDARD
TZOFFSETFROM:-0700
TZOFFSETTO:-0800
DTSTART:19701029T020000
RRULE:FREQ=YEARLY;BYMONTH=11;BYDAY=1SU
END:STANDARD
BEGIN:DAYLIGHT
DTSTART:19700402T020000
TZOFFSETFROM:-0800
TZOFFSETTO:-0700
RRULE:FREQ=YEARLY;BYMONTH=3;BYDAY=2SU
END:DAYLIGHT
END:VTIMEZONE
BEGIN:VTIMEZONE
TZID:America/Los_Angeles
BEGIN:DAYLIGHT
TZOFFSETFROM:-0800
TZOFFSETTO:-0700
TZNAME:PDT
DTSTART:20190310T100000
END:DAYLIGHT
BEGIN:STANDARD
TZOFFSETFROM:-0700
TZOFFSETTO:-0800
TZNAME:PST
DTSTART:20191103T090000
END:STANDARD
BEGIN:DAYLIGHT
TZOFFSETFROM:-0800
TZOFFSETTO:-0700
TZNAME:PDT
DTSTART:20200308T100000
END:DAYLIGHT
BEGIN:STANDARD
TZOFFSETFROM:-0700
TZOFFSETTO:-0800
TZNAME:PST
DTSTART:20201101T090000
END:STANDARD
BEGIN:DAYLIGHT
TZOFFSETFROM:-0800
TZOFFSETTO:-0700
TZNAME:PDT
DTSTART:20210314T100000
END:DAYLIGHT
BEGIN:STANDARD
TZOFFSETFROM:-0700
TZOFFSETTO:-0800
TZNAME:PST
DTSTART:20211107T090000
END:STANDARD
END:VTIMEZONE
BEGIN:VEVENT
DTSTART;TZID=America/Los_Angeles:20200423T120000
DTEND;TZID=America/Los_Angeles:20200423T130000
DTSTAMP:20260417T222847
CREATED:20191219T171450Z
LAST-MODIFIED:20191219T171450Z
UID:73117-1587643200-1587646800@link.ucop.edu
SUMMARY:UC Alumni Career Network — Prescription for Success from Health Care/Medical Leaders
DESCRIPTION:Not only are Healthcare and Medicine among the most popular fields for UC alumni\, these professions often top the list of occupations with the highest burnout rates.  Join us in April 2020 for an in-depth e-conversation with fellow UC alumni working in healthcare and medicine to discuss positioning yourself for long-term professional success.  From finding your professional fit and navigating career change to advancing into leadership positions or shifting away from patient-centered work\, this panel will offer insights and advice to help you prepare for your next career steps. While this webinar is open to all UC alumni\, the content of this program is specifically designed for mid and later career professionals in the fields of healthcare and medicine. \nRegistration Link: https://tinyurl.com/UCACNApril23
URL:https://link.ucop.edu/event/uc-alumni-career-network-prescription-for-success-from-health-care-medical-leaders/
LOCATION:Online
END:VEVENT
END:VCALENDAR