BEGIN:VCALENDAR
VERSION:2.0
PRODID:-//Link: UCOP&#039;s e-newsletter - ECPv6.15.19//NONSGML v1.0//EN
CALSCALE:GREGORIAN
METHOD:PUBLISH
X-ORIGINAL-URL:https://link.ucop.edu
X-WR-CALDESC:Events for Link: UCOP&#039;s e-newsletter
REFRESH-INTERVAL;VALUE=DURATION:PT1H
X-Robots-Tag:noindex
X-PUBLISHED-TTL:PT1H
BEGIN:VTIMEZONE
TZID:America/Los_Angeles
BEGIN:STANDARD
TZOFFSETFROM:-0700
TZOFFSETTO:-0800
DTSTART:19701029T020000
RRULE:FREQ=YEARLY;BYMONTH=11;BYDAY=1SU
END:STANDARD
BEGIN:DAYLIGHT
DTSTART:19700402T020000
TZOFFSETFROM:-0800
TZOFFSETTO:-0700
RRULE:FREQ=YEARLY;BYMONTH=3;BYDAY=2SU
END:DAYLIGHT
END:VTIMEZONE
BEGIN:VTIMEZONE
TZID:America/Los_Angeles
BEGIN:DAYLIGHT
TZOFFSETFROM:-0800
TZOFFSETTO:-0700
TZNAME:PDT
DTSTART:20200308T100000
END:DAYLIGHT
BEGIN:STANDARD
TZOFFSETFROM:-0700
TZOFFSETTO:-0800
TZNAME:PST
DTSTART:20201101T090000
END:STANDARD
BEGIN:DAYLIGHT
TZOFFSETFROM:-0800
TZOFFSETTO:-0700
TZNAME:PDT
DTSTART:20210314T100000
END:DAYLIGHT
BEGIN:STANDARD
TZOFFSETFROM:-0700
TZOFFSETTO:-0800
TZNAME:PST
DTSTART:20211107T090000
END:STANDARD
BEGIN:DAYLIGHT
TZOFFSETFROM:-0800
TZOFFSETTO:-0700
TZNAME:PDT
DTSTART:20220313T100000
END:DAYLIGHT
BEGIN:STANDARD
TZOFFSETFROM:-0700
TZOFFSETTO:-0800
TZNAME:PST
DTSTART:20221106T090000
END:STANDARD
END:VTIMEZONE
BEGIN:VEVENT
DTSTART;TZID=America/Los_Angeles:20210420T140000
DTEND;TZID=America/Los_Angeles:20210420T160000
DTSTAMP:20260419T091142
CREATED:20210312T174906Z
LAST-MODIFIED:20210319T230403Z
UID:10008835-1618927200-1618934400@link.ucop.edu
SUMMARY:UCOP Microaggression (Part1) - From Sesame Street to Mainstreet
DESCRIPTION:NOTE: This is the part 1 of a 2 part class \nThe term “microaggression” has become widely used and misunderstood. As we continue to develop more inclusive workplace practices\, this interactive session will help develop a shared understanding of how microaggressions can affect our work environment and organizational culture. In this interactive session\, participants will: \n\nLearn what microaggressions are and their underlying messages about distinct social groups\nLearn strategies for limiting the occurrences of microaggressions\, at the individual and institutional level\nDiscuss different approaches to responding to microaggressions\nLearn strategies for how to recover after learning you have delivered a microaggression
URL:https://link.ucop.edu/event/ucop-microaggression-part1-from-sesame-street-to-mainstreet/2021-04-20/
END:VEVENT
END:VCALENDAR