BEGIN:VCALENDAR
VERSION:2.0
PRODID:-//Link: UCOP&#039;s e-newsletter - ECPv6.15.19//NONSGML v1.0//EN
CALSCALE:GREGORIAN
METHOD:PUBLISH
X-ORIGINAL-URL:https://link.ucop.edu
X-WR-CALDESC:Events for Link: UCOP&#039;s e-newsletter
REFRESH-INTERVAL;VALUE=DURATION:PT1H
X-Robots-Tag:noindex
X-PUBLISHED-TTL:PT1H
BEGIN:VTIMEZONE
TZID:America/Los_Angeles
BEGIN:STANDARD
TZOFFSETFROM:-0700
TZOFFSETTO:-0800
DTSTART:19701029T020000
RRULE:FREQ=YEARLY;BYMONTH=11;BYDAY=1SU
END:STANDARD
BEGIN:DAYLIGHT
DTSTART:19700402T020000
TZOFFSETFROM:-0800
TZOFFSETTO:-0700
RRULE:FREQ=YEARLY;BYMONTH=3;BYDAY=2SU
END:DAYLIGHT
END:VTIMEZONE
BEGIN:VTIMEZONE
TZID:America/Los_Angeles
BEGIN:DAYLIGHT
TZOFFSETFROM:-0800
TZOFFSETTO:-0700
TZNAME:PDT
DTSTART:20170312T100000
END:DAYLIGHT
BEGIN:STANDARD
TZOFFSETFROM:-0700
TZOFFSETTO:-0800
TZNAME:PST
DTSTART:20171105T090000
END:STANDARD
BEGIN:DAYLIGHT
TZOFFSETFROM:-0800
TZOFFSETTO:-0700
TZNAME:PDT
DTSTART:20180311T100000
END:DAYLIGHT
BEGIN:STANDARD
TZOFFSETFROM:-0700
TZOFFSETTO:-0800
TZNAME:PST
DTSTART:20181104T090000
END:STANDARD
BEGIN:DAYLIGHT
TZOFFSETFROM:-0800
TZOFFSETTO:-0700
TZNAME:PDT
DTSTART:20190310T100000
END:DAYLIGHT
BEGIN:STANDARD
TZOFFSETFROM:-0700
TZOFFSETTO:-0800
TZNAME:PST
DTSTART:20191103T090000
END:STANDARD
END:VTIMEZONE
BEGIN:VEVENT
DTSTART;TZID=America/Los_Angeles:20181016T110000
DTEND;TZID=America/Los_Angeles:20181016T130000
DTSTAMP:20260416T174152
CREATED:20180907T191823Z
LAST-MODIFIED:20180907T191823Z
UID:66160-1539687600-1539694800@link.ucop.edu
SUMMARY:UCOP National Cyber Security Awareness Month forum
DESCRIPTION:UCOP will host an exciting speaker event for National Cyber Security Awareness Month. \nSchedule: \n\n11—11:45 a.m.: Security for your personal Apple devices. A representative from Apple will come to share helpful information about security features and tips for personal devices.\n11:45 a.m.— noon: Lunch. Pizza lunch will be provided\n12—1 p.m.: Cybersecurity and Human Trafficking: What You Need to Know. Two members of the California Cybersecurity Institute at Cal Poly will speak about online human trafficking and cyber strategies for combating it.\n\nThe event will include lunch\, a raffle\, and giveaways. Space is limited to 110 attendees. \nTo register for the event and for more details\, visit the event website. \n 
URL:https://link.ucop.edu/event/ucop-national-cyber-security-awareness-month-forum/
LOCATION:Franklin Lobby 1
CATEGORIES:Special presentation
ORGANIZER;CN="ITS":MAILTO:sean.villa-carlos@ucop.edu
GEO:37.8022945;-122.271448
END:VEVENT
END:VCALENDAR