BEGIN:VCALENDAR
VERSION:2.0
PRODID:-//Link: UCOP&#039;s e-newsletter - ECPv6.15.19//NONSGML v1.0//EN
CALSCALE:GREGORIAN
METHOD:PUBLISH
X-ORIGINAL-URL:https://link.ucop.edu
X-WR-CALDESC:Events for Link: UCOP&#039;s e-newsletter
REFRESH-INTERVAL;VALUE=DURATION:PT1H
X-Robots-Tag:noindex
X-PUBLISHED-TTL:PT1H
BEGIN:VTIMEZONE
TZID:America/Los_Angeles
BEGIN:STANDARD
TZOFFSETFROM:-0700
TZOFFSETTO:-0800
DTSTART:19701029T020000
RRULE:FREQ=YEARLY;BYMONTH=11;BYDAY=1SU
END:STANDARD
BEGIN:DAYLIGHT
DTSTART:19700402T020000
TZOFFSETFROM:-0800
TZOFFSETTO:-0700
RRULE:FREQ=YEARLY;BYMONTH=3;BYDAY=2SU
END:DAYLIGHT
END:VTIMEZONE
BEGIN:VTIMEZONE
TZID:America/Los_Angeles
BEGIN:DAYLIGHT
TZOFFSETFROM:-0800
TZOFFSETTO:-0700
TZNAME:PDT
DTSTART:20250309T100000
END:DAYLIGHT
BEGIN:STANDARD
TZOFFSETFROM:-0700
TZOFFSETTO:-0800
TZNAME:PST
DTSTART:20251102T090000
END:STANDARD
BEGIN:DAYLIGHT
TZOFFSETFROM:-0800
TZOFFSETTO:-0700
TZNAME:PDT
DTSTART:20260308T100000
END:DAYLIGHT
BEGIN:STANDARD
TZOFFSETFROM:-0700
TZOFFSETTO:-0800
TZNAME:PST
DTSTART:20261101T090000
END:STANDARD
BEGIN:DAYLIGHT
TZOFFSETFROM:-0800
TZOFFSETTO:-0700
TZNAME:PDT
DTSTART:20270314T100000
END:DAYLIGHT
BEGIN:STANDARD
TZOFFSETFROM:-0700
TZOFFSETTO:-0800
TZNAME:PST
DTSTART:20271107T090000
END:STANDARD
END:VTIMEZONE
BEGIN:VEVENT
DTSTART;TZID=America/Los_Angeles:20260319T153000
DTEND;TZID=America/Los_Angeles:20260319T163000
DTSTAMP:20260420T235218
CREATED:20260227T172203Z
LAST-MODIFIED:20260227T173248Z
UID:109478-1773934200-1773937800@link.ucop.edu
SUMMARY:UCOP Tableau User Group
DESCRIPTION:All UCOP staff are invited to join the next meeting of the UCOP Tableau User Group (UCOP TUG) on Thursday\, March 19\, 2026\, at 3:30 p.m. (PT). \nRyan Chan from UCOP’s Institutional Research and Academic Planning will share IRAP’s dashboard on UC Clinical Trials\, discussing the intention to create an engaging dashboard that communicates research impact\, as well as the solutions he implemented in response to technical challenges that arose during dashboard development. \nUCOP TUG facilitators Mahsa Ashabi and Gloria Issa will also host an informal discussion with attendees on how to best serve the UCOP TUG community in 2026. (This discussion was initially intended to take place during the January TUG meeting but was delayed.) Discussion topics include future meeting content and format\, the kinds of support TUG members need\, and any suggestions for the group. If you have any thoughts to share\, this is your chance! \nOnly the dashboard presentation portion of this session will be recorded. \nJoin us! \n\nWhat: UCOP Tableau User Group Meeting\nWhen: Thursday\, March 19\, 3:30 – 4:30 p.m. (PT)\nTo receive the Zoom information or to hear about future events\, please email gloria.issa@ucop.edu and mahsa.ashabi@ucop.edu\n\nAbout UCOP TUG \nUCOP TUG is a community of UCOP staff interested in building and sharing their Tableau skills. The group meets bi-monthly to discuss product updates\, share best practices\, present how-tos\, provide feedback on reports in development\, and much more. Users with all levels of experience are welcome. Sessions include resources for beginners as well as intermediate and advanced visualization techniques. \nTo volunteer to present a visualization project and/or make suggestions of content to cover in future sessions\, please fill out the presenter and suggestion form. \nFor more information\, contact gloria.issa@ucop.edu or mahsa.ashabi@ucop.edu.
URL:https://link.ucop.edu/event/ucop-tableau-user-group-2/
END:VEVENT
END:VCALENDAR