BEGIN:VCALENDAR
VERSION:2.0
PRODID:-//Link: UCOP&#039;s e-newsletter - ECPv6.15.19//NONSGML v1.0//EN
CALSCALE:GREGORIAN
METHOD:PUBLISH
X-ORIGINAL-URL:https://link.ucop.edu
X-WR-CALDESC:Events for Link: UCOP&#039;s e-newsletter
REFRESH-INTERVAL;VALUE=DURATION:PT1H
X-Robots-Tag:noindex
X-PUBLISHED-TTL:PT1H
BEGIN:VTIMEZONE
TZID:America/Los_Angeles
BEGIN:STANDARD
TZOFFSETFROM:-0700
TZOFFSETTO:-0800
DTSTART:19701029T020000
RRULE:FREQ=YEARLY;BYMONTH=11;BYDAY=1SU
END:STANDARD
BEGIN:DAYLIGHT
DTSTART:19700402T020000
TZOFFSETFROM:-0800
TZOFFSETTO:-0700
RRULE:FREQ=YEARLY;BYMONTH=3;BYDAY=2SU
END:DAYLIGHT
END:VTIMEZONE
BEGIN:VTIMEZONE
TZID:America/Los_Angeles
BEGIN:DAYLIGHT
TZOFFSETFROM:-0800
TZOFFSETTO:-0700
TZNAME:PDT
DTSTART:20240310T100000
END:DAYLIGHT
BEGIN:STANDARD
TZOFFSETFROM:-0700
TZOFFSETTO:-0800
TZNAME:PST
DTSTART:20241103T090000
END:STANDARD
BEGIN:DAYLIGHT
TZOFFSETFROM:-0800
TZOFFSETTO:-0700
TZNAME:PDT
DTSTART:20250309T100000
END:DAYLIGHT
BEGIN:STANDARD
TZOFFSETFROM:-0700
TZOFFSETTO:-0800
TZNAME:PST
DTSTART:20251102T090000
END:STANDARD
BEGIN:DAYLIGHT
TZOFFSETFROM:-0800
TZOFFSETTO:-0700
TZNAME:PDT
DTSTART:20260308T100000
END:DAYLIGHT
BEGIN:STANDARD
TZOFFSETFROM:-0700
TZOFFSETTO:-0800
TZNAME:PST
DTSTART:20261101T090000
END:STANDARD
END:VTIMEZONE
BEGIN:VEVENT
DTSTART;TZID=America/Los_Angeles:20250220T120000
DTEND;TZID=America/Los_Angeles:20250220T130000
DTSTAMP:20260422T063343
CREATED:20250216T194758Z
LAST-MODIFIED:20250216T194758Z
UID:103455-1740052800-1740056400@link.ucop.edu
SUMMARY:Upcoming INROADS Intern Manager Info Session
DESCRIPTION:We’re hosting an information session on the INROADS Internship Program to provide more details about this initiative. While the Talent Acquisition (TA) team briefly introduced the program during the Intern Manager Info session\, INROADS representatives will join us to offer additional insight and information regarding this year’s programming. \nThe topics of discussion will include: \n\nOverview of INROADS\nCommitment expectations\nAdditional programming provided to the students is included in the INROADS placement fee\nHow to participate & hiring timeline\nQ&A session\n\nJoin Zoom Meeting\nhttps://UCOP.zoom.us/j/94417495672?pwd=xaAxDhZ9Ts6ed3uTZMJiNOuDG9szBd.1\nMeeting ID: 944 1749 5672\nPasscode: 293437 \nWe will record the information session for those who cannot attend. If you have any questions and cannot be present\, please email your inquiries\, and we will ask them on your behalf during the session.
URL:https://link.ucop.edu/event/upcoming-inroads-intern-manager-info-session/
END:VEVENT
END:VCALENDAR