BEGIN:VCALENDAR
VERSION:2.0
PRODID:-//Link: UCOP&#039;s e-newsletter - ECPv6.15.19//NONSGML v1.0//EN
CALSCALE:GREGORIAN
METHOD:PUBLISH
X-ORIGINAL-URL:https://link.ucop.edu
X-WR-CALDESC:Events for Link: UCOP&#039;s e-newsletter
REFRESH-INTERVAL;VALUE=DURATION:PT1H
X-Robots-Tag:noindex
X-PUBLISHED-TTL:PT1H
BEGIN:VTIMEZONE
TZID:America/Los_Angeles
BEGIN:STANDARD
TZOFFSETFROM:-0700
TZOFFSETTO:-0800
DTSTART:19701029T020000
RRULE:FREQ=YEARLY;BYMONTH=11;BYDAY=1SU
END:STANDARD
BEGIN:DAYLIGHT
DTSTART:19700402T020000
TZOFFSETFROM:-0800
TZOFFSETTO:-0700
RRULE:FREQ=YEARLY;BYMONTH=3;BYDAY=2SU
END:DAYLIGHT
END:VTIMEZONE
BEGIN:VTIMEZONE
TZID:America/Los_Angeles
BEGIN:DAYLIGHT
TZOFFSETFROM:-0800
TZOFFSETTO:-0700
TZNAME:PDT
DTSTART:20190310T100000
END:DAYLIGHT
BEGIN:STANDARD
TZOFFSETFROM:-0700
TZOFFSETTO:-0800
TZNAME:PST
DTSTART:20191103T090000
END:STANDARD
BEGIN:DAYLIGHT
TZOFFSETFROM:-0800
TZOFFSETTO:-0700
TZNAME:PDT
DTSTART:20200308T100000
END:DAYLIGHT
BEGIN:STANDARD
TZOFFSETFROM:-0700
TZOFFSETTO:-0800
TZNAME:PST
DTSTART:20201101T090000
END:STANDARD
BEGIN:DAYLIGHT
TZOFFSETFROM:-0800
TZOFFSETTO:-0700
TZNAME:PDT
DTSTART:20210314T100000
END:DAYLIGHT
BEGIN:STANDARD
TZOFFSETFROM:-0700
TZOFFSETTO:-0800
TZNAME:PST
DTSTART:20211107T090000
END:STANDARD
END:VTIMEZONE
BEGIN:VEVENT
DTSTART;TZID=America/Los_Angeles:20200415T120000
DTEND;TZID=America/Los_Angeles:20200415T123000
DTSTAMP:20260421T090558
CREATED:20200406T163956Z
LAST-MODIFIED:20200406T163956Z
UID:74547-1586952000-1586953800@link.ucop.edu
SUMMARY:Your job search during COVID-19
DESCRIPTION:Has the global health crisis impacted your job search or employment status?  Join us for a 30-minute\, high impact livestream on April 15. UC Vice Provost Yvette Gullatt will interview career expert and UC Santa Barbara alumna\, Dana Manciagli. Dana will offer concrete tips to help you maximize your job search\, identify job leads and remain positive during times of change. Tune in live on LinkedIn or Facebook or subscribe to the Alumni Career Network to receive a link to the recording. \nTopics/Questions to be addressed:  \n\nHow COVID-19 has impacted the employment market and job search\nThree things you can do to stand out and be more likely to get an interview\nStrategies for remaining positive during challenging times\n\n For questions\, please contact Katrina.Ward@ucop.edu.
URL:https://link.ucop.edu/event/your-job-search-during-covid-19/
ORGANIZER;CN="Katrina Ward":MAILTO:Katrina.Ward@ucop.edu
END:VEVENT
END:VCALENDAR