BEGIN:VCALENDAR
VERSION:2.0
PRODID:-//Link: UCOP&#039;s e-newsletter - ECPv6.15.19//NONSGML v1.0//EN
CALSCALE:GREGORIAN
METHOD:PUBLISH
X-ORIGINAL-URL:https://link.ucop.edu
X-WR-CALDESC:Events for Link: UCOP&#039;s e-newsletter
REFRESH-INTERVAL;VALUE=DURATION:PT1H
X-Robots-Tag:noindex
X-PUBLISHED-TTL:PT1H
BEGIN:VTIMEZONE
TZID:America/Los_Angeles
BEGIN:STANDARD
TZOFFSETFROM:-0700
TZOFFSETTO:-0800
DTSTART:19701029T020000
RRULE:FREQ=YEARLY;BYMONTH=11;BYDAY=1SU
END:STANDARD
BEGIN:DAYLIGHT
DTSTART:19700402T020000
TZOFFSETFROM:-0800
TZOFFSETTO:-0700
RRULE:FREQ=YEARLY;BYMONTH=3;BYDAY=2SU
END:DAYLIGHT
END:VTIMEZONE
BEGIN:VTIMEZONE
TZID:America/Los_Angeles
BEGIN:DAYLIGHT
TZOFFSETFROM:-0800
TZOFFSETTO:-0700
TZNAME:PDT
DTSTART:20180311T100000
END:DAYLIGHT
BEGIN:STANDARD
TZOFFSETFROM:-0700
TZOFFSETTO:-0800
TZNAME:PST
DTSTART:20181104T090000
END:STANDARD
BEGIN:DAYLIGHT
TZOFFSETFROM:-0800
TZOFFSETTO:-0700
TZNAME:PDT
DTSTART:20190310T100000
END:DAYLIGHT
BEGIN:STANDARD
TZOFFSETFROM:-0700
TZOFFSETTO:-0800
TZNAME:PST
DTSTART:20191103T090000
END:STANDARD
BEGIN:DAYLIGHT
TZOFFSETFROM:-0800
TZOFFSETTO:-0700
TZNAME:PDT
DTSTART:20200308T100000
END:DAYLIGHT
BEGIN:STANDARD
TZOFFSETFROM:-0700
TZOFFSETTO:-0800
TZNAME:PST
DTSTART:20201101T090000
END:STANDARD
END:VTIMEZONE
BEGIN:VEVENT
DTSTART;TZID=America/Los_Angeles:20190430T120000
DTEND;TZID=America/Los_Angeles:20190430T130000
DTSTAMP:20260420T201217
CREATED:20190408T171401Z
LAST-MODIFIED:20190410T164634Z
UID:10007242-1556625600-1556629200@link.ucop.edu
SUMMARY:PACSW Talk on Alcohol and Addiction
DESCRIPTION:Join Dr. Frederic Hopf\, PhD\, Associate Professor\, Neurology UCSF Alcohol and Addiction Research Group\, as he discusses the pros and cons of moderate drinking as well as the psychological mechanisms behind alcoholism. After this talk\, you will have a better understanding of the science behind addiction and safe levels of drinking according to the latest research. \nVia Zoom: (408) 638-0968 (*4 at UCOP); (510) 987-0844 \nQuestions? Alina Tejera\, Alina.Tejera@UCOP.edu
URL:https://link.ucop.edu/event/pacsw-talk-on-alcohol-and-addiction/
LOCATION:Franklin 5320
CATEGORIES:Brown bag,Employee Resource + Affinity Groups
ORGANIZER;CN="President's Advisory Committee on the Status of Women":MAILTO:Alisa.Hsiu@ucop.edu
END:VEVENT
END:VCALENDAR