BEGIN:VCALENDAR
VERSION:2.0
PRODID:-//Link: UCOP&#039;s e-newsletter - ECPv6.15.19//NONSGML v1.0//EN
CALSCALE:GREGORIAN
METHOD:PUBLISH
X-ORIGINAL-URL:https://link.ucop.edu
X-WR-CALDESC:Events for Link: UCOP&#039;s e-newsletter
REFRESH-INTERVAL;VALUE=DURATION:PT1H
X-Robots-Tag:noindex
X-PUBLISHED-TTL:PT1H
BEGIN:VTIMEZONE
TZID:America/Los_Angeles
BEGIN:STANDARD
TZOFFSETFROM:-0700
TZOFFSETTO:-0800
DTSTART:19701029T020000
RRULE:FREQ=YEARLY;BYMONTH=11;BYDAY=1SU
END:STANDARD
BEGIN:DAYLIGHT
DTSTART:19700402T020000
TZOFFSETFROM:-0800
TZOFFSETTO:-0700
RRULE:FREQ=YEARLY;BYMONTH=3;BYDAY=2SU
END:DAYLIGHT
END:VTIMEZONE
BEGIN:VTIMEZONE
TZID:America/Los_Angeles
BEGIN:DAYLIGHT
TZOFFSETFROM:-0800
TZOFFSETTO:-0700
TZNAME:PDT
DTSTART:20210314T100000
END:DAYLIGHT
BEGIN:STANDARD
TZOFFSETFROM:-0700
TZOFFSETTO:-0800
TZNAME:PST
DTSTART:20211107T090000
END:STANDARD
BEGIN:DAYLIGHT
TZOFFSETFROM:-0800
TZOFFSETTO:-0700
TZNAME:PDT
DTSTART:20220313T100000
END:DAYLIGHT
BEGIN:STANDARD
TZOFFSETFROM:-0700
TZOFFSETTO:-0800
TZNAME:PST
DTSTART:20221106T090000
END:STANDARD
BEGIN:DAYLIGHT
TZOFFSETFROM:-0800
TZOFFSETTO:-0700
TZNAME:PDT
DTSTART:20230312T100000
END:DAYLIGHT
BEGIN:STANDARD
TZOFFSETFROM:-0700
TZOFFSETTO:-0800
TZNAME:PST
DTSTART:20231105T090000
END:STANDARD
END:VTIMEZONE
BEGIN:VEVENT
DTSTART;TZID=America/Los_Angeles:20220112T110000
DTEND;TZID=America/Los_Angeles:20220112T120000
DTSTAMP:20260422T204637
CREATED:20190130T181005Z
LAST-MODIFIED:20220111T015638Z
UID:10007133-1641985200-1641988800@link.ucop.edu
SUMMARY:OPSA Features Calvin Turner
DESCRIPTION:All staff members are welcome to attend the OP Staff Assembly Steering Committee meetings on the second Wednesday of each month. \nThis month’s meeting will feature UCPath Executive Director Calvin Turner. \nZoom info\n\nWeb link: https://UCOP.zoom.us/j/94273171531?pwd=bVNmU2tUdjUwT2NiT1p3TjQrQ2JlUT09\nMeeting ID: 942 7317 1531\nPasscode: 374177\n\nOP Staff Assembly is an all-volunteer staff organization dedicated to promoting the interests and welfare of all career employees. It is affiliated with the Council of UC Staff Assemblies (CUCSA)\, the systemwide staff group with representatives from all UC campuses and Lawrence Berkeley National Laboratory as well as OP.
URL:https://link.ucop.edu/event/op-staff-assembly-monthly-meeting-4-2021-11-10-2021-12-08-2022-01-12/
LOCATION:Online
CATEGORIES:Meeting,Presentation by leadership
END:VEVENT
END:VCALENDAR