BEGIN:VCALENDAR
VERSION:2.0
PRODID:-//Link: UCOP&#039;s e-newsletter - ECPv6.15.19//NONSGML v1.0//EN
CALSCALE:GREGORIAN
METHOD:PUBLISH
X-ORIGINAL-URL:https://link.ucop.edu
X-WR-CALDESC:Events for Link: UCOP&#039;s e-newsletter
REFRESH-INTERVAL;VALUE=DURATION:PT1H
X-Robots-Tag:noindex
X-PUBLISHED-TTL:PT1H
BEGIN:VTIMEZONE
TZID:America/Los_Angeles
BEGIN:STANDARD
TZOFFSETFROM:-0700
TZOFFSETTO:-0800
DTSTART:19701029T020000
RRULE:FREQ=YEARLY;BYMONTH=11;BYDAY=1SU
END:STANDARD
BEGIN:DAYLIGHT
DTSTART:19700402T020000
TZOFFSETFROM:-0800
TZOFFSETTO:-0700
RRULE:FREQ=YEARLY;BYMONTH=3;BYDAY=2SU
END:DAYLIGHT
END:VTIMEZONE
BEGIN:VTIMEZONE
TZID:America/Los_Angeles
BEGIN:DAYLIGHT
TZOFFSETFROM:-0800
TZOFFSETTO:-0700
TZNAME:PDT
DTSTART:20170312T100000
END:DAYLIGHT
BEGIN:STANDARD
TZOFFSETFROM:-0700
TZOFFSETTO:-0800
TZNAME:PST
DTSTART:20171105T090000
END:STANDARD
BEGIN:DAYLIGHT
TZOFFSETFROM:-0800
TZOFFSETTO:-0700
TZNAME:PDT
DTSTART:20180311T100000
END:DAYLIGHT
BEGIN:STANDARD
TZOFFSETFROM:-0700
TZOFFSETTO:-0800
TZNAME:PST
DTSTART:20181104T090000
END:STANDARD
BEGIN:DAYLIGHT
TZOFFSETFROM:-0800
TZOFFSETTO:-0700
TZNAME:PDT
DTSTART:20190310T100000
END:DAYLIGHT
BEGIN:STANDARD
TZOFFSETFROM:-0700
TZOFFSETTO:-0800
TZNAME:PST
DTSTART:20191103T090000
END:STANDARD
BEGIN:DAYLIGHT
TZOFFSETFROM:-0800
TZOFFSETTO:-0700
TZNAME:PDT
DTSTART:20200308T100000
END:DAYLIGHT
BEGIN:STANDARD
TZOFFSETFROM:-0700
TZOFFSETTO:-0800
TZNAME:PST
DTSTART:20201101T090000
END:STANDARD
END:VTIMEZONE
BEGIN:VEVENT
DTSTART;TZID=America/Los_Angeles:20190124T110000
DTEND;TZID=America/Los_Angeles:20190124T120000
DTSTAMP:20260421T140754
CREATED:20181207T231745Z
LAST-MODIFIED:20190116T234950Z
UID:10007085-1548327600-1548331200@link.ucop.edu
SUMMARY:Stigma-Free UC webinar: Finding Your Words
DESCRIPTION:As part of the Stigma-Free UC series\, Yener Balan\, MD\, executive director of Behavioral Health for Kaiser Permanente\, Northern California\, will lead this webinar discussing mental health stigma reduction.\n\nAttend via Zoom: https://UCOP.zoom.us/j/5109879443\nDial in by phone: 1-669-900-6833; meeting ID 510-987-9443#
URL:https://link.ucop.edu/event/stigma-free-uc-webinar-finding-your-words/
CATEGORIES:Learning & Development
END:VEVENT
BEGIN:VEVENT
DTSTART;TZID=America/Los_Angeles:20190123T120000
DTEND;TZID=America/Los_Angeles:20190123T130000
DTSTAMP:20260421T140754
CREATED:20190109T221626Z
LAST-MODIFIED:20190115T220332Z
UID:10007094-1548244800-1548248400@link.ucop.edu
SUMMARY:UC Undergraduate Admissions Application Selection
DESCRIPTION:Join Evera Spears\, Associate Director\, Advocacy and Partnerships Undergraduate Admissions\, to discuss how UC undergraduate admissions selects freshman and transfer students from among thousands of received applications. \nThis presentation is part of the college-bound information series sponsored by OP Staff Assembly. \nCan’t come in person? Join in via Zoom: \nDial-in: 1 408 638 0968 \nMeeting ID: 510 987 9524 \nhttps://UCOP.zoom.us/j/5109879524
URL:https://link.ucop.edu/event/uc-undergraduate-admissions-application-selection/
LOCATION:Franklin 11326
CATEGORIES:Special presentation
END:VEVENT
BEGIN:VEVENT
DTSTART;TZID=America/Los_Angeles:20190116T120000
DTEND;TZID=America/Los_Angeles:20190116T130000
DTSTAMP:20260421T140754
CREATED:20190105T003942Z
LAST-MODIFIED:20190105T003942Z
UID:10007088-1547640000-1547643600@link.ucop.edu
SUMMARY:Summer Internship 2019 Manager Kick-off Brown Bag
DESCRIPTION:Bring your own lunch!
URL:https://link.ucop.edu/event/summer-internship-2019-manager-kick-off-brown-bag-2/
LOCATION:Franklin 9204
CATEGORIES:Brown bag
ORGANIZER;CN="ITS":MAILTO:sean.villa-carlos@ucop.edu
END:VEVENT
BEGIN:VEVENT
DTSTART;TZID=America/Los_Angeles:20190115T140000
DTEND;TZID=America/Los_Angeles:20190115T150000
DTSTAMP:20260421T140754
CREATED:20190110T000007Z
LAST-MODIFIED:20190110T000007Z
UID:10007102-1547560800-1547564400@link.ucop.edu
SUMMARY:The UC Retirement Choice Program
DESCRIPTION:How the Retirement Choice program works\, including details on the Pension and Savings Choice options\, what to consider\, and instructions on how to make your choice.
URL:https://link.ucop.edu/event/the-uc-retirement-choice-program-22/
LOCATION:Franklin 9115
CATEGORIES:Financial workshop
END:VEVENT
BEGIN:VEVENT
DTSTART;TZID=America/Los_Angeles:20190115T130000
DTEND;TZID=America/Los_Angeles:20190115T140000
DTSTAMP:20260421T140754
CREATED:20190109T235914Z
LAST-MODIFIED:20190109T235914Z
UID:10007100-1547557200-1547560800@link.ucop.edu
SUMMARY:Fundamentals of Retirement Income Planning
DESCRIPTION:Understanding when you may be able to retire\, ways to help make your savings may last\, and retirement challenges you may face.
URL:https://link.ucop.edu/event/fundamentals-of-retirement-income-planning-12/
LOCATION:Franklin 9115
CATEGORIES:Financial workshop
END:VEVENT
BEGIN:VEVENT
DTSTART;TZID=America/Los_Angeles:20190115T120000
DTEND;TZID=America/Los_Angeles:20190115T130000
DTSTAMP:20260421T140754
CREATED:20190111T190247Z
LAST-MODIFIED:20190111T191359Z
UID:10007111-1547553600-1547557200@link.ucop.edu
SUMMARY:Navigating the job search: Tips from recruiters and hiring managers
DESCRIPTION:This event is part of the Virtual Career Series 2019 to provide UC alumni and employees with the insights\, information\, and connections to launch\, grow and expand your career opportunities. \nRegister online at: http://tiny.cc/UCVCSJan \nQuestions? Contact Katrina Ward at Katrina.Ward@UCOP.edu
URL:https://link.ucop.edu/event/navigating-the-job-search-tips-from-recruiters-and-hiring-managers/
CATEGORIES:Learning & Development
END:VEVENT
BEGIN:VEVENT
DTSTART;TZID=America/Los_Angeles:20190115T120000
DTEND;TZID=America/Los_Angeles:20190115T130000
DTSTAMP:20260421T140754
CREATED:20190109T235814Z
LAST-MODIFIED:20190109T235814Z
UID:10007098-1547553600-1547557200@link.ucop.edu
SUMMARY:Make the Most of the UC Retirement Savings Program
DESCRIPTION:Determine how much savings you will need to retire the way you want\, understand how much you can save through the UC Retirement Savings Program\, discover additional ways to save\, and learn strategies to help you protect and grow your savings.
URL:https://link.ucop.edu/event/make-the-most-of-the-uc-retirement-savings-program-4/
LOCATION:Franklin 9115
CATEGORIES:Financial workshop
END:VEVENT
BEGIN:VEVENT
DTSTART;TZID=America/Los_Angeles:20190115T101500
DTEND;TZID=America/Los_Angeles:20190115T110000
DTSTAMP:20260421T140754
CREATED:20190109T235629Z
LAST-MODIFIED:20190109T235629Z
UID:10007096-1547547300-1547550000@link.ucop.edu
SUMMARY:Create a Budget\, Ditch Your Debt\, and Start Building for the Future
DESCRIPTION:Tips and tools to help you get a handle on spending and borrowing\, including how to develop a smart budget and ways to manage debt.
URL:https://link.ucop.edu/event/create-a-budget-ditch-your-debt-and-start-building-for-the-future-11/
LOCATION:Kaiser 505
CATEGORIES:Financial workshop
END:VEVENT
BEGIN:VEVENT
DTSTART;TZID=America/Los_Angeles:20190110T113000
DTEND;TZID=America/Los_Angeles:20190110T121500
DTSTAMP:20260421T140754
CREATED:20190105T003650Z
LAST-MODIFIED:20190105T003650Z
UID:10007086-1547119800-1547122500@link.ucop.edu
SUMMARY:WW Wellness Workshops Kick-Off Event
DESCRIPTION:WW Wellness workshops will kickoff at UC next Thursday\, Jan. 10\, 11:30 a.m. – 12:15 p.m in room 12311. WW Wellness workshop meetings will convene every Thursday at this time. Employees must be present to complete their registration\, conduct initial wellness check-in\, and provide payment. \nYou can also show up and join the same day\, paying with cash\, check or major charge. \nQuestions? Contact Claire Holmes at Claire.Holmes@UCOP.edu
URL:https://link.ucop.edu/event/ww-wellness-workshops-kick-off-event/
LOCATION:Franklin 12311
CATEGORIES:Special event
END:VEVENT
BEGIN:VEVENT
DTSTART;TZID=America/Los_Angeles:20181220T133000
DTEND;TZID=America/Los_Angeles:20181220T153000
DTSTAMP:20260421T140754
CREATED:20181130T213905Z
LAST-MODIFIED:20181130T215056Z
UID:10006597-1545312600-1545319800@link.ucop.edu
SUMMARY:Safety and Targeted Violence in the Workplace
DESCRIPTION:UC Police Officer Wade MacAdam will discuss how to stay safe in the workplace in the event of targeted violence\, including an active shooter. \nQuestions about this event? Contact Roman.Starno@ucop.edu.
URL:https://link.ucop.edu/event/targeted-violence-and-safety-in-the-workplace/
LOCATION:Franklin Lobby 1
CATEGORIES:Special presentation,Training
END:VEVENT
BEGIN:VEVENT
DTSTART;VALUE=DATE:20181218
DTEND;VALUE=DATE:20181219
DTSTAMP:20260421T140754
CREATED:20181114T180718Z
LAST-MODIFIED:20181114T180718Z
UID:10006589-1545091200-1545177599@link.ucop.edu
SUMMARY:IT Accessibility - Creating PDFs (via ZOOM)
DESCRIPTION:You must register for this course. To register\, log in to the UC Learning Center\, click Find a Course. \n\nChoose a session if course is currently scheduled\nExpress interest if course is not on schedule\n\nPlease cancel at least 72 hours in advance.
URL:https://link.ucop.edu/event/it-accessibility-creating-pdfs-via-zoom/
CATEGORIES:Learning & Development
END:VEVENT
BEGIN:VEVENT
DTSTART;VALUE=DATE:20181214
DTEND;VALUE=DATE:20181215
DTSTAMP:20260421T140754
CREATED:20181114T181248Z
LAST-MODIFIED:20181114T181248Z
UID:10006591-1544745600-1544831999@link.ucop.edu
SUMMARY:Tableau Introduction
DESCRIPTION:You must register for this course. To register\, log in to the UC Learning Center\, click Find a Course. \n\nChoose a session if course is currently scheduled\nExpress interest if course is not on schedule\n\nPlease cancel at least 72 hours in advance.
URL:https://link.ucop.edu/event/tableau-introduction/
CATEGORIES:Learning & Development
END:VEVENT
BEGIN:VEVENT
DTSTART;VALUE=DATE:20181214
DTEND;VALUE=DATE:20181215
DTSTAMP:20260421T140754
CREATED:20181114T180605Z
LAST-MODIFIED:20181114T180851Z
UID:10006587-1544745600-1544831999@link.ucop.edu
SUMMARY:Tableau Prep
DESCRIPTION:You must register for this course. To register\, log in to the UC Learning Center\, click Find a Course. \n\nChoose a session if course is currently scheduled\nExpress interest if course is not on schedule\n\nPlease cancel at least 72 hours in advance.
URL:https://link.ucop.edu/event/tableau-prep/
CATEGORIES:Learning & Development
END:VEVENT
BEGIN:VEVENT
DTSTART;TZID=America/Los_Angeles:20181213T143000
DTEND;TZID=America/Los_Angeles:20181213T160000
DTSTAMP:20260421T140754
CREATED:20181107T171543Z
LAST-MODIFIED:20181107T171543Z
UID:10007072-1544711400-1544716800@link.ucop.edu
SUMMARY:End-of-Year Celebration at UCOP Oakland
DESCRIPTION:Join your co-workers for a festive celebration funded by donations from OP managers. \nQuestions? Contact Sutton.Bennett@ucop.edu. \nNote: UCPath Center EOY celebration details to be announced soon.
URL:https://link.ucop.edu/event/end-of-year-celebration-at-ucop-oakland/
LOCATION:Franklin building
CATEGORIES:Special event
END:VEVENT
BEGIN:VEVENT
DTSTART;VALUE=DATE:20181213
DTEND;VALUE=DATE:20181214
DTSTAMP:20260421T140754
CREATED:20181203T174138Z
LAST-MODIFIED:20181203T175008Z
UID:10006601-1544659200-1544745599@link.ucop.edu
SUMMARY:Calling all amateur bakers\, chefs and foodies at UCOP:  It’s time for a throwdown!
DESCRIPTION:During the 2018 End-of-Year Celebration\, Oakland-based UCOP staff with mad kitchen skills can compete in a cooking contest by entering their masterpiece in one of the following categories: \n\nCookies (bar or drop)\nCakes or quick breads\nPies\nGluten-free sweets\nVegan (savory or sweet)\nSavory sides or appetizers\nSlow-cooker or one-pot dishes\n\nSign up to compete by Friday\, Dec. 7 at 5 p.m. Winners will receive various prizes. \nQuestions about this event? Contact endofyear@ucop.edu
URL:https://link.ucop.edu/event/calling-all-amateur-bakers-chefs-and-foodies-at-ucop-its-time-for-a-throwdown/
LOCATION:Franklin building
CATEGORIES:Special event
END:VEVENT
BEGIN:VEVENT
DTSTART;TZID=America/Los_Angeles:20181212T120000
DTEND;TZID=America/Los_Angeles:20181212T130000
DTSTAMP:20260421T140754
CREATED:20181022T164005Z
LAST-MODIFIED:20181022T164005Z
UID:10007040-1544616000-1544619600@link.ucop.edu
SUMMARY:1100 Broadway: Brown Bag Informational Meeting
DESCRIPTION:Learn more about the development of our new campus and the construction of 1100 Broadway.
URL:https://link.ucop.edu/event/1100-broadway-brown-bag-informational-meeting-4/
LOCATION:Franklin 11326
CATEGORIES:Brown bag
END:VEVENT
BEGIN:VEVENT
DTSTART;TZID=America/Los_Angeles:20181212T113000
DTEND;TZID=America/Los_Angeles:20181212T130000
DTSTAMP:20260421T140754
CREATED:20181130T214220Z
LAST-MODIFIED:20181130T214220Z
UID:10006600-1544614200-1544619600@link.ucop.edu
SUMMARY:BSFO Holiday Potluck
DESCRIPTION:Join the members of the Black Staff and Faculty Organization affinity group for this festive holiday event featuring great food\, wonderful conversation and fantastic music. Sign up to bring your favorite soul food dish or other needed items (plates\, cups\, etc.) at https://goo.gl/DA9e1p. \nQuestions about this event? Contact Ghanya.Thomas@ucop.edu or Latscha.MagnessCotton@ucop.edu.
URL:https://link.ucop.edu/event/bsfo-holiday-potluck/
LOCATION:Franklin 9204
CATEGORIES:Employee Resource + Affinity Groups
ORGANIZER;CN="Black Staff & Faculty Organization":MAILTO:ghanya.thomas@ucop.edu
END:VEVENT
BEGIN:VEVENT
DTSTART;TZID=America/Los_Angeles:20181211T140000
DTEND;TZID=America/Los_Angeles:20181211T150000
DTSTAMP:20260421T140754
CREATED:20181018T214511Z
LAST-MODIFIED:20181018T214511Z
UID:10007026-1544536800-1544540400@link.ucop.edu
SUMMARY:Basics of When and How to Claim Social Security
DESCRIPTION:Understand how Social Security works and what you should consider before you claim your benefit. \nPre-registration required. Register by visiting the Fidelity website at getguidance.fidelity.com/universityofcalifornia or by calling 800-642-7131.
URL:https://link.ucop.edu/event/basics-of-when-and-how-to-claim-social-security-3/
LOCATION:Franklin 9115
CATEGORIES:Financial workshop
END:VEVENT
BEGIN:VEVENT
DTSTART;TZID=America/Los_Angeles:20181211T130000
DTEND;TZID=America/Los_Angeles:20181211T140000
DTSTAMP:20260421T140754
CREATED:20181018T214541Z
LAST-MODIFIED:20181018T214541Z
UID:10007027-1544533200-1544536800@link.ucop.edu
SUMMARY:Strategies for Drawing Income in Retirement
DESCRIPTION:How to best plan for the retirement you envision by building a retirement income plan\, including strategies for drawing income in retirement from different sources. \nPre-registration required. Register by visiting the Fidelity website at getguidance.fidelity.com/universityofcalifornia or by calling 800-642-7131.
URL:https://link.ucop.edu/event/strategies-for-drawing-income-in-retirement-2/
LOCATION:Franklin 9115
CATEGORIES:Financial workshop
END:VEVENT
BEGIN:VEVENT
DTSTART;TZID=America/Los_Angeles:20181211T120000
DTEND;TZID=America/Los_Angeles:20181211T130000
DTSTAMP:20260421T140754
CREATED:20181018T214557Z
LAST-MODIFIED:20181018T214557Z
UID:10007028-1544529600-1544533200@link.ucop.edu
SUMMARY:Identify and Prioritize Your Savings Goals
DESCRIPTION:How to balance saving for retirement with other savings goals\, such as paying off student loans\, home purchase or college savings. \nPre-registration required. Register by visiting the Fidelity website at getguidance.fidelity.com/universityofcalifornia or by calling 800-642-7131.
URL:https://link.ucop.edu/event/identify-and-prioritize-your-savings-goals-4/
LOCATION:Franklin 9115
CATEGORIES:Financial workshop
END:VEVENT
BEGIN:VEVENT
DTSTART;TZID=America/Los_Angeles:20181211T100000
DTEND;TZID=America/Los_Angeles:20181211T110000
DTSTAMP:20260421T140754
CREATED:20181018T214615Z
LAST-MODIFIED:20181018T214615Z
UID:10007029-1544522400-1544526000@link.ucop.edu
SUMMARY:Guide to Investing in the UC Retirement Savings Program
DESCRIPTION:How to build an investment strategy based on risk tolerance\, investing horizon and involvement level\, and the investment options available through UC’s 403(b)\, 457(b) and DC plans. \nPre-registration required. Register by visiting the Fidelity website at getguidance.fidelity.com/universityofcalifornia or by calling 800-642-7131.
URL:https://link.ucop.edu/event/guide-to-investing-in-the-uc-retirement-savings-program-4/
LOCATION:Kaiser 505
CATEGORIES:Financial workshop
END:VEVENT
BEGIN:VEVENT
DTSTART;TZID=America/Los_Angeles:20181211T090000
DTEND;TZID=America/Los_Angeles:20181211T100000
DTSTAMP:20260421T140754
CREATED:20181018T214631Z
LAST-MODIFIED:20181018T214631Z
UID:10007030-1544518800-1544522400@link.ucop.edu
SUMMARY:The UC Retirement Choice Program
DESCRIPTION:How the Retirement Choice program works\, including details on the Pension and Savings Choice options\, what to consider\, and instructions on how to make your choice. \nPre-registration required. Register by visiting the Fidelity website at getguidance.fidelity.com/universityofcalifornia or by calling 800-642-7131.
URL:https://link.ucop.edu/event/the-uc-retirement-choice-program-19/
LOCATION:Kaiser 505
CATEGORIES:Financial workshop
END:VEVENT
BEGIN:VEVENT
DTSTART;VALUE=DATE:20181211
DTEND;VALUE=DATE:20181212
DTSTAMP:20260421T140754
CREATED:20181114T180425Z
LAST-MODIFIED:20181114T180425Z
UID:10006585-1544486400-1544572799@link.ucop.edu
SUMMARY:Cascade Fundamentals
DESCRIPTION:You must register for this course. To register\, log in to the UC Learning Center\, click Find a Course. \n\nChoose a session if course is currently scheduled\nExpress interest if course is not on schedule\n\nPlease cancel at least 72 hours in advance.
URL:https://link.ucop.edu/event/cascade-fundamentals-7/
CATEGORIES:Learning & Development
END:VEVENT
BEGIN:VEVENT
DTSTART;TZID=America/Los_Angeles:20181210T120000
DTEND;TZID=America/Los_Angeles:20181210T130000
DTSTAMP:20260421T140754
CREATED:20181203T174907Z
LAST-MODIFIED:20181203T174907Z
UID:10006603-1544443200-1544446800@link.ucop.edu
SUMMARY:Becoming a mentor with the East Bay College Fund: Information session
DESCRIPTION:Learn about the East Bay College Fund\, which provides need-based college scholarships and mentoring to help qualified Oakland students prepare for\, attend and succeed at UC campuses. \nQuestions about this event? Please contact Deanna Berg at Deanna.Berg@ucop.edu
URL:https://link.ucop.edu/event/becoming-a-mentor-with-the-east-bay-college-fund-information-session/
LOCATION:Franklin 9204
CATEGORIES:Brown bag
END:VEVENT
BEGIN:VEVENT
DTSTART;VALUE=DATE:20181206
DTEND;VALUE=DATE:20181207
DTSTAMP:20260421T140754
CREATED:20181114T180317Z
LAST-MODIFIED:20181114T180317Z
UID:10007083-1544054400-1544140799@link.ucop.edu
SUMMARY:Influencing Without Authority
DESCRIPTION:You must register for this course. To register\, log in to the UC Learning Center\, click Find a Course. \n\nChoose a session if course is currently scheduled\nExpress interest if course is not on schedule\n\nPlease cancel at least 72 hours in advance.
URL:https://link.ucop.edu/event/influencing-without-authority-5/
CATEGORIES:Learning & Development
END:VEVENT
BEGIN:VEVENT
DTSTART;TZID=America/Los_Angeles:20181205T100000
DTEND;TZID=America/Los_Angeles:20181205T140000
DTSTAMP:20260421T140754
CREATED:20181203T175415Z
LAST-MODIFIED:20181203T175415Z
UID:10007084-1544004000-1544018400@link.ucop.edu
SUMMARY:UCOP Craft Fair
DESCRIPTION:An annual tradition\, this year’s Craft Fair will feature several new sellers as well as many returning favorites. All vendors and crafters are UCOP employees or their family and friends\, os this is the ultimate ‘shop local’ event. \nQuestions about this event? Contact Carol.Lake@ucop.edu or Rebecca.Landes@ucop.edu
URL:https://link.ucop.edu/event/ucop-craft-fair/
LOCATION:Franklin lobby
CATEGORIES:Special event
END:VEVENT
BEGIN:VEVENT
DTSTART;TZID=America/Los_Angeles:20181205T100000
DTEND;TZID=America/Los_Angeles:20181205T140000
DTSTAMP:20260421T140754
CREATED:20180910T171326Z
LAST-MODIFIED:20180910T171326Z
UID:10007003-1544004000-1544018400@link.ucop.edu
SUMMARY:UCOP Winter Crafts Fair
DESCRIPTION:The popular annual UCOP Winter Crafts Fair returns with hand-crafted items created by your UCOP colleagues! The four-hour fair will be held in the Franklin lobby. \nStay tuned for more details!
URL:https://link.ucop.edu/event/ucop-winter-crafts-fair/
LOCATION:Franklin lobby
CATEGORIES:Employee Resource + Affinity Groups,Special event
END:VEVENT
BEGIN:VEVENT
DTSTART;VALUE=DATE:20181205
DTEND;VALUE=DATE:20181206
DTSTAMP:20260421T140754
CREATED:20181114T180205Z
LAST-MODIFIED:20181114T180205Z
UID:10007082-1543968000-1544054399@link.ucop.edu
SUMMARY:Excel Pivot Table
DESCRIPTION:You must register for this course. To register\, log in to the UC Learning Center\, click Find a Course. \n\nChoose a session if course is currently scheduled\nExpress interest if course is not on schedule\n\nPlease cancel at least 72 hours in advance.
URL:https://link.ucop.edu/event/excel-pivot-table/
CATEGORIES:Learning & Development
END:VEVENT
BEGIN:VEVENT
DTSTART;TZID=America/Los_Angeles:20181204T110000
DTEND;TZID=America/Los_Angeles:20181204T120000
DTSTAMP:20260421T140754
CREATED:20181114T182043Z
LAST-MODIFIED:20181120T205832Z
UID:10006593-1543921200-1543924800@link.ucop.edu
SUMMARY:Stigma-free UC presents: Suicide - Understanding and Eliminating Stigma
DESCRIPTION:Dr. Steven Korn\, M.D.\, Anthem’s behavioral health medical director for the Northeast Region\, will lead a discussion of the stigma surrounding suicide and how it gets in the way of efforts to help survivors and those at risk. Learn strategies for reducing stigma and boosting suicide prevention efforts. \nhttps://UCOP.zoom.us/j/941574800 \nAudio: 408-638-0968 \nMeeting ID: 510 987 9443 \nQuestions? Contact Maura McLoughlin \nMaura.mcloughlin@ucop.edu or 510-987-9443
URL:https://link.ucop.edu/event/stigma-free-uc-presents-suicide-understanding-and-eliminating-stigma/
CATEGORIES:Special event
END:VEVENT
BEGIN:VEVENT
DTSTART;VALUE=DATE:20181204
DTEND;VALUE=DATE:20181205
DTSTAMP:20260421T140754
CREATED:20181114T180107Z
LAST-MODIFIED:20181114T180107Z
UID:10007081-1543881600-1543967999@link.ucop.edu
SUMMARY:IT Accessibility - Creating PDFs
DESCRIPTION:You must register for this course. To register\, log in to the UC Learning Center\, click Find a Course. \n\nChoose a session if course is currently scheduled\nExpress interest if course is not on schedule\n\nPlease cancel at least 72 hours in advance.
URL:https://link.ucop.edu/event/it-accessibility-creating-pdfs-2/
CATEGORIES:Learning & Development
END:VEVENT
END:VCALENDAR