BEGIN:VCALENDAR
VERSION:2.0
PRODID:-//Link: UCOP&#039;s e-newsletter - ECPv6.15.19//NONSGML v1.0//EN
CALSCALE:GREGORIAN
METHOD:PUBLISH
X-ORIGINAL-URL:https://link.ucop.edu
X-WR-CALDESC:Events for Link: UCOP&#039;s e-newsletter
REFRESH-INTERVAL;VALUE=DURATION:PT1H
X-Robots-Tag:noindex
X-PUBLISHED-TTL:PT1H
BEGIN:VTIMEZONE
TZID:America/Los_Angeles
BEGIN:STANDARD
TZOFFSETFROM:-0700
TZOFFSETTO:-0800
DTSTART:19701029T020000
RRULE:FREQ=YEARLY;BYMONTH=11;BYDAY=1SU
END:STANDARD
BEGIN:DAYLIGHT
DTSTART:19700402T020000
TZOFFSETFROM:-0800
TZOFFSETTO:-0700
RRULE:FREQ=YEARLY;BYMONTH=3;BYDAY=2SU
END:DAYLIGHT
END:VTIMEZONE
BEGIN:VTIMEZONE
TZID:America/Los_Angeles
BEGIN:DAYLIGHT
TZOFFSETFROM:-0800
TZOFFSETTO:-0700
TZNAME:PDT
DTSTART:20170312T100000
END:DAYLIGHT
BEGIN:STANDARD
TZOFFSETFROM:-0700
TZOFFSETTO:-0800
TZNAME:PST
DTSTART:20171105T090000
END:STANDARD
BEGIN:DAYLIGHT
TZOFFSETFROM:-0800
TZOFFSETTO:-0700
TZNAME:PDT
DTSTART:20180311T100000
END:DAYLIGHT
BEGIN:STANDARD
TZOFFSETFROM:-0700
TZOFFSETTO:-0800
TZNAME:PST
DTSTART:20181104T090000
END:STANDARD
BEGIN:DAYLIGHT
TZOFFSETFROM:-0800
TZOFFSETTO:-0700
TZNAME:PDT
DTSTART:20190310T100000
END:DAYLIGHT
BEGIN:STANDARD
TZOFFSETFROM:-0700
TZOFFSETTO:-0800
TZNAME:PST
DTSTART:20191103T090000
END:STANDARD
END:VTIMEZONE
BEGIN:VEVENT
DTSTART;TZID=America/Los_Angeles:20181018T120000
DTEND;TZID=America/Los_Angeles:20181018T130000
DTSTAMP:20260421T122055
CREATED:20180907T192935Z
LAST-MODIFIED:20180907T192935Z
UID:10007000-1539864000-1539867600@link.ucop.edu
SUMMARY:UCOP Multicultural Day celebration
DESCRIPTION:Join your UCOP colleagues on Thursday\, Oct. 18 from 12-1 p.m. in Franklin Lobby 1 for a celebration of UC staff diversity! \nUCOP staff in Riverside: A celebration will also be held at the UCPath Center and the location will be announced soon. \nMulticultural Day is a celebration of the diverse backgrounds and identities of UCOP staff. This event provides UCOP staff in Oakland and at the UCPath Center in Riverside with an opportunity to connect with one another and to learn more about the amazing work of UCOP’s affinity groups. \nThe celebration will include a photo project called “We Are UCOP”/“We are UCPath\,” organized by UCOP’s Employee Engagement and Diversity Group (EEDG)\, featuring photos of UCOP Oakland and UCPath employees with captions they provide to the question “What is your cultural identity?” \nQuestions? Contact event organizers Helen Young or Sarah Fidelibus at the OP Oakland locations\, and Erin Warnock at the UCPath Center.
URL:https://link.ucop.edu/event/ucop-multicultural-day-celebration/
LOCATION:Franklin Lobby 1
CATEGORIES:Employee Resource + Affinity Groups,Special event
ORGANIZER;CN="Employee Engagement and Diversity Group":MAILTO:steve.garber@ucop.edu
GEO:37.8022945;-122.271448
END:VEVENT
BEGIN:VEVENT
DTSTART;TZID=America/Los_Angeles:20181018T101800
DTEND;TZID=America/Los_Angeles:20181018T101800
DTSTAMP:20260421T122055
CREATED:20181016T171814Z
LAST-MODIFIED:20181016T171814Z
UID:10007025-1539857880-1539857880@link.ucop.edu
SUMMARY:Great ShakeOut
DESCRIPTION:
URL:https://link.ucop.edu/event/great-shakeout-2/
END:VEVENT
BEGIN:VEVENT
DTSTART;TZID=America/Los_Angeles:20181016T120000
DTEND;TZID=America/Los_Angeles:20181016T130000
DTSTAMP:20260421T122055
CREATED:20180424T181622Z
LAST-MODIFIED:20181003T201809Z
UID:10006955-1539691200-1539694800@link.ucop.edu
SUMMARY:Monthly meeting of LaSA
DESCRIPTION:The Latino Staff Association is an employee organization that promotes the general welfare and interests of Latinos in the Office of the President. Membership in LaSA is open to all Office of the President employees and retirees who wish to participate in carrying out the objectives of the association. 
URL:https://link.ucop.edu/event/monthly-meeting-of-lasa-2-2018-07-03-2018-10-02/
LOCATION:Franklin 5318
CATEGORIES:Employee Resource + Affinity Groups
ORGANIZER;CN="Latino Staff Association":MAILTO:juliann.martinez@ucop.edu
END:VEVENT
BEGIN:VEVENT
DTSTART;TZID=America/Los_Angeles:20181016T114500
DTEND;TZID=America/Los_Angeles:20181016T130000
DTSTAMP:20260421T122055
CREATED:20180921T224811Z
LAST-MODIFIED:20180921T225157Z
UID:10007020-1539690300-1539694800@link.ucop.edu
SUMMARY:OPSA Presents: UC Undergraduate Admissions Application
DESCRIPTION:OP Staff Assembly presents a discussion of the UC undergraduate admissions application process.
URL:https://link.ucop.edu/event/uc-undergraduate-admissions-application/
ORGANIZER;CN="OP Staff Assembly":MAILTO:OPStaffAssembly@ucop.edu
END:VEVENT
BEGIN:VEVENT
DTSTART;TZID=America/Los_Angeles:20181016T110000
DTEND;TZID=America/Los_Angeles:20181016T130000
DTSTAMP:20260421T122055
CREATED:20180907T191823Z
LAST-MODIFIED:20180907T191823Z
UID:10006995-1539687600-1539694800@link.ucop.edu
SUMMARY:UCOP National Cyber Security Awareness Month forum
DESCRIPTION:UCOP will host an exciting speaker event for National Cyber Security Awareness Month. \nSchedule: \n\n11—11:45 a.m.: Security for your personal Apple devices. A representative from Apple will come to share helpful information about security features and tips for personal devices.\n11:45 a.m.— noon: Lunch. Pizza lunch will be provided\n12—1 p.m.: Cybersecurity and Human Trafficking: What You Need to Know. Two members of the California Cybersecurity Institute at Cal Poly will speak about online human trafficking and cyber strategies for combating it.\n\nThe event will include lunch\, a raffle\, and giveaways. Space is limited to 110 attendees. \nTo register for the event and for more details\, visit the event website. \n 
URL:https://link.ucop.edu/event/ucop-national-cyber-security-awareness-month-forum/
LOCATION:Franklin Lobby 1
CATEGORIES:Special presentation
ORGANIZER;CN="ITS":MAILTO:sean.villa-carlos@ucop.edu
GEO:37.8022945;-122.271448
END:VEVENT
BEGIN:VEVENT
DTSTART;TZID=America/Los_Angeles:20181015T080000
DTEND;TZID=America/Los_Angeles:20181015T170000
DTSTAMP:20260421T122055
CREATED:20180910T171125Z
LAST-MODIFIED:20180910T171125Z
UID:10007001-1539590400-1539622800@link.ucop.edu
SUMMARY:Deadline to apply to sell at UCOP Winter Crafts Fair
DESCRIPTION:If you bead\, knit\, paint\, print\, sew\, tie-dye\, make paper or wood crafts\, or create any other hand-crafted items\, consider selling at the UCOP Winter Crafts Fair on Wednesday\, Dec. 5 in the Franklin Lobby. \nThe cost is $30\, which provides you with a table\, table cover and chair. You keep all sale proceeds. \nTo apply\, send photos of your work to rebecca.landes@ucop.edu by Monday\, Oct. 15. No mass-produced or imported items will be accepted. \nQuestions? Contact carol.lake@ucop.edu or rebecca.landes@ucop.edu.
URL:https://link.ucop.edu/event/deadline-to-apply-to-sell-at-ucop-winter-crafts-fair/
CATEGORIES:Employee Resource + Affinity Groups
END:VEVENT
BEGIN:VEVENT
DTSTART;TZID=America/Los_Angeles:20181012T080000
DTEND;TZID=America/Los_Angeles:20181012T100000
DTSTAMP:20260421T122055
CREATED:20181004T214602Z
LAST-MODIFIED:20181008T215727Z
UID:10007023-1539331200-1539338400@link.ucop.edu
SUMMARY:Breakfast on the 5th floor patio
DESCRIPTION:Ellis Partners\, the developers of the new 1100 Broadway building\, will provide breakfast for UCOP staff on the Franklin 5th floor patio. Coffee\, tea\, bagels\, yogurt parfait and pastries will be served.
URL:https://link.ucop.edu/event/breakfast-on-the-roof-terrace/
LOCATION:Franklin 5th floor roof garden
CATEGORIES:Breakfast
END:VEVENT
BEGIN:VEVENT
DTSTART;TZID=America/Los_Angeles:20181011T120000
DTEND;TZID=America/Los_Angeles:20181011T130000
DTSTAMP:20260421T122055
CREATED:20180921T223747Z
LAST-MODIFIED:20180921T225120Z
UID:10007016-1539259200-1539262800@link.ucop.edu
SUMMARY:OPSA Career: Introduction to My UC Career
DESCRIPTION:The OP Staff Assembly brings you an introduction to My UC Career resources\, with Terry Barton\, director of Systemwide Career and Development Programs.
URL:https://link.ucop.edu/event/introduction-to-my-uc-career/
LOCATION:Franklin Lobby 1
ORGANIZER;CN="OP Staff Assembly":MAILTO:OPStaffAssembly@ucop.edu
GEO:37.8022945;-122.271448
END:VEVENT
BEGIN:VEVENT
DTSTART;TZID=America/Los_Angeles:20181004T081500
DTEND;TZID=America/Los_Angeles:20181004T150000
DTSTAMP:20260421T122055
CREATED:20180119T212204Z
LAST-MODIFIED:20180731T214349Z
UID:10006861-1538640900-1538665200@link.ucop.edu
SUMMARY:American Red Cross blood drive
DESCRIPTION:You can help those in need of lifesaving transfusions by scheduling an appointment to donate blood at the American Red Cross drive. To make your appointment to donate\, please email Jan.Kehoe@ucop.edu or call 510-987-9692. \nThe Bloodmobile will be parked on 11th St.\, between Franklin and Webster\, in front of the East Bay Municipal Utility District (EBMUD) building. \nGo to the American Red Cross website to learn more about the process.
URL:https://link.ucop.edu/event/american-red-cross-blood-drive-14/
LOCATION:In front of EBMUD building on 11th St.\, 375 11th St.\, Oakland\, CA\, 94607\, United States
CATEGORIES:Blood drive
ORGANIZER;CN="Jan Kehoe":MAILTO:jkehoe.blood@yahoo.com
GEO:37.8012453;-122.2708587
X-APPLE-STRUCTURED-LOCATION;VALUE=URI;X-ADDRESS=In front of EBMUD building on 11th St. 375 11th St. Oakland CA 94607 United States;X-APPLE-RADIUS=500;X-TITLE=375 11th St.:geo:-122.2708587,37.8012453
END:VEVENT
BEGIN:VEVENT
DTSTART;TZID=America/Los_Angeles:20181003T120000
DTEND;TZID=America/Los_Angeles:20181003T130000
DTSTAMP:20260421T122055
CREATED:20180914T203053Z
LAST-MODIFIED:20180914T203053Z
UID:10007006-1538568000-1538571600@link.ucop.edu
SUMMARY:Brown bag: UCOP Mentorship Program seeks mentees and mentors
DESCRIPTION:The UCOP Mentorship Program is seeking mentees and mentors for its next annual program beginning January 2019 and concluding in December 2019.  The Mentorship Program is an exciting opportunity to share and learn career skills and leadership practices\, guide and navigate the UCOP culture\, and establish long term professional relationships. \nThe goal of the Mentorship Program is to create 25-30 mentor–mentee pairings that provide a supportive structure for UCOP employees to cultivate contacts\, explore challenges and enhance their effectiveness as they grow both personally and professionally. \nLearn more at an upcoming brown bag. All sessions take place from 12 to 1 p.m.: \n\nTuesday\, Sept. 25\, 20th Street\, Room 411\nThursday\, Sept. 27\, Franklin 5320\nTuesday\, Oct. 2\, Kaiser 512\nWednesday\, Oct. 3\, Franklin 5320\n\nProgram information\nVisit the UCOP Mentorship Program webpage for full program information including FAQs\, event dates and mentee application. Questions? Contact Anne Prozan at Anne.Prozan@ucop.eduor 510-987-0057.
URL:https://link.ucop.edu/event/brown-bag-ucop-mentorship-program-seeks-mentees-and-mentors/2018-10-03/
LOCATION:Franklin 5320
CATEGORIES:Brown bag
END:VEVENT
BEGIN:VEVENT
DTSTART;TZID=America/Los_Angeles:20181002T120000
DTEND;TZID=America/Los_Angeles:20181002T130000
DTSTAMP:20260421T122055
CREATED:20180914T203235Z
LAST-MODIFIED:20180914T203235Z
UID:10007010-1538481600-1538485200@link.ucop.edu
SUMMARY:Brown bag: UCOP Mentorship Program seeks mentees and mentors
DESCRIPTION:The UCOP Mentorship Program is seeking mentees and mentors for its next annual program beginning January 2019 and concluding in December 2019.  The Mentorship Program is an exciting opportunity to share and learn career skills and leadership practices\, guide and navigate the UCOP culture\, and establish long term professional relationships. \nThe goal of the Mentorship Program is to create 25-30 mentor–mentee pairings that provide a supportive structure for UCOP employees to cultivate contacts\, explore challenges and enhance their effectiveness as they grow both personally and professionally. \nLearn more at an upcoming brown bag. All sessions take place from 12 to 1 p.m.: \n\nTuesday\, Sept. 25\, 20th Street\, Room 411\nThursday\, Sept. 27\, Franklin 5320\nTuesday\, Oct. 2\, Kaiser 512\nWednesday\, Oct. 3\, Franklin 5320\n\nProgram information\nVisit the UCOP Mentorship Program webpage for full program information including FAQs\, event dates and mentee application. Questions? Contact Anne Prozan at Anne.Prozan@ucop.eduor 510-987-0057.
URL:https://link.ucop.edu/event/brown-bag-ucop-mentorship-program-seeks-mentees-and-mentors-3/
LOCATION:Kaiser 512
CATEGORIES:Brown bag
END:VEVENT
BEGIN:VEVENT
DTSTART;TZID=America/Los_Angeles:20181001T074500
DTEND;TZID=America/Los_Angeles:20181001T093000
DTSTAMP:20260421T122055
CREATED:20180921T221500Z
LAST-MODIFIED:20180921T221500Z
UID:10007012-1538379900-1538386200@link.ucop.edu
SUMMARY:National Cyber Security Awareness Month information table
DESCRIPTION:Stop by to learn more about National Cyber Security Awareness Month\, and pick up giveaways\, informational handouts and a breakfast bar!
URL:https://link.ucop.edu/event/national-cyber-security-awareness-month-information-table/
LOCATION:Franklin lobby
ORGANIZER;CN="ITS":MAILTO:sean.villa-carlos@ucop.edu
END:VEVENT
BEGIN:VEVENT
DTSTART;TZID=America/Los_Angeles:20180927T163000
DTEND;TZID=America/Los_Angeles:20180927T180000
DTSTAMP:20260421T122055
CREATED:20180921T223117Z
LAST-MODIFIED:20180921T223117Z
UID:10007014-1538065800-1538071200@link.ucop.edu
SUMMARY:OPSA Social Happy Hour
DESCRIPTION:Join OPSA Social for a happy hour featuring the “IT Iron Chefs” Appetizer Cook-Off!
URL:https://link.ucop.edu/event/opsa-social-happy-hour/
LOCATION:Franklin 5th floor roof garden
ORGANIZER;CN="OP Staff Assembly":MAILTO:OPStaffAssembly@ucop.edu
END:VEVENT
BEGIN:VEVENT
DTSTART;TZID=America/Los_Angeles:20180927T120000
DTEND;TZID=America/Los_Angeles:20180927T130000
DTSTAMP:20260421T122055
CREATED:20180914T203053Z
LAST-MODIFIED:20180914T203053Z
UID:10007005-1538049600-1538053200@link.ucop.edu
SUMMARY:Brown bag: UCOP Mentorship Program seeks mentees and mentors
DESCRIPTION:The UCOP Mentorship Program is seeking mentees and mentors for its next annual program beginning January 2019 and concluding in December 2019.  The Mentorship Program is an exciting opportunity to share and learn career skills and leadership practices\, guide and navigate the UCOP culture\, and establish long term professional relationships. \nThe goal of the Mentorship Program is to create 25-30 mentor–mentee pairings that provide a supportive structure for UCOP employees to cultivate contacts\, explore challenges and enhance their effectiveness as they grow both personally and professionally. \nLearn more at an upcoming brown bag. All sessions take place from 12 to 1 p.m.: \n\nTuesday\, Sept. 25\, 20th Street\, Room 411\nThursday\, Sept. 27\, Franklin 5320\nTuesday\, Oct. 2\, Kaiser 512\nWednesday\, Oct. 3\, Franklin 5320\n\nProgram information\nVisit the UCOP Mentorship Program webpage for full program information including FAQs\, event dates and mentee application. Questions? Contact Anne Prozan at Anne.Prozan@ucop.eduor 510-987-0057.
URL:https://link.ucop.edu/event/brown-bag-ucop-mentorship-program-seeks-mentees-and-mentors/2018-09-27/
LOCATION:Franklin 5320
CATEGORIES:Brown bag
END:VEVENT
END:VCALENDAR