BEGIN:VCALENDAR
VERSION:2.0
PRODID:-//Link: UCOP&#039;s e-newsletter - ECPv6.15.19//NONSGML v1.0//EN
CALSCALE:GREGORIAN
METHOD:PUBLISH
X-ORIGINAL-URL:https://link.ucop.edu
X-WR-CALDESC:Events for Link: UCOP&#039;s e-newsletter
REFRESH-INTERVAL;VALUE=DURATION:PT1H
X-Robots-Tag:noindex
X-PUBLISHED-TTL:PT1H
BEGIN:VTIMEZONE
TZID:America/Los_Angeles
BEGIN:STANDARD
TZOFFSETFROM:-0700
TZOFFSETTO:-0800
DTSTART:19701029T020000
RRULE:FREQ=YEARLY;BYMONTH=11;BYDAY=1SU
END:STANDARD
BEGIN:DAYLIGHT
DTSTART:19700402T020000
TZOFFSETFROM:-0800
TZOFFSETTO:-0700
RRULE:FREQ=YEARLY;BYMONTH=3;BYDAY=2SU
END:DAYLIGHT
END:VTIMEZONE
BEGIN:VTIMEZONE
TZID:America/Los_Angeles
BEGIN:DAYLIGHT
TZOFFSETFROM:-0800
TZOFFSETTO:-0700
TZNAME:PDT
DTSTART:20250309T100000
END:DAYLIGHT
BEGIN:STANDARD
TZOFFSETFROM:-0700
TZOFFSETTO:-0800
TZNAME:PST
DTSTART:20251102T090000
END:STANDARD
BEGIN:DAYLIGHT
TZOFFSETFROM:-0800
TZOFFSETTO:-0700
TZNAME:PDT
DTSTART:20260308T100000
END:DAYLIGHT
BEGIN:STANDARD
TZOFFSETFROM:-0700
TZOFFSETTO:-0800
TZNAME:PST
DTSTART:20261101T090000
END:STANDARD
BEGIN:DAYLIGHT
TZOFFSETFROM:-0800
TZOFFSETTO:-0700
TZNAME:PDT
DTSTART:20270314T100000
END:DAYLIGHT
BEGIN:STANDARD
TZOFFSETFROM:-0700
TZOFFSETTO:-0800
TZNAME:PST
DTSTART:20271107T090000
END:STANDARD
END:VTIMEZONE
BEGIN:VEVENT
DTSTART;TZID=America/Los_Angeles:20260428T130000
DTEND;TZID=America/Los_Angeles:20260428T140000
DTSTAMP:20260421T143849
CREATED:20260324T155308Z
LAST-MODIFIED:20260324T155308Z
UID:10014629-1777381200-1777384800@link.ucop.edu
SUMMARY:Psychological Skills for Managing Stress and Change
DESCRIPTION:Join Dr. Ana Dolatabadi of the Faculty and Staff Assistance Program for a special virtual workshop focused on practical skills for regulating stress and maintaining perspective during challenging times. The session will explore stress-management strategies and sustainable self-care practices. Participants will leave with concrete tools to support their well-being while continuing to meet the demands of work and life. \nAdvance registration is required. Register here to attend.
URL:https://link.ucop.edu/event/psychological-skills-for-managing-stress-and-change/
END:VEVENT
BEGIN:VEVENT
DTSTART;TZID=America/Los_Angeles:20260428T110000
DTEND;TZID=America/Los_Angeles:20260428T120000
DTSTAMP:20260421T143849
CREATED:20260306T235023Z
LAST-MODIFIED:20260306T235023Z
UID:10014175-1777374000-1777377600@link.ucop.edu
SUMMARY:Box Advanced
DESCRIPTION:Want to know how to securely store sensitive data in Box? Interested in how to get data into Box via email or URL? Sign up for this advanced Box class and we will cover a wide range of topics including setting up alerts to monitor folders and using Box groups to manage department collaborations.
URL:https://link.ucop.edu/event/box-advanced-12/
LOCATION:Online
CATEGORIES:Learning & Development
ORGANIZER;CN="UCOP Learning and Development":MAILTO:ucopld@ucop.edu
END:VEVENT
BEGIN:VEVENT
DTSTART;TZID=America/Los_Angeles:20260428T100000
DTEND;TZID=America/Los_Angeles:20260428T103000
DTSTAMP:20260421T143849
CREATED:20251014T194546Z
LAST-MODIFIED:20251020T160945Z
UID:10013373-1777370400-1777372200@link.ucop.edu
SUMMARY:Travel Talk Tuesday
DESCRIPTION:Travel Talk Tuesdays\, held the second and fourth Tuesday of each month\, provide helpful resources for UCOP business travellers. For questions or upcoming topics\, contact the BRC T&E Team at: brctravelandent@ucop.edu. \n\n\n\n\n\nPre-registration is not required: Attend by Zoom.
URL:https://link.ucop.edu/event/travel-talk-tuesday-5/2026-04-28/
END:VEVENT
BEGIN:VEVENT
DTSTART;TZID=America/Los_Angeles:20260424T130000
DTEND;TZID=America/Los_Angeles:20260424T140000
DTSTAMP:20260421T143849
CREATED:20260306T234607Z
LAST-MODIFIED:20260318T001425Z
UID:10014174-1777035600-1777039200@link.ucop.edu
SUMMARY:People Leader Forum: Talent Insight process - Uncovering potential\, planning for the future!
DESCRIPTION:The People Leaders Forum is a monthly opportunity for people managers to connect with one another to develop leadership skills\, build community\, share best practices\, swap strategies for navigating current challenges and learn to better support themselves and their teams. \n\nApril 24: Talent Insight process – Uncovering potential\, planning for the future! In this session we will introduce you to the Talent Insight process that helps departments put the right people in the right roles at the right time. This process is supported by the Organization Development team and guided by thoughtful planning\, collaborative strategy\, and a strong culture of development. The four-stage cycle: Assess\, Develop\, Implement\, & Review provides a framework for departments to create a 1–3 year plan tailored to their evolving talent and workforce needs.\nMay 29: Employee Relations 101 Karen Arnold\, Director\, HR Business Partner and Shannon Brooks\, Director of UCOP Leaves and Accommodations and Karen Arnold\,  will discuss Employee Relations foundational knowledge and strategies needed to effectively handle workplace issues. They will share best practices for addressing employee concerns\, managing performance and conduct issues\, and fostering a fair\, respectful work environment. The session also covers legal and policy considerations\, documentation basics\, and when to involve HR.   \nJune 26:  Supporting Employees Navigate Change & Transition:  In this session\, Oscar Lara will explore the human response to change and stages within the transition process\, and provide managers with strategies to support employees to successfully navigate through personal and professional changes.\nJuly 31st : TBD\nAugust:  Coaching Employees to Success\nSept 25: Recruitment Tips and the use of AI\nOctober 30:  Managing Peers\nDecember:  TBD\n\n 
URL:https://link.ucop.edu/event/people-leader-forum-2/
LOCATION:Online
CATEGORIES:Learning & Development
ORGANIZER;CN="UCOP Learning and Development":MAILTO:ucopld@ucop.edu
END:VEVENT
BEGIN:VEVENT
DTSTART;TZID=America/Los_Angeles:20260424T120000
DTEND;TZID=America/Los_Angeles:20260424T130000
DTSTAMP:20260421T143849
CREATED:20220727T210413Z
LAST-MODIFIED:20250124T203550Z
UID:10009336-1777032000-1777035600@link.ucop.edu
SUMMARY:Pride Employee Resource Group Meeting
DESCRIPTION:UCOP Pride General Meeting – all are welcome! \nhttps://UCOP.zoom.us/j/92828652684 \n 
URL:https://link.ucop.edu/event/pride-employee-resource-group-meeting/2026-04-24/
END:VEVENT
BEGIN:VEVENT
DTSTART;TZID=America/Los_Angeles:20260423T120500
DTEND;TZID=America/Los_Angeles:20260423T125500
DTSTAMP:20260421T143849
CREATED:20260106T171040Z
LAST-MODIFIED:20260331T155349Z
UID:10012569-1776945900-1776948900@link.ucop.edu
SUMMARY:Lakeside Speakeasy Toastmasters (Virtual)
DESCRIPTION:Lakeside Speakeasy Toastmasters Club No. 2967  meets virtually on Thursdays from 12:05p-12:55p with the exception of one hybrid monthly meeting\, which occurs the first Wednesday of the month. Join us virtually or in person to build communication skills including speaking\, leadership\, listening\, and feedback. If you’d like to excel at presentations\, meeting interactions\, elevator-speech “sound bites” and/or performance feedback\, this is the group for you! For more information or to arrange a visit\, please contact lakesidespeakeasy@gmail.com. \nhttps://us06web.zoom.us/j/87953980417?pwd=TXdquZrdmmQEzbOlMogPOXo3qqC9oJ.1\nZoom Meeting ID: 879 5398 0417 – Passcode: 298893 \n 
URL:https://link.ucop.edu/event/lakeside-speakeasy-toastmasters-2-2-3/2026-04-23/
END:VEVENT
BEGIN:VEVENT
DTSTART;TZID=America/Los_Angeles:20260423T100000
DTEND;TZID=America/Los_Angeles:20260423T110000
DTSTAMP:20260421T143849
CREATED:20240515T205434Z
LAST-MODIFIED:20241223T184209Z
UID:10010215-1776938400-1776942000@link.ucop.edu
SUMMARY:Compliance\, Accounting\, Audit\, & Policy (CAAP) Office Hours
DESCRIPTION:Ask questions about journals/reports\, cost transfers\, ITF’s\, Chart of Accounts\, General Ledger\, and CashNet. \n\nDial-in: 1 669 219 2599\nMeeting ID: 919 8651 9749\nPasscode:  654321
URL:https://link.ucop.edu/event/compliance-accounting-audit-policy-caap-office-hours/2026-04-23/
END:VEVENT
BEGIN:VEVENT
DTSTART;TZID=America/Los_Angeles:20260423T083000
DTEND;TZID=America/Los_Angeles:20260423T123000
DTSTAMP:20260421T143849
CREATED:20260306T233824Z
LAST-MODIFIED:20260309T185518Z
UID:10014173-1776933000-1776947400@link.ucop.edu
SUMMARY:Project Management II
DESCRIPTION:Prerequisite – UCOP Project Management II (Session 2 of 3) \nThis is a three-part series\, Project Management Level II\, led by The Center for Project Management. Attendance for all three-parts is required (April 9\, April 16\, April 23)  \nThis workshop series emphasizes traditional project management techniques that are highly relevant to the UC project environment with practical tools\, methods and techniques for immediate application in your work environment. Agile project management techniques designed to support highly iterative software development projects is not the focus of this series\, and professionals seeking highly iterative agile project management techniques will also find practical value in the content of this series. \nSession 1 Objectives \n\nReview and reflect on the project management foundations series\nLearn techniques to lead a thriving project team\nLearn how to establish a project’s priorities\nBuild skills and learn a process to manage project change control\n\nSession 2 Objectives \n\nLearn how to assess and manage project complexity\nLearn techniques to lead a thriving project team\nLearn how to practice a methodology to identify\, prioritize\, plan and manage project risks\nLearn tools and techniques for planning and managing project quality\n\nSession 3 Objectives \n\nExplore a framework for anticipating and managing the organizational change of implementing a project\nBuild skills in activating leaders to champion your project\nLearn how to build a project communication plan and effectively engage project stakeholders throughout a project\n\n*This is a 3 part course and it is highly recommended that you attend each session as materials and curriculum will build on the prior sessions work.
URL:https://link.ucop.edu/event/project-management-ii-session-3-of-3/
LOCATION:Online
ORGANIZER;CN="UCOP Learning and Development":MAILTO:ucopld@ucop.edu
END:VEVENT
BEGIN:VEVENT
DTSTART;TZID=America/Los_Angeles:20260422T150000
DTEND;TZID=America/Los_Angeles:20260422T155000
DTSTAMP:20260421T143849
CREATED:20250117T193746Z
LAST-MODIFIED:20250117T193746Z
UID:10011476-1776870000-1776873000@link.ucop.edu
SUMMARY:OPSA meeting
DESCRIPTION:Every 4th Wednesday of the month from 3:00pm to 3:50 pm we will have our staff meetings open to all staff.
URL:https://link.ucop.edu/event/opsa-meeting/2026-04-22/
END:VEVENT
BEGIN:VEVENT
DTSTART;TZID=America/Los_Angeles:20260422T120000
DTEND;TZID=America/Los_Angeles:20260422T130000
DTSTAMP:20260421T143849
CREATED:20260316T184626Z
LAST-MODIFIED:20260316T184626Z
UID:10014611-1776859200-1776862800@link.ucop.edu
SUMMARY:President's Book Talk: Chancellor Gillman and Dean Chemerinsky
DESCRIPTION:President Milliken invites UCOP staff to join him in person for the third event in the President’s Leadership Conversations series\, featuring UC Irvine Chancellor Howard Gillman and Erwin Chemerinsky\, dean of the UC Berkeley Law School. \nThis event will take place via Zoom. The link will be provided via an Outlook invitation. \nThis event is limited to UCOP staff.
URL:https://link.ucop.edu/event/presidents-book-talk-chancellor-gillman-and-dean-chemerinsky/
LOCATION:Online (via Zoom)
END:VEVENT
BEGIN:VEVENT
DTSTART;TZID=America/Los_Angeles:20260422T110000
DTEND;TZID=America/Los_Angeles:20260422T120000
DTSTAMP:20260421T143849
CREATED:20260324T160126Z
LAST-MODIFIED:20260324T160126Z
UID:10014634-1776855600-1776859200@link.ucop.edu
SUMMARY:Travel Webinar: Advito
DESCRIPTION:Sustainable Travel Experts\, Advito\, will help the audience explore the interconnection between travel and climate change from how travel contributes to emissions to how climate change disrupts travel through physical\, economic\, and societal risks (such as extreme weather events).
URL:https://link.ucop.edu/event/travel-webinar-advito/
END:VEVENT
BEGIN:VEVENT
DTSTART;TZID=America/Los_Angeles:20260422T103000
DTEND;TZID=America/Los_Angeles:20260422T120000
DTSTAMP:20260421T143849
CREATED:20260413T195544Z
LAST-MODIFIED:20260413T195544Z
UID:10014730-1776853800-1776859200@link.ucop.edu
SUMMARY:UC Grad Slam
DESCRIPTION:Get a master class — in brief — on cutting-edge UC discoveries as graduate students explain their complex research in just 3 minutes flat. \nAdvance registration is not needed. Tune in live at gradslam.universityofcalifornia.edu \n 
URL:https://link.ucop.edu/event/uc-grad-slam/
LOCATION:Online
END:VEVENT
BEGIN:VEVENT
DTSTART;TZID=America/Los_Angeles:20260422T103000
DTEND;TZID=America/Los_Angeles:20260422T113000
DTSTAMP:20260421T143849
CREATED:20241210T195101Z
LAST-MODIFIED:20241223T184010Z
UID:10011043-1776853800-1776857400@link.ucop.edu
SUMMARY:BRC - Procure to Pay Office Hours
DESCRIPTION:
URL:https://link.ucop.edu/event/brc-procure-to-pay-office-hours/2026-04-22/
END:VEVENT
BEGIN:VEVENT
DTSTART;TZID=America/Los_Angeles:20260422T100000
DTEND;TZID=America/Los_Angeles:20260422T110000
DTSTAMP:20260421T143849
CREATED:20260313T133708Z
LAST-MODIFIED:20260313T133708Z
UID:10014313-1776852000-1776855600@link.ucop.edu
SUMMARY:Travel & Entertainment Office Hours
DESCRIPTION:Ask questions about pre-travel requests\, corporate credit card requests\, and expense reimbursements.
URL:https://link.ucop.edu/event/travel-entertainment-office-hours/2026-04-22/
LOCATION:https://UCOP.zoom.us/j/3301316753?pwd=STFNemVrbTJsV0tJZU1BNWZFL2VSUT09
END:VEVENT
BEGIN:VEVENT
DTSTART;TZID=America/Los_Angeles:20260422T100000
DTEND;TZID=America/Los_Angeles:20260422T110000
DTSTAMP:20260421T143849
CREATED:20241022T185402Z
LAST-MODIFIED:20241022T185402Z
UID:10010440-1776852000-1776855600@link.ucop.edu
SUMMARY:BRC T&E Team Office Hours
DESCRIPTION:Have a travel or travel reimbursement-related question? Join the Business Resource Center Travel and Entertainment team for weekly office hours. \nZoom link: https://UCOP.zoom.us/j/3301316753?pwd=STFNemVrbTJsV0tJZU1BNWZFL2VSUT09 
URL:https://link.ucop.edu/event/brc-te-team-office-hours-2/2026-04-22/
ORGANIZER;CN="Mark Lozano%2C Business Resource Center":MAILTO:Mark.Lozano@UCOP.EDU
END:VEVENT
BEGIN:VEVENT
DTSTART;TZID=America/Los_Angeles:20260422T090000
DTEND;TZID=America/Los_Angeles:20260422T160000
DTSTAMP:20260421T143849
CREATED:20260324T154322Z
LAST-MODIFIED:20260324T154901Z
UID:10014627-1776848400-1776873600@link.ucop.edu
SUMMARY:2026 UC Ethics and Compliance Institute
DESCRIPTION:On April 21 and 22\, join colleagues from throughout the UC system for the 2026 UC Ethics and Compliance Institute. This free\, fully virtual two-day program is designed for administrative\, campus and health compliance professionals at every career stage\, as well as leaders who support ethical\, compliant and effective operations across UC. \nAdvance registration is required. Register online here.
URL:https://link.ucop.edu/event/2026-uc-ethics-and-compliance-institute/2026-04-22/
LOCATION:Online\, via Zoom
END:VEVENT
BEGIN:VEVENT
DTSTART;TZID=America/Los_Angeles:20260422T081500
DTEND;TZID=America/Los_Angeles:20260422T151500
DTSTAMP:20260421T143849
CREATED:20260306T154401Z
LAST-MODIFIED:20260306T154401Z
UID:10014162-1776845700-1776870900@link.ucop.edu
SUMMARY:Take Our Kids to Work Day - Oakland
DESCRIPTION:TOKTWD is a national movement allowing students to explore career possibilities while learning more about their parent/guardian’s work and organization. Children in grades 1 through 12 are invited to participate in this exciting event! \nVolunteers from several departments will present a structured and interactive experience for children. Students will participate in grade-level cohorts\, giving them an opportunity to make friends and explore UCOP with their peers. \nThe Oakland celebration will take place from 8:15 a.m. to 3:15 p.m. \nAdvance registration is required. The registration link will be posted here soon. \n 
URL:https://link.ucop.edu/event/take-our-kids-to-work-day-oakland/
LOCATION:Oakland – Varies
END:VEVENT
BEGIN:VEVENT
DTSTART;TZID=America/Los_Angeles:20260421T140000
DTEND;TZID=America/Los_Angeles:20260421T151500
DTSTAMP:20260421T143849
CREATED:20260313T135805Z
LAST-MODIFIED:20260313T135805Z
UID:10014600-1776780000-1776784500@link.ucop.edu
SUMMARY:Concur Training: New and Infrequent Travelers
DESCRIPTION:
URL:https://link.ucop.edu/event/concur-training-new-and-infrequent-travelers/2026-04-21/
LOCATION:https://UCOP.zoom.us/j/3301316753?pwd=STFNemVrbTJsV0tJZU1BNWZFL2VSUT09
END:VEVENT
BEGIN:VEVENT
DTSTART;TZID=America/Los_Angeles:20260421T130000
DTEND;TZID=America/Los_Angeles:20260421T143000
DTSTAMP:20260421T143849
CREATED:20260306T224756Z
LAST-MODIFIED:20260306T234120Z
UID:10014170-1776776400-1776781800@link.ucop.edu
SUMMARY:UCOP Creating Accessible Documents 1: MS Office (Session 1 of 2)
DESCRIPTION:Digital accessibility is about ensuring users with disabilities can easily access and engage with any digital content. In this course\, you will learn the principles of digital accessibility\, how to generate accessible Microsoft Office Documents and how to export these to PDF. This is the first course in the series and a prerequisite for UCOP Creating Accessible Documents 2: PDFs.
URL:https://link.ucop.edu/event/ucop-creating-accessible-documents-1-ms-office-4/
LOCATION:Online
CATEGORIES:Learning & Development
ORGANIZER;CN="UCOP Learning and Development":MAILTO:ucopld@ucop.edu
END:VEVENT
BEGIN:VEVENT
DTSTART;TZID=America/Los_Angeles:20260421T090000
DTEND;TZID=America/Los_Angeles:20260421T160000
DTSTAMP:20260421T143849
CREATED:20260324T154322Z
LAST-MODIFIED:20260324T154901Z
UID:10014625-1776762000-1776787200@link.ucop.edu
SUMMARY:2026 UC Ethics and Compliance Institute
DESCRIPTION:On April 21 and 22\, join colleagues from throughout the UC system for the 2026 UC Ethics and Compliance Institute. This free\, fully virtual two-day program is designed for administrative\, campus and health compliance professionals at every career stage\, as well as leaders who support ethical\, compliant and effective operations across UC. \nAdvance registration is required. Register online here.
URL:https://link.ucop.edu/event/2026-uc-ethics-and-compliance-institute/2026-04-21/
LOCATION:Online\, via Zoom
END:VEVENT
BEGIN:VEVENT
DTSTART;TZID=America/Los_Angeles:20260421T090000
DTEND;TZID=America/Los_Angeles:20260421T150000
DTSTAMP:20260421T143849
CREATED:20260318T002105Z
LAST-MODIFIED:20260318T002149Z
UID:10014620-1776762000-1776783600@link.ucop.edu
SUMMARY:ME@UCOP: Managing in the Modern Workplace
DESCRIPTION:Managing in the Modern Workplace: In this session\, we will discuss UCOP processes and strategies that support building inclusive and engaged teams. Topics include: \n\nManaging remote and hybrid teams\nPeople Development\nFostering Community and Belonging as a Manager.\n\nThis class is also offered remote.  Please review registration for remote offerings. This is part of the Manager Essentials at UCOP (ME@UCOP) series. It is required for all people new to a management or supervisory positions at UCOP since 2020 (internal promotions and external hires).  All experienced managers are welcome to attend.
URL:https://link.ucop.edu/event/meucop-managing-in-the-modern-workplace/
LOCATION:Broadway – B 7001
CATEGORIES:Training
ORGANIZER;CN="UCOP Learning and Development":MAILTO:ucopld@ucop.edu
END:VEVENT
BEGIN:VEVENT
DTSTART;TZID=America/Los_Angeles:20260417T110000
DTEND;TZID=America/Los_Angeles:20260417T120000
DTSTAMP:20260421T143849
CREATED:20260407T020327Z
LAST-MODIFIED:20260407T020327Z
UID:10014723-1776423600-1776427200@link.ucop.edu
SUMMARY:CUCSA Delegate Information Session
DESCRIPTION:Curious about what Council of UC Staff Assemblies (CUCSA) delegates do and how you can get involved? Join CUCSA for a virtual Delegate Information Session! \nThe CUCSA Executive Board will share a brief overview of the organization\, followed by a panel of current and former delegates who will discuss their experiences and answer questions about serving in the role. \nRegister via Zoom\nHave questions for CUCSA? You’ll have a chance to share them through the registration process. Learn more about CUCSA.
URL:https://link.ucop.edu/event/cucsa-delegate-information-session/
LOCATION:Online (via Zoom)
CATEGORIES:Special presentation
END:VEVENT
BEGIN:VEVENT
DTSTART;TZID=America/Los_Angeles:20260417T100000
DTEND;TZID=America/Los_Angeles:20260417T110000
DTSTAMP:20260421T143849
CREATED:20260324T160018Z
LAST-MODIFIED:20260330T234451Z
UID:10014633-1776420000-1776423600@link.ucop.edu
SUMMARY:From Farm to Campus: UC’s Advancement of Sustainable Food Sourcing
DESCRIPTION:The University of California is leveraging its purchasing power to transform food systems across campuses and California agriculture. \nJoin UC Travel and Systemwide Procurement for a special event focused on how procurement\, sustainability leaders\, campus dining teams and students are collaborating to expand sustainable purchasing\, strengthen supply chains and support farmers and food enterprises. \nAdvance registration is required. Register online here.
URL:https://link.ucop.edu/event/travel-webinar-advancement-of-sustainable-food-sourcing/
END:VEVENT
BEGIN:VEVENT
DTSTART;TZID=America/Los_Angeles:20260416T144000
DTEND;TZID=America/Los_Angeles:20260416T151000
DTSTAMP:20260421T143849
CREATED:20260109T152106Z
LAST-MODIFIED:20260109T152106Z
UID:10013876-1776350400-1776352200@link.ucop.edu
SUMMARY:Concur Training: Expense Reports
DESCRIPTION:Join the Business Resource Center Travel + Entertainment Team for a virtual overview of how to submit expense reports through Concur\, including the process and necessary info to share. An event recording will be available for those who are unable to attend. This event is part of the Travel Thursdays Concur Workshop Series. Pre-registration is not required. Join via Zoom. For questions\, please contact the BRC T&E Team at brctravelandent@ucop.edu.
URL:https://link.ucop.edu/event/concur-training-expense-reports-2/2026-04-16/
END:VEVENT
BEGIN:VEVENT
DTSTART;TZID=America/Los_Angeles:20260416T140000
DTEND;TZID=America/Los_Angeles:20260416T150000
DTSTAMP:20260421T143849
CREATED:20260311T012157Z
LAST-MODIFIED:20260311T012157Z
UID:10014246-1776348000-1776351600@link.ucop.edu
SUMMARY:Accessibility/Cascade Office Hours
DESCRIPTION:Do you have a question about using Cascade CMS to manage content on your website? Have a tricky PDF that won’t pass accessibility requirements? Drop in and visit our semi-monthly Accessibility/Cascade Office Hours. We have experts to help you live with any issues you’re encountering.
URL:https://link.ucop.edu/event/accessibility-cascade-office-hours-2/2026-04-16/
LOCATION:Zoom
END:VEVENT
BEGIN:VEVENT
DTSTART;TZID=America/Los_Angeles:20260416T140000
DTEND;TZID=America/Los_Angeles:20260416T143000
DTSTAMP:20260421T143849
CREATED:20260313T134901Z
LAST-MODIFIED:20260317T153638Z
UID:10014732-1776348000-1776349800@link.ucop.edu
SUMMARY:Concur Training: Concur Pre-Travel Request Overview
DESCRIPTION:
URL:https://link.ucop.edu/event/concur-training-concur-pre-travel-request-overview/2026-04-16/
LOCATION:https://UCOP.zoom.us/j/3301316753?pwd=STFNemVrbTJsV0tJZU1BNWZFL2VSUT09
END:VEVENT
BEGIN:VEVENT
DTSTART;TZID=America/Los_Angeles:20260416T140000
DTEND;TZID=America/Los_Angeles:20260416T143000
DTSTAMP:20260421T143849
CREATED:20260109T151913Z
LAST-MODIFIED:20260109T152136Z
UID:10013934-1776348000-1776349800@link.ucop.edu
SUMMARY:Concur Training: Pre-Travel Requests
DESCRIPTION:Join the Business Resource Center Travel + Entertainment Team for a virtual overview of how to submit Pre-Travel Requests through Concur\, including the process and necessary info to share. An event recording will be available for those who are unable to attend. This event is part of the Travel Thursdays Concur Workshop Series. Pre-registration is not required. Join via Zoom. For questions\, please contact the BRC T&E Team at brctravelandent@ucop.edu.
URL:https://link.ucop.edu/event/concur-training-pre-travel-requests-2/2026-04-16/
END:VEVENT
BEGIN:VEVENT
DTSTART;TZID=America/Los_Angeles:20260416T120500
DTEND;TZID=America/Los_Angeles:20260416T125500
DTSTAMP:20260421T143849
CREATED:20260106T171040Z
LAST-MODIFIED:20260331T155349Z
UID:10012568-1776341100-1776344100@link.ucop.edu
SUMMARY:Lakeside Speakeasy Toastmasters (Virtual)
DESCRIPTION:Lakeside Speakeasy Toastmasters Club No. 2967  meets virtually on Thursdays from 12:05p-12:55p with the exception of one hybrid monthly meeting\, which occurs the first Wednesday of the month. Join us virtually or in person to build communication skills including speaking\, leadership\, listening\, and feedback. If you’d like to excel at presentations\, meeting interactions\, elevator-speech “sound bites” and/or performance feedback\, this is the group for you! For more information or to arrange a visit\, please contact lakesidespeakeasy@gmail.com. \nhttps://us06web.zoom.us/j/87953980417?pwd=TXdquZrdmmQEzbOlMogPOXo3qqC9oJ.1\nZoom Meeting ID: 879 5398 0417 – Passcode: 298893 \n 
URL:https://link.ucop.edu/event/lakeside-speakeasy-toastmasters-2-2-3/2026-04-16/
END:VEVENT
BEGIN:VEVENT
DTSTART;TZID=America/Los_Angeles:20260416T120000
DTEND;TZID=America/Los_Angeles:20260416T130000
DTSTAMP:20260421T143849
CREATED:20260310T193551Z
LAST-MODIFIED:20260403T214317Z
UID:10014182-1776340800-1776344400@link.ucop.edu
SUMMARY:Beyond 101: Practical Financial Planning for Different Life Phases (Part 1)
DESCRIPTION:Many financial resources teach terminology but then leave you wondering what to do next. This two-part webinar is built for practical decision-making around real-life “money moments\,” especially for those navigating caregiving\, career pauses\, and longer retirements. This first session covers two major life tracks\, partnering and parenting\, including beneficiary updates\, planning and tax opportunities\, parental leave or reduced work\, and the retirement vs. college savings trade-off. These sessions are designed to be practical and discussion-friendly so bring your questions!
URL:https://link.ucop.edu/event/beyond-101-practical-financial-planning-for-women-at-ucop-part-1/
END:VEVENT
BEGIN:VEVENT
DTSTART;TZID=America/Los_Angeles:20260416T120000
DTEND;TZID=America/Los_Angeles:20260416T130000
DTSTAMP:20260421T143849
CREATED:20250227T192226Z
LAST-MODIFIED:20250404T200724Z
UID:10012114-1776340800-1776344400@link.ucop.edu
SUMMARY:Latinx Staff Association Meeting
DESCRIPTION:Join the UCOP Latinx Staff Association (LaSA) for their monthly membership meeting\, typically held the third Thursday of each month from 12-1 p.m. (PT). \nJoin by Zoom: \nhttps://UCOP.zoom.us/j/93715068634\nMeeting ID: 937 1506 8634 \nFor questions\, contact Belinda Vea.
URL:https://link.ucop.edu/event/latino-staff-association-meeting-2/2026-04-16/
CATEGORIES:Employee Resource + Affinity Groups
ORGANIZER;CN="LaSA":MAILTO:belinda.vea@ucop.edu
END:VEVENT
END:VCALENDAR