BEGIN:VCALENDAR
VERSION:2.0
PRODID:-//Link: UCOP&#039;s e-newsletter - ECPv6.15.20//NONSGML v1.0//EN
CALSCALE:GREGORIAN
METHOD:PUBLISH
X-ORIGINAL-URL:https://link.ucop.edu
X-WR-CALDESC:Events for Link: UCOP&#039;s e-newsletter
REFRESH-INTERVAL;VALUE=DURATION:PT1H
X-Robots-Tag:noindex
X-PUBLISHED-TTL:PT1H
BEGIN:VTIMEZONE
TZID:America/Los_Angeles
BEGIN:STANDARD
TZOFFSETFROM:-0700
TZOFFSETTO:-0800
DTSTART:19701029T020000
RRULE:FREQ=YEARLY;BYMONTH=11;BYDAY=1SU
END:STANDARD
BEGIN:DAYLIGHT
DTSTART:19700402T020000
TZOFFSETFROM:-0800
TZOFFSETTO:-0700
RRULE:FREQ=YEARLY;BYMONTH=3;BYDAY=2SU
END:DAYLIGHT
END:VTIMEZONE
BEGIN:VTIMEZONE
TZID:America/Los_Angeles
BEGIN:DAYLIGHT
TZOFFSETFROM:-0800
TZOFFSETTO:-0700
TZNAME:PDT
DTSTART:20300310T100000
END:DAYLIGHT
BEGIN:STANDARD
TZOFFSETFROM:-0700
TZOFFSETTO:-0800
TZNAME:PST
DTSTART:20301103T090000
END:STANDARD
BEGIN:DAYLIGHT
TZOFFSETFROM:-0800
TZOFFSETTO:-0700
TZNAME:PDT
DTSTART:20310309T100000
END:DAYLIGHT
BEGIN:STANDARD
TZOFFSETFROM:-0700
TZOFFSETTO:-0800
TZNAME:PST
DTSTART:20311102T090000
END:STANDARD
BEGIN:DAYLIGHT
TZOFFSETFROM:-0800
TZOFFSETTO:-0700
TZNAME:PDT
DTSTART:20320314T100000
END:DAYLIGHT
BEGIN:STANDARD
TZOFFSETFROM:-0700
TZOFFSETTO:-0800
TZNAME:PST
DTSTART:20321107T090000
END:STANDARD
BEGIN:DAYLIGHT
TZOFFSETFROM:-0800
TZOFFSETTO:-0700
TZNAME:PDT
DTSTART:20330313T100000
END:DAYLIGHT
BEGIN:STANDARD
TZOFFSETFROM:-0700
TZOFFSETTO:-0800
TZNAME:PST
DTSTART:20331106T090000
END:STANDARD
END:VTIMEZONE
BEGIN:VEVENT
DTSTART;TZID=America/Los_Angeles:20310408T131000
DTEND;TZID=America/Los_Angeles:20310408T140000
DTSTAMP:20260423T185306
CREATED:20260401T202101Z
LAST-MODIFIED:20260401T202101Z
UID:10014733-1933420200-1933423200@link.ucop.edu
SUMMARY:UCOP Cascade Editor Working Group meeting
DESCRIPTION:The UCOP Cascade Editor Working Group is an advisory body of stakeholders\, primarily frequent Cascade CMS editors\, that will provide ucop.edu product stakeholders with direction\, scope and feedback regarding website improvements and support. Discussion topics for this group include: \n\nCascade CMS support resources and live tutorials\nWebsite accessibility\, brand and editorial best practices\nGoogle Analytics and Siteimprove reports\nQuestions from the group and much\, much more!\n\nAll UCOP.edu Cascade editors are invited to attend our Zoom meeting every second Tuesday of the month from 1:10 pm – 2:00 pm.
URL:https://link.ucop.edu/event/ucop-edu-editor-working-group-meeting-3-2-2/2031-04-08/
LOCATION:https://UCOP.zoom.us/my/michael.aires
END:VEVENT
BEGIN:VEVENT
DTSTART;TZID=America/Los_Angeles:20310417T120000
DTEND;TZID=America/Los_Angeles:20310417T130000
DTSTAMP:20260423T185306
CREATED:20250227T192226Z
LAST-MODIFIED:20250404T200724Z
UID:10012174-1934193600-1934197200@link.ucop.edu
SUMMARY:Latinx Staff Association Meeting
DESCRIPTION:Join the UCOP Latinx Staff Association (LaSA) for their monthly membership meeting\, typically held the third Thursday of each month from 12-1 p.m. (PT). \nJoin by Zoom: \nhttps://UCOP.zoom.us/j/93715068634\nMeeting ID: 937 1506 8634 \nFor questions\, contact Belinda Vea.
URL:https://link.ucop.edu/event/latino-staff-association-meeting-2/2031-04-17/
CATEGORIES:Employee Resource + Affinity Groups
ORGANIZER;CN="LaSA":MAILTO:belinda.vea@ucop.edu
END:VEVENT
BEGIN:VEVENT
DTSTART;TZID=America/Los_Angeles:20310515T120000
DTEND;TZID=America/Los_Angeles:20310515T130000
DTSTAMP:20260423T185306
CREATED:20250227T192226Z
LAST-MODIFIED:20250404T200724Z
UID:10012175-1936612800-1936616400@link.ucop.edu
SUMMARY:Latinx Staff Association Meeting
DESCRIPTION:Join the UCOP Latinx Staff Association (LaSA) for their monthly membership meeting\, typically held the third Thursday of each month from 12-1 p.m. (PT). \nJoin by Zoom: \nhttps://UCOP.zoom.us/j/93715068634\nMeeting ID: 937 1506 8634 \nFor questions\, contact Belinda Vea.
URL:https://link.ucop.edu/event/latino-staff-association-meeting-2/2031-05-15/
CATEGORIES:Employee Resource + Affinity Groups
ORGANIZER;CN="LaSA":MAILTO:belinda.vea@ucop.edu
END:VEVENT
BEGIN:VEVENT
DTSTART;TZID=America/Los_Angeles:20310619T120000
DTEND;TZID=America/Los_Angeles:20310619T130000
DTSTAMP:20260423T185306
CREATED:20250227T192226Z
LAST-MODIFIED:20250404T200724Z
UID:10012176-1939636800-1939640400@link.ucop.edu
SUMMARY:Latinx Staff Association Meeting
DESCRIPTION:Join the UCOP Latinx Staff Association (LaSA) for their monthly membership meeting\, typically held the third Thursday of each month from 12-1 p.m. (PT). \nJoin by Zoom: \nhttps://UCOP.zoom.us/j/93715068634\nMeeting ID: 937 1506 8634 \nFor questions\, contact Belinda Vea.
URL:https://link.ucop.edu/event/latino-staff-association-meeting-2/2031-06-19/
CATEGORIES:Employee Resource + Affinity Groups
ORGANIZER;CN="LaSA":MAILTO:belinda.vea@ucop.edu
END:VEVENT
BEGIN:VEVENT
DTSTART;TZID=America/Los_Angeles:20310717T120000
DTEND;TZID=America/Los_Angeles:20310717T130000
DTSTAMP:20260423T185306
CREATED:20250227T192226Z
LAST-MODIFIED:20250404T200724Z
UID:10012177-1942056000-1942059600@link.ucop.edu
SUMMARY:Latinx Staff Association Meeting
DESCRIPTION:Join the UCOP Latinx Staff Association (LaSA) for their monthly membership meeting\, typically held the third Thursday of each month from 12-1 p.m. (PT). \nJoin by Zoom: \nhttps://UCOP.zoom.us/j/93715068634\nMeeting ID: 937 1506 8634 \nFor questions\, contact Belinda Vea.
URL:https://link.ucop.edu/event/latino-staff-association-meeting-2/2031-07-17/
CATEGORIES:Employee Resource + Affinity Groups
ORGANIZER;CN="LaSA":MAILTO:belinda.vea@ucop.edu
END:VEVENT
BEGIN:VEVENT
DTSTART;TZID=America/Los_Angeles:20310821T120000
DTEND;TZID=America/Los_Angeles:20310821T130000
DTSTAMP:20260423T185306
CREATED:20250227T192226Z
LAST-MODIFIED:20250404T200724Z
UID:10012178-1945080000-1945083600@link.ucop.edu
SUMMARY:Latinx Staff Association Meeting
DESCRIPTION:Join the UCOP Latinx Staff Association (LaSA) for their monthly membership meeting\, typically held the third Thursday of each month from 12-1 p.m. (PT). \nJoin by Zoom: \nhttps://UCOP.zoom.us/j/93715068634\nMeeting ID: 937 1506 8634 \nFor questions\, contact Belinda Vea.
URL:https://link.ucop.edu/event/latino-staff-association-meeting-2/2031-08-21/
CATEGORIES:Employee Resource + Affinity Groups
ORGANIZER;CN="LaSA":MAILTO:belinda.vea@ucop.edu
END:VEVENT
BEGIN:VEVENT
DTSTART;TZID=America/Los_Angeles:20310918T120000
DTEND;TZID=America/Los_Angeles:20310918T130000
DTSTAMP:20260423T185306
CREATED:20250227T192226Z
LAST-MODIFIED:20250404T200724Z
UID:10012179-1947499200-1947502800@link.ucop.edu
SUMMARY:Latinx Staff Association Meeting
DESCRIPTION:Join the UCOP Latinx Staff Association (LaSA) for their monthly membership meeting\, typically held the third Thursday of each month from 12-1 p.m. (PT). \nJoin by Zoom: \nhttps://UCOP.zoom.us/j/93715068634\nMeeting ID: 937 1506 8634 \nFor questions\, contact Belinda Vea.
URL:https://link.ucop.edu/event/latino-staff-association-meeting-2/2031-09-18/
CATEGORIES:Employee Resource + Affinity Groups
ORGANIZER;CN="LaSA":MAILTO:belinda.vea@ucop.edu
END:VEVENT
BEGIN:VEVENT
DTSTART;TZID=America/Los_Angeles:20311016T120000
DTEND;TZID=America/Los_Angeles:20311016T130000
DTSTAMP:20260423T185306
CREATED:20250227T192226Z
LAST-MODIFIED:20250404T200724Z
UID:10012180-1949918400-1949922000@link.ucop.edu
SUMMARY:Latinx Staff Association Meeting
DESCRIPTION:Join the UCOP Latinx Staff Association (LaSA) for their monthly membership meeting\, typically held the third Thursday of each month from 12-1 p.m. (PT). \nJoin by Zoom: \nhttps://UCOP.zoom.us/j/93715068634\nMeeting ID: 937 1506 8634 \nFor questions\, contact Belinda Vea.
URL:https://link.ucop.edu/event/latino-staff-association-meeting-2/2031-10-16/
CATEGORIES:Employee Resource + Affinity Groups
ORGANIZER;CN="LaSA":MAILTO:belinda.vea@ucop.edu
END:VEVENT
BEGIN:VEVENT
DTSTART;TZID=America/Los_Angeles:20311120T120000
DTEND;TZID=America/Los_Angeles:20311120T130000
DTSTAMP:20260423T185306
CREATED:20250227T192226Z
LAST-MODIFIED:20250404T200724Z
UID:10012181-1952942400-1952946000@link.ucop.edu
SUMMARY:Latinx Staff Association Meeting
DESCRIPTION:Join the UCOP Latinx Staff Association (LaSA) for their monthly membership meeting\, typically held the third Thursday of each month from 12-1 p.m. (PT). \nJoin by Zoom: \nhttps://UCOP.zoom.us/j/93715068634\nMeeting ID: 937 1506 8634 \nFor questions\, contact Belinda Vea.
URL:https://link.ucop.edu/event/latino-staff-association-meeting-2/2031-11-20/
CATEGORIES:Employee Resource + Affinity Groups
ORGANIZER;CN="LaSA":MAILTO:belinda.vea@ucop.edu
END:VEVENT
BEGIN:VEVENT
DTSTART;TZID=America/Los_Angeles:20311218T120000
DTEND;TZID=America/Los_Angeles:20311218T130000
DTSTAMP:20260423T185306
CREATED:20250227T192226Z
LAST-MODIFIED:20250404T200724Z
UID:10012182-1955361600-1955365200@link.ucop.edu
SUMMARY:Latinx Staff Association Meeting
DESCRIPTION:Join the UCOP Latinx Staff Association (LaSA) for their monthly membership meeting\, typically held the third Thursday of each month from 12-1 p.m. (PT). \nJoin by Zoom: \nhttps://UCOP.zoom.us/j/93715068634\nMeeting ID: 937 1506 8634 \nFor questions\, contact Belinda Vea.
URL:https://link.ucop.edu/event/latino-staff-association-meeting-2/2031-12-18/
CATEGORIES:Employee Resource + Affinity Groups
ORGANIZER;CN="LaSA":MAILTO:belinda.vea@ucop.edu
END:VEVENT
BEGIN:VEVENT
DTSTART;TZID=America/Los_Angeles:20320115T120000
DTEND;TZID=America/Los_Angeles:20320115T130000
DTSTAMP:20260423T185306
CREATED:20250227T192226Z
LAST-MODIFIED:20250404T200724Z
UID:10012183-1957780800-1957784400@link.ucop.edu
SUMMARY:Latinx Staff Association Meeting
DESCRIPTION:Join the UCOP Latinx Staff Association (LaSA) for their monthly membership meeting\, typically held the third Thursday of each month from 12-1 p.m. (PT). \nJoin by Zoom: \nhttps://UCOP.zoom.us/j/93715068634\nMeeting ID: 937 1506 8634 \nFor questions\, contact Belinda Vea.
URL:https://link.ucop.edu/event/latino-staff-association-meeting-2/2032-01-15/
CATEGORIES:Employee Resource + Affinity Groups
ORGANIZER;CN="LaSA":MAILTO:belinda.vea@ucop.edu
END:VEVENT
BEGIN:VEVENT
DTSTART;TZID=America/Los_Angeles:20320219T120000
DTEND;TZID=America/Los_Angeles:20320219T130000
DTSTAMP:20260423T185306
CREATED:20250227T192226Z
LAST-MODIFIED:20250404T200724Z
UID:10012184-1960804800-1960808400@link.ucop.edu
SUMMARY:Latinx Staff Association Meeting
DESCRIPTION:Join the UCOP Latinx Staff Association (LaSA) for their monthly membership meeting\, typically held the third Thursday of each month from 12-1 p.m. (PT). \nJoin by Zoom: \nhttps://UCOP.zoom.us/j/93715068634\nMeeting ID: 937 1506 8634 \nFor questions\, contact Belinda Vea.
URL:https://link.ucop.edu/event/latino-staff-association-meeting-2/2032-02-19/
CATEGORIES:Employee Resource + Affinity Groups
ORGANIZER;CN="LaSA":MAILTO:belinda.vea@ucop.edu
END:VEVENT
BEGIN:VEVENT
DTSTART;TZID=America/Los_Angeles:20320318T120000
DTEND;TZID=America/Los_Angeles:20320318T130000
DTSTAMP:20260423T185306
CREATED:20250227T192226Z
LAST-MODIFIED:20250404T200724Z
UID:10012185-1963224000-1963227600@link.ucop.edu
SUMMARY:Latinx Staff Association Meeting
DESCRIPTION:Join the UCOP Latinx Staff Association (LaSA) for their monthly membership meeting\, typically held the third Thursday of each month from 12-1 p.m. (PT). \nJoin by Zoom: \nhttps://UCOP.zoom.us/j/93715068634\nMeeting ID: 937 1506 8634 \nFor questions\, contact Belinda Vea.
URL:https://link.ucop.edu/event/latino-staff-association-meeting-2/2032-03-18/
CATEGORIES:Employee Resource + Affinity Groups
ORGANIZER;CN="LaSA":MAILTO:belinda.vea@ucop.edu
END:VEVENT
BEGIN:VEVENT
DTSTART;TZID=America/Los_Angeles:20320415T120000
DTEND;TZID=America/Los_Angeles:20320415T130000
DTSTAMP:20260423T185306
CREATED:20250227T192226Z
LAST-MODIFIED:20250404T200724Z
UID:10012186-1965643200-1965646800@link.ucop.edu
SUMMARY:Latinx Staff Association Meeting
DESCRIPTION:Join the UCOP Latinx Staff Association (LaSA) for their monthly membership meeting\, typically held the third Thursday of each month from 12-1 p.m. (PT). \nJoin by Zoom: \nhttps://UCOP.zoom.us/j/93715068634\nMeeting ID: 937 1506 8634 \nFor questions\, contact Belinda Vea.
URL:https://link.ucop.edu/event/latino-staff-association-meeting-2/2032-04-15/
CATEGORIES:Employee Resource + Affinity Groups
ORGANIZER;CN="LaSA":MAILTO:belinda.vea@ucop.edu
END:VEVENT
BEGIN:VEVENT
DTSTART;TZID=America/Los_Angeles:20320520T120000
DTEND;TZID=America/Los_Angeles:20320520T130000
DTSTAMP:20260423T185306
CREATED:20250227T192226Z
LAST-MODIFIED:20250404T200724Z
UID:10012187-1968667200-1968670800@link.ucop.edu
SUMMARY:Latinx Staff Association Meeting
DESCRIPTION:Join the UCOP Latinx Staff Association (LaSA) for their monthly membership meeting\, typically held the third Thursday of each month from 12-1 p.m. (PT). \nJoin by Zoom: \nhttps://UCOP.zoom.us/j/93715068634\nMeeting ID: 937 1506 8634 \nFor questions\, contact Belinda Vea.
URL:https://link.ucop.edu/event/latino-staff-association-meeting-2/2032-05-20/
CATEGORIES:Employee Resource + Affinity Groups
ORGANIZER;CN="LaSA":MAILTO:belinda.vea@ucop.edu
END:VEVENT
BEGIN:VEVENT
DTSTART;TZID=America/Los_Angeles:20320617T120000
DTEND;TZID=America/Los_Angeles:20320617T130000
DTSTAMP:20260423T185306
CREATED:20250227T192226Z
LAST-MODIFIED:20250404T200724Z
UID:10012188-1971086400-1971090000@link.ucop.edu
SUMMARY:Latinx Staff Association Meeting
DESCRIPTION:Join the UCOP Latinx Staff Association (LaSA) for their monthly membership meeting\, typically held the third Thursday of each month from 12-1 p.m. (PT). \nJoin by Zoom: \nhttps://UCOP.zoom.us/j/93715068634\nMeeting ID: 937 1506 8634 \nFor questions\, contact Belinda Vea.
URL:https://link.ucop.edu/event/latino-staff-association-meeting-2/2032-06-17/
CATEGORIES:Employee Resource + Affinity Groups
ORGANIZER;CN="LaSA":MAILTO:belinda.vea@ucop.edu
END:VEVENT
BEGIN:VEVENT
DTSTART;TZID=America/Los_Angeles:20320715T120000
DTEND;TZID=America/Los_Angeles:20320715T130000
DTSTAMP:20260423T185306
CREATED:20250227T192226Z
LAST-MODIFIED:20250404T200724Z
UID:10012189-1973505600-1973509200@link.ucop.edu
SUMMARY:Latinx Staff Association Meeting
DESCRIPTION:Join the UCOP Latinx Staff Association (LaSA) for their monthly membership meeting\, typically held the third Thursday of each month from 12-1 p.m. (PT). \nJoin by Zoom: \nhttps://UCOP.zoom.us/j/93715068634\nMeeting ID: 937 1506 8634 \nFor questions\, contact Belinda Vea.
URL:https://link.ucop.edu/event/latino-staff-association-meeting-2/2032-07-15/
CATEGORIES:Employee Resource + Affinity Groups
ORGANIZER;CN="LaSA":MAILTO:belinda.vea@ucop.edu
END:VEVENT
BEGIN:VEVENT
DTSTART;TZID=America/Los_Angeles:20320819T120000
DTEND;TZID=America/Los_Angeles:20320819T130000
DTSTAMP:20260423T185306
CREATED:20250227T192226Z
LAST-MODIFIED:20250404T200724Z
UID:10012190-1976529600-1976533200@link.ucop.edu
SUMMARY:Latinx Staff Association Meeting
DESCRIPTION:Join the UCOP Latinx Staff Association (LaSA) for their monthly membership meeting\, typically held the third Thursday of each month from 12-1 p.m. (PT). \nJoin by Zoom: \nhttps://UCOP.zoom.us/j/93715068634\nMeeting ID: 937 1506 8634 \nFor questions\, contact Belinda Vea.
URL:https://link.ucop.edu/event/latino-staff-association-meeting-2/2032-08-19/
CATEGORIES:Employee Resource + Affinity Groups
ORGANIZER;CN="LaSA":MAILTO:belinda.vea@ucop.edu
END:VEVENT
BEGIN:VEVENT
DTSTART;TZID=America/Los_Angeles:20320916T120000
DTEND;TZID=America/Los_Angeles:20320916T130000
DTSTAMP:20260423T185306
CREATED:20250227T192226Z
LAST-MODIFIED:20250404T200724Z
UID:10012191-1978948800-1978952400@link.ucop.edu
SUMMARY:Latinx Staff Association Meeting
DESCRIPTION:Join the UCOP Latinx Staff Association (LaSA) for their monthly membership meeting\, typically held the third Thursday of each month from 12-1 p.m. (PT). \nJoin by Zoom: \nhttps://UCOP.zoom.us/j/93715068634\nMeeting ID: 937 1506 8634 \nFor questions\, contact Belinda Vea.
URL:https://link.ucop.edu/event/latino-staff-association-meeting-2/2032-09-16/
CATEGORIES:Employee Resource + Affinity Groups
ORGANIZER;CN="LaSA":MAILTO:belinda.vea@ucop.edu
END:VEVENT
BEGIN:VEVENT
DTSTART;TZID=America/Los_Angeles:20321021T120000
DTEND;TZID=America/Los_Angeles:20321021T130000
DTSTAMP:20260423T185306
CREATED:20250227T192226Z
LAST-MODIFIED:20250404T200724Z
UID:10012192-1981972800-1981976400@link.ucop.edu
SUMMARY:Latinx Staff Association Meeting
DESCRIPTION:Join the UCOP Latinx Staff Association (LaSA) for their monthly membership meeting\, typically held the third Thursday of each month from 12-1 p.m. (PT). \nJoin by Zoom: \nhttps://UCOP.zoom.us/j/93715068634\nMeeting ID: 937 1506 8634 \nFor questions\, contact Belinda Vea.
URL:https://link.ucop.edu/event/latino-staff-association-meeting-2/2032-10-21/
CATEGORIES:Employee Resource + Affinity Groups
ORGANIZER;CN="LaSA":MAILTO:belinda.vea@ucop.edu
END:VEVENT
END:VCALENDAR