BEGIN:VCALENDAR
VERSION:2.0
PRODID:-//Link: UCOP&#039;s e-newsletter - ECPv6.15.19//NONSGML v1.0//EN
CALSCALE:GREGORIAN
METHOD:PUBLISH
X-ORIGINAL-URL:https://link.ucop.edu
X-WR-CALDESC:Events for Link: UCOP&#039;s e-newsletter
REFRESH-INTERVAL;VALUE=DURATION:PT1H
X-Robots-Tag:noindex
X-PUBLISHED-TTL:PT1H
BEGIN:VTIMEZONE
TZID:America/Los_Angeles
BEGIN:STANDARD
TZOFFSETFROM:-0700
TZOFFSETTO:-0800
DTSTART:19701029T020000
RRULE:FREQ=YEARLY;BYMONTH=11;BYDAY=1SU
END:STANDARD
BEGIN:DAYLIGHT
DTSTART:19700402T020000
TZOFFSETFROM:-0800
TZOFFSETTO:-0700
RRULE:FREQ=YEARLY;BYMONTH=3;BYDAY=2SU
END:DAYLIGHT
END:VTIMEZONE
BEGIN:VTIMEZONE
TZID:America/Los_Angeles
BEGIN:DAYLIGHT
TZOFFSETFROM:-0800
TZOFFSETTO:-0700
TZNAME:PDT
DTSTART:20200308T100000
END:DAYLIGHT
BEGIN:STANDARD
TZOFFSETFROM:-0700
TZOFFSETTO:-0800
TZNAME:PST
DTSTART:20201101T090000
END:STANDARD
BEGIN:DAYLIGHT
TZOFFSETFROM:-0800
TZOFFSETTO:-0700
TZNAME:PDT
DTSTART:20210314T100000
END:DAYLIGHT
BEGIN:STANDARD
TZOFFSETFROM:-0700
TZOFFSETTO:-0800
TZNAME:PST
DTSTART:20211107T090000
END:STANDARD
BEGIN:DAYLIGHT
TZOFFSETFROM:-0800
TZOFFSETTO:-0700
TZNAME:PDT
DTSTART:20220313T100000
END:DAYLIGHT
BEGIN:STANDARD
TZOFFSETFROM:-0700
TZOFFSETTO:-0800
TZNAME:PST
DTSTART:20221106T090000
END:STANDARD
END:VTIMEZONE
BEGIN:VEVENT
DTSTART;TZID=America/Los_Angeles:20210127T093000
DTEND;TZID=America/Los_Angeles:20210127T110000
DTSTAMP:20260423T043420
CREATED:20201125T194814Z
LAST-MODIFIED:20201125T194814Z
UID:10008520-1611739800-1611745200@link.ucop.edu
SUMMARY:Accomplishing More With Less - Session 2 of 3
DESCRIPTION:Bombarded by information? Persistently interrupted and side-tracked? Always juggling competing and changing priorities? Frustrated with digital overload? This fun and engaging series of 3 workshops\, facilitated by “People on the Go\,” gives breakthrough techniques for difficult time and productivity challenges.
URL:https://link.ucop.edu/event/accomplishing-more-with-less-session-2-of-3/
END:VEVENT
BEGIN:VEVENT
DTSTART;TZID=America/Los_Angeles:20210127T090000
DTEND;TZID=America/Los_Angeles:20210127T100000
DTSTAMP:20260423T043420
CREATED:20201215T225831Z
LAST-MODIFIED:20201215T225849Z
UID:10008593-1611738000-1611741600@link.ucop.edu
SUMMARY:STEP Checkpoints Training for Employee (Optional)
DESCRIPTION:In this instructor led training for employees on the new Staff Talent Evaluation Process (STEP)\, we will expand on the materials presented in the required ecourses on Checkpoints. Participants will go deeper into preparation\, examples\, and how to engage in a two way dialogue with your manager around your performance.
URL:https://link.ucop.edu/event/step-checkpoints-training-for-employee-optional/
END:VEVENT
BEGIN:VEVENT
DTSTART;TZID=America/Los_Angeles:20210126T103000
DTEND;TZID=America/Los_Angeles:20210126T120000
DTSTAMP:20260423T043420
CREATED:20210120T221926Z
LAST-MODIFIED:20210120T221926Z
UID:10008622-1611657000-1611662400@link.ucop.edu
SUMMARY:Coaching Lab:  Feedback Practice For Managers
DESCRIPTION:This interactive session for managers and supervisors provides an opportunity to practice strategies for giving feedback with a coaching lens. Come with a real-life example to practice with your peers. Note: All required STEP ecourses must be taken prior to this class
URL:https://link.ucop.edu/event/coaching-lab-feedback-practice-for-managers-3/
END:VEVENT
BEGIN:VEVENT
DTSTART;TZID=America/Los_Angeles:20210122T180000
DTEND;TZID=America/Los_Angeles:20210122T193000
DTSTAMP:20260423T043420
CREATED:20210119T211112Z
LAST-MODIFIED:20210119T211407Z
UID:10007244-1611338400-1611343800@link.ucop.edu
SUMMARY:Staff Assembly Bingo
DESCRIPTION:Staff from all UCOP locations are invited to join colleagues from UC Santa Barbara\, UC Riverside and UCSF for fun bingo games this Friday\, Jan. 22! \nJoin us for one of two games: \n\nMatinee session\, 12-1 p.m. (PT)\nEvening session\, 6-7:30 p.m. (PT)\n\nRegister online here by Thursday\, Jan. 20\, at 5 p.m. (PT)\nBingo instructions and rules will be provided to each participant prior to Friday’s games. \nFor questions\, please contact Stacey.Mcclain@ucop.edu or Trish.Dolan@ucop.edu.
URL:https://link.ucop.edu/event/youre-invited-to-play-bingo-on-friday/2021-01-22/2/
END:VEVENT
BEGIN:VEVENT
DTSTART;TZID=America/Los_Angeles:20210122T120000
DTEND;TZID=America/Los_Angeles:20210122T130000
DTSTAMP:20260423T043420
CREATED:20210119T211112Z
LAST-MODIFIED:20210119T211407Z
UID:10007243-1611316800-1611320400@link.ucop.edu
SUMMARY:Staff Assembly Bingo
DESCRIPTION:Staff from all UCOP locations are invited to join colleagues from UC Santa Barbara\, UC Riverside and UCSF for fun bingo games this Friday\, Jan. 22! \nJoin us for one of two games: \n\nMatinee session\, 12-1 p.m. (PT)\nEvening session\, 6-7:30 p.m. (PT)\n\nRegister online here by Thursday\, Jan. 20\, at 5 p.m. (PT)\nBingo instructions and rules will be provided to each participant prior to Friday’s games. \nFor questions\, please contact Stacey.Mcclain@ucop.edu or Trish.Dolan@ucop.edu.
URL:https://link.ucop.edu/event/youre-invited-to-play-bingo-on-friday/2021-01-22/1/
END:VEVENT
BEGIN:VEVENT
DTSTART;TZID=America/Los_Angeles:20210122T090000
DTEND;TZID=America/Los_Angeles:20210122T120000
DTSTAMP:20260423T043420
CREATED:20201212T002727Z
LAST-MODIFIED:20201212T002727Z
UID:10008530-1611306000-1611316800@link.ucop.edu
SUMMARY:Smartsheet Fundamentals - Session 2 of 2
DESCRIPTION:This two-part class is designed for newer users who wish to gain a foundational understanding of the Smartsheet collaboration tool. Learn how Smartsheet can track projects and information to improve teamwork. Smartsheet licenses are available to all UCOP employees.
URL:https://link.ucop.edu/event/smartsheet-fundamentals-session-2-of-2/
END:VEVENT
BEGIN:VEVENT
DTSTART;TZID=America/Los_Angeles:20210121T120000
DTEND;TZID=America/Los_Angeles:20210121T130000
DTSTAMP:20260423T043420
CREATED:20210112T164821Z
LAST-MODIFIED:20210112T164821Z
UID:10007232-1611230400-1611234000@link.ucop.edu
SUMMARY:Handling difficult conversations at work
DESCRIPTION:This webinar will feature a panel of UC alumni providing guidance on addressing difficult conversations so that all voices are valued. No matter where you sit within your organization\, from managerial roles to entry-level staff\, our panelists will offer advice on how to handle challenging topics\, acknowledge cultural differences in communication styles\, and identify helpful techniques to maximize your workplace communications.  We invite you to join us for this important discussion.  Register to join live or to receive a link to the webinar recording.
URL:https://link.ucop.edu/event/handling-difficult-conversations-at-work/
END:VEVENT
BEGIN:VEVENT
DTSTART;TZID=America/Los_Angeles:20210121T113000
DTEND;TZID=America/Los_Angeles:20210121T130000
DTSTAMP:20260423T043420
CREATED:20201125T194457Z
LAST-MODIFIED:20201125T194457Z
UID:10007216-1611228600-1611234000@link.ucop.edu
SUMMARY:Managing and Organizing Your Outlook Inbox
DESCRIPTION:Are you trying to get more organized in the new year? Learn skills for e-mail management strategies to transform e-mail into a productivity tool that can help you succeed.
URL:https://link.ucop.edu/event/managing-and-organizing-your-outlook-inbox/
END:VEVENT
BEGIN:VEVENT
DTSTART;TZID=America/Los_Angeles:20210121T090000
DTEND;TZID=America/Los_Angeles:20210121T120000
DTSTAMP:20260423T043420
CREATED:20201212T002641Z
LAST-MODIFIED:20201212T002641Z
UID:10008528-1611219600-1611230400@link.ucop.edu
SUMMARY:Smartsheet Fundamentals - Session 1 of 2
DESCRIPTION:This two-part class is designed for newer users who wish to gain a foundational understanding of the Smartsheet collaboration tool. Learn how Smartsheet can track projects and information to improve teamwork. Smartsheet licenses are available to all UCOP employees.
URL:https://link.ucop.edu/event/smartsheet-fundamentals-session-1-of-2/
END:VEVENT
BEGIN:VEVENT
DTSTART;TZID=America/Los_Angeles:20210120T093000
DTEND;TZID=America/Los_Angeles:20210120T110000
DTSTAMP:20260423T043420
CREATED:20201125T195223Z
LAST-MODIFIED:20201125T195223Z
UID:10008522-1611135000-1611140400@link.ucop.edu
SUMMARY:Accomplishing More With Less - Session 1 of 3
DESCRIPTION:Bombarded by information? Persistently interrupted and side-tracked? Always juggling competing and changing priorities? Frustrated with digital overload? This fun and engaging series of 3 workshops\, facilitated by “People on the Go\,” gives breakthrough techniques for difficult time and productivity challenges.
URL:https://link.ucop.edu/event/accomplishing-more-with-less-session-1-of-3/
END:VEVENT
BEGIN:VEVENT
DTSTART;TZID=America/Los_Angeles:20210120T090000
DTEND;TZID=America/Los_Angeles:20210120T093000
DTSTAMP:20260423T043420
CREATED:20210107T005227Z
LAST-MODIFIED:20210107T005227Z
UID:10008603-1611133200-1611135000@link.ucop.edu
SUMMARY:Aspiring Leader Development Program Information Session
DESCRIPTION:Come learn about the new UCOP Aspiring Leadership Development Program experiential professional development program offered to UCOP staff who are interested in exploring leadership roles and career development. The purpose is to provide UCOP employees opportunities to learn these leadership skills without having a formal leadership position. You’ll take 5 workshops (1 per week for 4 weeks in March\, then a practice intensive 3 months later).  Applications are due on February 16.  Contact annie.prozan@ucop.edu for questions
URL:https://link.ucop.edu/event/aspiring-leader-development-program-information-session-2/
END:VEVENT
BEGIN:VEVENT
DTSTART;TZID=America/Los_Angeles:20210119T113000
DTEND;TZID=America/Los_Angeles:20210119T133000
DTSTAMP:20260423T043420
CREATED:20201125T194847Z
LAST-MODIFIED:20201125T194847Z
UID:10008521-1611055800-1611063000@link.ucop.edu
SUMMARY:Remarkable Remote Worker
DESCRIPTION:The Remarkable Remote Worker online live training is intended to help you be most effective at working remotely and/or managing remote workers with skills ranging from managing stress\, increasing focus\, managing competing priorities\, collaborating more effectively with others\, and more.
URL:https://link.ucop.edu/event/remarkable-remote-worker/
END:VEVENT
BEGIN:VEVENT
DTSTART;TZID=America/Los_Angeles:20210115T140000
DTEND;TZID=America/Los_Angeles:20210115T153000
DTSTAMP:20260423T043420
CREATED:20210114T222242Z
LAST-MODIFIED:20210114T222242Z
UID:10007241-1610719200-1610724600@link.ucop.edu
SUMMARY:BSFO Reclaiming the Dream - Honoring Dr. Martin Luther King
DESCRIPTION:Join BSFO as we honor the legacy and birthday of Dr. Martin Luther King Jr. by reciting the words of his iconic “I Have A Dream Speech” this Friday\, January 15th.  We have scheduled two (morning & afternoon) sessions to accommodate everyone’s calendars. Each participant will be assigned a portion of the speech to read. There are 66 slots. Sign up now at: https://doodle.com/poll/c7egb46xttqu5p85?utm_source=poll&utm_medium=link. Please share this invitation with your colleagues. \nLet’s reclaim his dream by raising our voices together to put Dr. King’s message of love\, justice and unity out into the universe. \n\nDate: Friday\, January 15\, 2021 \nTimes: 10:00-11:30am & 2:00-3:30pm \nZoom: https://UCOP.zoom.us/j/96717381457?pwd=Zzg0SUs1M1AvZDZoQTBmZy85VEE3dz09 \nMeeting ID: 967 1738 1457 \nPasscode: 488354 \n 
URL:https://link.ucop.edu/event/bsfo-reclaiming-the-dream-honoring-dr-martin-luther-king/2021-01-15/2/
LOCATION:Zoom
END:VEVENT
BEGIN:VEVENT
DTSTART;TZID=America/Los_Angeles:20210115T120000
DTEND;TZID=America/Los_Angeles:20210115T130000
DTSTAMP:20260423T043420
CREATED:20210112T212102Z
LAST-MODIFIED:20210112T212102Z
UID:10007238-1610712000-1610715600@link.ucop.edu
SUMMARY:Brown Bag Event with Author Amy Nickerson
DESCRIPTION:Please join Graduate\, Undergraduate and Equity Affairs for a talk by Amy Nickerson\, author of “How Do You See Us? Our Lived Realities of Being Viewed As a Threat.” The book explores the impact of policing on African Americans and on communities of color\, through the lens of her family’s problematic experiences with law enforcement. Nickerson and her husband\, former NFL player and coach Hardy Nickerson\, are UC Berkeley alumni. Their three children are also Cal graduates. \n\nDate: Friday\, January 15\, 2021\nTime: Noon–1 p.m.\nRegistration: https://ucop.zoom.us/webinar/register/WN_BGa4ccKKQJ-B73PpNotBnw\n\nGUEA will be giving away copies of Nickerson’s book after the event. All registrants will be automatically entered into the drawing. \nFor more information\, please visit the Link article about the event or email fatima.azam@ucop.edu.
URL:https://link.ucop.edu/event/brown-bag-event-with-author-amy-nickerson/
END:VEVENT
BEGIN:VEVENT
DTSTART;TZID=America/Los_Angeles:20210115T100000
DTEND;TZID=America/Los_Angeles:20210115T113000
DTSTAMP:20260423T043420
CREATED:20210114T222242Z
LAST-MODIFIED:20210114T222242Z
UID:10007240-1610704800-1610710200@link.ucop.edu
SUMMARY:BSFO Reclaiming the Dream - Honoring Dr. Martin Luther King
DESCRIPTION:Join BSFO as we honor the legacy and birthday of Dr. Martin Luther King Jr. by reciting the words of his iconic “I Have A Dream Speech” this Friday\, January 15th.  We have scheduled two (morning & afternoon) sessions to accommodate everyone’s calendars. Each participant will be assigned a portion of the speech to read. There are 66 slots. Sign up now at: https://doodle.com/poll/c7egb46xttqu5p85?utm_source=poll&utm_medium=link. Please share this invitation with your colleagues. \nLet’s reclaim his dream by raising our voices together to put Dr. King’s message of love\, justice and unity out into the universe. \n\nDate: Friday\, January 15\, 2021 \nTimes: 10:00-11:30am & 2:00-3:30pm \nZoom: https://UCOP.zoom.us/j/96717381457?pwd=Zzg0SUs1M1AvZDZoQTBmZy85VEE3dz09 \nMeeting ID: 967 1738 1457 \nPasscode: 488354 \n 
URL:https://link.ucop.edu/event/bsfo-reclaiming-the-dream-honoring-dr-martin-luther-king/2021-01-15/1/
LOCATION:Zoom
END:VEVENT
BEGIN:VEVENT
DTSTART;TZID=America/Los_Angeles:20210114T113000
DTEND;TZID=America/Los_Angeles:20210114T120000
DTSTAMP:20260423T043420
CREATED:20210107T005111Z
LAST-MODIFIED:20210107T005111Z
UID:10008601-1610623800-1610625600@link.ucop.edu
SUMMARY:Aspiring Leader Development Program Information Session
DESCRIPTION:Come learn about the new UCOP Aspiring Leadership Development Program experiential professional development program offered to UCOP staff who are interested in exploring leadership roles and career development. The purpose is to provide UCOP employees opportunities to learn these leadership skills without having a formal leadership position. You’ll take 5 workshops (1 per week for 4 weeks in March\, then a practice intensive 3 months later).  Applications are due on February 16.  Contact annie.prozan@ucop.edu for questions
URL:https://link.ucop.edu/event/aspiring-leader-development-program-information-session/
END:VEVENT
END:VCALENDAR