BEGIN:VCALENDAR
VERSION:2.0
PRODID:-//Link: UCOP&#039;s e-newsletter - ECPv6.15.20//NONSGML v1.0//EN
CALSCALE:GREGORIAN
METHOD:PUBLISH
X-ORIGINAL-URL:https://link.ucop.edu
X-WR-CALDESC:Events for Link: UCOP&#039;s e-newsletter
REFRESH-INTERVAL;VALUE=DURATION:PT1H
X-Robots-Tag:noindex
X-PUBLISHED-TTL:PT1H
BEGIN:VTIMEZONE
TZID:America/Los_Angeles
BEGIN:STANDARD
TZOFFSETFROM:-0700
TZOFFSETTO:-0800
DTSTART:19701029T020000
RRULE:FREQ=YEARLY;BYMONTH=11;BYDAY=1SU
END:STANDARD
BEGIN:DAYLIGHT
DTSTART:19700402T020000
TZOFFSETFROM:-0800
TZOFFSETTO:-0700
RRULE:FREQ=YEARLY;BYMONTH=3;BYDAY=2SU
END:DAYLIGHT
END:VTIMEZONE
BEGIN:VTIMEZONE
TZID:America/Los_Angeles
BEGIN:DAYLIGHT
TZOFFSETFROM:-0800
TZOFFSETTO:-0700
TZNAME:PDT
DTSTART:20220313T100000
END:DAYLIGHT
BEGIN:STANDARD
TZOFFSETFROM:-0700
TZOFFSETTO:-0800
TZNAME:PST
DTSTART:20221106T090000
END:STANDARD
BEGIN:DAYLIGHT
TZOFFSETFROM:-0800
TZOFFSETTO:-0700
TZNAME:PDT
DTSTART:20230312T100000
END:DAYLIGHT
BEGIN:STANDARD
TZOFFSETFROM:-0700
TZOFFSETTO:-0800
TZNAME:PST
DTSTART:20231105T090000
END:STANDARD
BEGIN:DAYLIGHT
TZOFFSETFROM:-0800
TZOFFSETTO:-0700
TZNAME:PDT
DTSTART:20240310T100000
END:DAYLIGHT
BEGIN:STANDARD
TZOFFSETFROM:-0700
TZOFFSETTO:-0800
TZNAME:PST
DTSTART:20241103T090000
END:STANDARD
BEGIN:DAYLIGHT
TZOFFSETFROM:-0800
TZOFFSETTO:-0700
TZNAME:PDT
DTSTART:20250309T100000
END:DAYLIGHT
BEGIN:STANDARD
TZOFFSETFROM:-0700
TZOFFSETTO:-0800
TZNAME:PST
DTSTART:20251102T090000
END:STANDARD
END:VTIMEZONE
BEGIN:VEVENT
DTSTART;TZID=America/Los_Angeles:20231206T130000
DTEND;TZID=America/Los_Angeles:20231206T143000
DTSTAMP:20260423T161246
CREATED:20231107T175800Z
LAST-MODIFIED:20231109T002415Z
UID:10009931-1701867600-1701873000@link.ucop.edu
SUMMARY:UCOP Creating Accessible Documents
DESCRIPTION:In this two-part training we will provide you with all the information you need to create accessible Word\, PowerPoint\, Excel\, and PDF documents. The first session will focus on the principles of accessibility\, how to generate accessible Microsoft Office documents\, and how to export these to PDF. The second session will focus on Adobe Acrobat and how to edit or enhance accessibility within a PDF file. We will be remediating a Word document during session one and a PDF during session two. While sample documents will be provided\, please feel free to bring your own documents to practice on. \nParticipants must attend both sessions: \n\nWednesday\, December 6 | 1-2:30pm PT\nWednesday\, December 13 | 1-2:30pm PT
URL:https://link.ucop.edu/event/ucop-creating-accessible-documents-2/2023-12-06/
END:VEVENT
BEGIN:VEVENT
DTSTART;TZID=America/Los_Angeles:20231206T133000
DTEND;TZID=America/Los_Angeles:20231206T140000
DTSTAMP:20260423T161246
CREATED:20230711T104403Z
LAST-MODIFIED:20231121T183515Z
UID:10008349-1701869400-1701871200@link.ucop.edu
SUMMARY:Oakland Zoom Room Training
DESCRIPTION:Get in-person training on how to use enhanced Zoom rooms at UCOP. Each room features a software-based\, integrated experience for audio conferencing\, wireless screen sharing and video conferencing. Rooms allow users to join and host Zoom meetings without logging into a PC or dialing a phone. \nAdvanced registration is not necessary. Join us in Franklin 5322 from 1:30 – 2 p.m.
URL:https://link.ucop.edu/event/oakland-zoom-room-training-2023-11-21/
LOCATION:Broadway 5070
CATEGORIES:Training
END:VEVENT
BEGIN:VEVENT
DTSTART;TZID=America/Los_Angeles:20231208T120000
DTEND;TZID=America/Los_Angeles:20231208T130000
DTSTAMP:20260423T161246
CREATED:20231128T143909Z
LAST-MODIFIED:20240112T180055Z
UID:10009951-1702036800-1702040400@link.ucop.edu
SUMMARY:Staff Assembly Virtual Bingo
DESCRIPTION:The OP Staff Assembly invites all staff to attend virtual bingo with colleagues from all UCOP locations\, as well as UC Berkeley\, UCLA\, UC Riverside\, UC Santa Barbara and UCSF. This month\, we’ll meet UC Riverside Staff Assembly’s Director of Finance Penni Ebina and another special guest board members. There will be two virtual sessions: Matinee\, from 12 – 1 p.m. (PT)\, and evening\, from 6 – 7:30 p.m. (PT). The registration deadline is 5 p.m. (PT) the day before the event. Instructions and rules will be sent to each participant before the game. Zoom rooms will open 10 minutes before each session. \nRegister online here: https://forms.gle/Dn3gKLfVXerpNyg49
URL:https://link.ucop.edu/event/staff-assembly-virtual-bingo-4/
END:VEVENT
BEGIN:VEVENT
DTSTART;TZID=America/Los_Angeles:20231208T130000
DTEND;TZID=America/Los_Angeles:20231208T140000
DTSTAMP:20260423T161246
CREATED:20231107T180830Z
LAST-MODIFIED:20231107T180830Z
UID:10009933-1702040400-1702044000@link.ucop.edu
SUMMARY:People Leader Forum - Rejuvenation
DESCRIPTION:The People Leaders Forum is a monthly opportunity for people managers to connect with one another to develop leadership skills\, build community\, share best practices\, swap strategies for navigating current challenges and learn to better support themselves and their teams. \nDecember Topic: Rejuvenation
URL:https://link.ucop.edu/event/people-leader-forum-rejuvenation/
END:VEVENT
BEGIN:VEVENT
DTSTART;TZID=America/Los_Angeles:20231208T140000
DTEND;TZID=America/Los_Angeles:20231208T150000
DTSTAMP:20260423T161246
CREATED:20231201T165604Z
LAST-MODIFIED:20231201T165620Z
UID:10009956-1702044000-1702047600@link.ucop.edu
SUMMARY:Virtual SERG & OPSA Winter Holiday Wrap Presentation
DESCRIPTION:Join the Sustainability Employee Resource Group (SERG) and Office of the President Staff Assembly (OPSA) for a virtual Winter Holiday Wrap Presentation! We’ll share: \n\nHow to choose the best wrapping paper for the environment (aka sustainable paper)\nBudget friendly alternatives to wrapping paper\nFun food gift ideas\nHoliday mindfulness activities to ease stress
URL:https://link.ucop.edu/event/virtual-serg-opsa-winter-holiday-wrap-presentation/
END:VEVENT
BEGIN:VEVENT
DTSTART;TZID=America/Los_Angeles:20231211T130000
DTEND;TZID=America/Los_Angeles:20231211T140000
DTSTAMP:20260423T161246
CREATED:20231120T234515Z
LAST-MODIFIED:20231127T224919Z
UID:10009948-1702299600-1702303200@link.ucop.edu
SUMMARY:Leading Toward Equity
DESCRIPTION:Join a candid conversation with Nathan Brostrom\, Jenny Kao and Epiphanie Gillette about their equity journeys at UCOP. \nAdvance registration is not required. Join via Zoom: https://UCOP.zoom.us/j/3967131838?from=addon 
URL:https://link.ucop.edu/event/leading-toward-equity-3/
LOCATION:Zoom
END:VEVENT
BEGIN:VEVENT
DTSTART;TZID=America/Los_Angeles:20231212T090000
DTEND;TZID=America/Los_Angeles:20231212T120000
DTSTAMP:20260423T161246
CREATED:20231114T194604Z
LAST-MODIFIED:20231114T194604Z
UID:10009938-1702371600-1702382400@link.ucop.edu
SUMMARY:New Employee Orientation
DESCRIPTION:Starting a new job or new location can be daunting. The UCOP New Employee Orientation is designed to facilitate a smooth transition to the organization and is offered in person every month at the UCOP Broadway building in Oakland. Topics include: • University of California and our history • Overview of UCOP and the organization • Tools and Resources • Safety • Compliance \nRegister for New Employee Orientation \nPlease note:  For information about orientations to UCOP benefits or UCOP IT tools\, visit the UCOP Life webpage: https://www.ucop.edu/local-human-resources//op-life/new-employee-orientation.html
URL:https://link.ucop.edu/event/new-employee-orientation-38/
LOCATION:B 4001
END:VEVENT
BEGIN:VEVENT
DTSTART;TZID=America/Los_Angeles:20231212T120000
DTEND;TZID=America/Los_Angeles:20231212T130000
DTSTAMP:20260423T161246
CREATED:20231106T182659Z
LAST-MODIFIED:20231205T171805Z
UID:10009921-1702382400-1702386000@link.ucop.edu
SUMMARY:UCOP Pride End-of-Year Lunchtime Social
DESCRIPTION:Bring your lunch and join us on the fifth-floor patio (or Franklin 5113 if the weather is uncooperative). We will welcome new employees to UCOP and UCOP Pride\, hang out\, have fun and get to know each other better.
URL:https://link.ucop.edu/event/pride-lunch-social/
LOCATION:Room 5113
END:VEVENT
BEGIN:VEVENT
DTSTART;TZID=America/Los_Angeles:20231213T090000
DTEND;TZID=America/Los_Angeles:20231213T120000
DTSTAMP:20260423T161246
CREATED:20231107T181041Z
LAST-MODIFIED:20231107T181041Z
UID:10009934-1702458000-1702468800@link.ucop.edu
SUMMARY:Pivto Table Techniques
DESCRIPTION:In this workshop you will learn tips and tricks with Excel PivotTables and how they can be an invaluable tool in helping you analyze your data and present your conclusions in compelling ways. If you have been using PivotTables and are wondering what more you can do with them or are maybe running into obstacles and wishing you can get around them\, this workshop will help you unleash the power of PivotTables and get outstanding results.
URL:https://link.ucop.edu/event/pivto-table-techniques/
END:VEVENT
BEGIN:VEVENT
DTSTART;TZID=America/Los_Angeles:20231213T100000
DTEND;TZID=America/Los_Angeles:20231213T110000
DTSTAMP:20260423T161246
CREATED:20230829T191343Z
LAST-MODIFIED:20230830T213850Z
UID:10009858-1702461600-1702465200@link.ucop.edu
SUMMARY:BRC T&E Team's Office Hours
DESCRIPTION:Join the Business Resource Center’s Travel and Entertainment Team for office hours! \nWe will address issues related to travel policy\, booking and procedures. Additionally\,  we will provide guidance on use of the Concur Reimbursement System and assist in correcting any returned Concur Requests and Expense reports. Please log into our Zoom room located at: https://UCOP.zoom.us/j/3301316753?pwd=STFNemVrbTJsV0tJZU1BNWZFL2VSUT09
URL:https://link.ucop.edu/event/brc-te-teams-office-hours/2023-12-13/
END:VEVENT
BEGIN:VEVENT
DTSTART;TZID=America/Los_Angeles:20231213T103000
DTEND;TZID=America/Los_Angeles:20231213T110000
DTSTAMP:20260423T161246
CREATED:20230725T132333Z
LAST-MODIFIED:20230725T132609Z
UID:10009813-1702463400-1702465200@link.ucop.edu
SUMMARY:SharePoint Online Office Hours
DESCRIPTION:This is an open forum for SharePoint end-user support around the UCOP SharePoint Online migration. \n\nAsk us about SharePoint terminology.\nFind out how to perform specific functions.\nAsk “Is it possible to do…”.\nGet help on creating simple pages\, views\, list\, libraries and webparts.\nHear about the latest updates.\n\nZoom meeting link: https://UCOP.zoom.us/j/96940300027
URL:https://link.ucop.edu/event/ucop-sharepoint-online-office-hours/2023-12-13/
LOCATION:Online (via Zoom)
END:VEVENT
BEGIN:VEVENT
DTSTART;TZID=America/Los_Angeles:20231213T113000
DTEND;TZID=America/Los_Angeles:20231213T133000
DTSTAMP:20260423T161246
CREATED:20231120T234329Z
LAST-MODIFIED:20231120T234329Z
UID:10009947-1702467000-1702474200@link.ucop.edu
SUMMARY:Churros\, Chocolate y Más: LaSA Scholarship Fundraiser
DESCRIPTION:Indulge in a sweet treat and support a great cause! Peruse and purchase a delicious assortment of churros\, hot chocolate\, and other baked goods during our baked sales. Proceeds will support students’ educational journeys! Advance registration is not required.
URL:https://link.ucop.edu/event/churros-chocolate-y-mas-lasa-scholarship-fundraiser/
LOCATION:Franklin Lobby 1
END:VEVENT
BEGIN:VEVENT
DTSTART;TZID=America/Los_Angeles:20231213T130000
DTEND;TZID=America/Los_Angeles:20231213T143000
DTSTAMP:20260423T161246
CREATED:20231107T175800Z
LAST-MODIFIED:20231109T002415Z
UID:10009932-1702472400-1702477800@link.ucop.edu
SUMMARY:UCOP Creating Accessible Documents
DESCRIPTION:In this two-part training we will provide you with all the information you need to create accessible Word\, PowerPoint\, Excel\, and PDF documents. The first session will focus on the principles of accessibility\, how to generate accessible Microsoft Office documents\, and how to export these to PDF. The second session will focus on Adobe Acrobat and how to edit or enhance accessibility within a PDF file. We will be remediating a Word document during session one and a PDF during session two. While sample documents will be provided\, please feel free to bring your own documents to practice on. \nParticipants must attend both sessions: \n\nWednesday\, December 6 | 1-2:30pm PT\nWednesday\, December 13 | 1-2:30pm PT
URL:https://link.ucop.edu/event/ucop-creating-accessible-documents-2/2023-12-13/
END:VEVENT
BEGIN:VEVENT
DTSTART;TZID=America/Los_Angeles:20231214T100000
DTEND;TZID=America/Los_Angeles:20231214T120000
DTSTAMP:20260423T161246
CREATED:20230308T182542Z
LAST-MODIFIED:20230412T203439Z
UID:10007858-1702548000-1702555200@link.ucop.edu
SUMMARY:New Employee Orientation (Virtual)
DESCRIPTION:*Virtual orientation dates are only available to UC Path\, UCDC\, Sacramento and fully remote employees. \nStarting a new job or new location can be daunting. The UCOP New Employee Orientation is designed to facilitate a smooth transition to the organization. Topics include: • University of California and our history • Overview of UCOP and the organization • Tools and Resources • Safety • Compliance \nRegister for New Employee Orientation \nPlease note:  For information about orientations to UCOP benefits or UCOP IT tools\, visit the UCOP Life webpage: https://www.ucop.edu/local-human-resources//op-life/new-employee-orientation.html
URL:https://link.ucop.edu/event/new-employee-orientation-virtual/2023-12-14/
END:VEVENT
BEGIN:VEVENT
DTSTART;TZID=America/Los_Angeles:20231214T110000
DTEND;TZID=America/Los_Angeles:20231214T120000
DTSTAMP:20260423T161246
CREATED:20231107T173857Z
LAST-MODIFIED:20231107T173857Z
UID:10008453-1702551600-1702555200@link.ucop.edu
SUMMARY:Developing a Career Plan
DESCRIPTION:UCOP offers free Career Development tools at your fingertips. Come learn how to use My UC Career and LinkedIn to develop your professional brand\, share and document your accomplishments\, and network with colleagues in UC.
URL:https://link.ucop.edu/event/developing-a-career-plan-2/
END:VEVENT
BEGIN:VEVENT
DTSTART;TZID=America/Los_Angeles:20231215T110000
DTEND;TZID=America/Los_Angeles:20231215T120000
DTSTAMP:20260423T161246
CREATED:20231106T222616Z
LAST-MODIFIED:20231106T222616Z
UID:10008451-1702638000-1702641600@link.ucop.edu
SUMMARY:Mindfulness at UCOP
DESCRIPTION:Less stress. Enhanced awareness and focus. Improved health. \nThese are some of the benefits shown in research studies on mindfulness. In this one-hour workshop\, you will learn how to both reduce your stress and increase your effectiveness at work through simple mindfulness techniques. Some highlights: \n\nResearch on mindfulness benefits\nMindfulness vs meditation\nSimple mindfulness practices at work
URL:https://link.ucop.edu/event/mindfulness-at-ucop-17/
END:VEVENT
BEGIN:VEVENT
DTSTART;TZID=America/Los_Angeles:20231219T113000
DTEND;TZID=America/Los_Angeles:20231219T133000
DTSTAMP:20260423T161246
CREATED:20231201T165751Z
LAST-MODIFIED:20231201T172427Z
UID:10009957-1702985400-1702992600@link.ucop.edu
SUMMARY:SERG & OPSA Winter Holiday Wrap Parties
DESCRIPTION:Join the Sustainability Employee Resource Group (SERG) and Office of the President Staff Assembly (OPSA) for a Winter Holiday Wrap Party in Oakland and at the UCPath Center! Bring your own presents to wrap and ideas to create fun food gifts. We’ll share: \n\nHow to choose the best wrapping paper for the environment (aka sustainable paper)\nBudget friendly alternatives to wrapping paper\nFun food gift ideas\nHoliday mindfulness activities to ease stress
URL:https://link.ucop.edu/event/serg-opsa-winter-holiday-wrap-parties/
LOCATION:Oakland\, Franklin 6411 & UCPath Center\, Room 2117
END:VEVENT
BEGIN:VEVENT
DTSTART;TZID=America/Los_Angeles:20231220T100000
DTEND;TZID=America/Los_Angeles:20231220T110000
DTSTAMP:20260423T161246
CREATED:20230829T191343Z
LAST-MODIFIED:20230830T213850Z
UID:10009859-1703066400-1703070000@link.ucop.edu
SUMMARY:BRC T&E Team's Office Hours
DESCRIPTION:Join the Business Resource Center’s Travel and Entertainment Team for office hours! \nWe will address issues related to travel policy\, booking and procedures. Additionally\,  we will provide guidance on use of the Concur Reimbursement System and assist in correcting any returned Concur Requests and Expense reports. Please log into our Zoom room located at: https://UCOP.zoom.us/j/3301316753?pwd=STFNemVrbTJsV0tJZU1BNWZFL2VSUT09
URL:https://link.ucop.edu/event/brc-te-teams-office-hours/2023-12-20/
END:VEVENT
BEGIN:VEVENT
DTSTART;TZID=America/Los_Angeles:20231220T103000
DTEND;TZID=America/Los_Angeles:20231220T110000
DTSTAMP:20260423T161246
CREATED:20230725T132333Z
LAST-MODIFIED:20230725T132609Z
UID:10009814-1703068200-1703070000@link.ucop.edu
SUMMARY:SharePoint Online Office Hours
DESCRIPTION:This is an open forum for SharePoint end-user support around the UCOP SharePoint Online migration. \n\nAsk us about SharePoint terminology.\nFind out how to perform specific functions.\nAsk “Is it possible to do…”.\nGet help on creating simple pages\, views\, list\, libraries and webparts.\nHear about the latest updates.\n\nZoom meeting link: https://UCOP.zoom.us/j/96940300027
URL:https://link.ucop.edu/event/ucop-sharepoint-online-office-hours/2023-12-20/
LOCATION:Online (via Zoom)
END:VEVENT
BEGIN:VEVENT
DTSTART;VALUE=DATE:20231225
DTEND;VALUE=DATE:20231227
DTSTAMP:20260423T161246
CREATED:20230110T152026Z
LAST-MODIFIED:20230110T152026Z
UID:10009605-1703462400-1703635199@link.ucop.edu
SUMMARY:Winter Holiday
DESCRIPTION:
URL:https://link.ucop.edu/event/winter-holiday-4/
END:VEVENT
BEGIN:VEVENT
DTSTART;VALUE=DATE:20231227
DTEND;VALUE=DATE:20231229
DTSTAMP:20260423T161246
CREATED:20230110T152101Z
LAST-MODIFIED:20230110T152101Z
UID:10009606-1703635200-1703807999@link.ucop.edu
SUMMARY:Winter Curtailment
DESCRIPTION:
URL:https://link.ucop.edu/event/winter-curtailment-5/
END:VEVENT
BEGIN:VEVENT
DTSTART;VALUE=DATE:20231229
DTEND;VALUE=DATE:20231230
DTSTAMP:20260423T161246
CREATED:20230110T152146Z
LAST-MODIFIED:20231212T135309Z
UID:10009607-1703808000-1703894399@link.ucop.edu
SUMMARY:New Year Holiday
DESCRIPTION:
URL:https://link.ucop.edu/event/new-year-holiday-4/2023-12-29/
END:VEVENT
BEGIN:VEVENT
DTSTART;VALUE=DATE:20240101
DTEND;VALUE=DATE:20240102
DTSTAMP:20260423T161246
CREATED:20230110T152146Z
LAST-MODIFIED:20231212T135309Z
UID:10009608-1704067200-1704153599@link.ucop.edu
SUMMARY:New Year Holiday
DESCRIPTION:
URL:https://link.ucop.edu/event/new-year-holiday-4/2024-01-01/
END:VEVENT
BEGIN:VEVENT
DTSTART;TZID=America/Los_Angeles:20240103T100000
DTEND;TZID=America/Los_Angeles:20240103T110000
DTSTAMP:20260423T161246
CREATED:20230829T191343Z
LAST-MODIFIED:20230830T213850Z
UID:10009860-1704276000-1704279600@link.ucop.edu
SUMMARY:BRC T&E Team's Office Hours
DESCRIPTION:Join the Business Resource Center’s Travel and Entertainment Team for office hours! \nWe will address issues related to travel policy\, booking and procedures. Additionally\,  we will provide guidance on use of the Concur Reimbursement System and assist in correcting any returned Concur Requests and Expense reports. Please log into our Zoom room located at: https://UCOP.zoom.us/j/3301316753?pwd=STFNemVrbTJsV0tJZU1BNWZFL2VSUT09
URL:https://link.ucop.edu/event/brc-te-teams-office-hours/2024-01-03/
END:VEVENT
BEGIN:VEVENT
DTSTART;TZID=America/Los_Angeles:20240110T100000
DTEND;TZID=America/Los_Angeles:20240110T110000
DTSTAMP:20260423T161246
CREATED:20230829T191343Z
LAST-MODIFIED:20230830T213850Z
UID:10009861-1704880800-1704884400@link.ucop.edu
SUMMARY:BRC T&E Team's Office Hours
DESCRIPTION:Join the Business Resource Center’s Travel and Entertainment Team for office hours! \nWe will address issues related to travel policy\, booking and procedures. Additionally\,  we will provide guidance on use of the Concur Reimbursement System and assist in correcting any returned Concur Requests and Expense reports. Please log into our Zoom room located at: https://UCOP.zoom.us/j/3301316753?pwd=STFNemVrbTJsV0tJZU1BNWZFL2VSUT09
URL:https://link.ucop.edu/event/brc-te-teams-office-hours/2024-01-10/
END:VEVENT
BEGIN:VEVENT
DTSTART;TZID=America/Los_Angeles:20240111T100000
DTEND;TZID=America/Los_Angeles:20240111T113000
DTSTAMP:20260423T161246
CREATED:20231130T233707Z
LAST-MODIFIED:20231130T233707Z
UID:10009952-1704967200-1704972600@link.ucop.edu
SUMMARY:Managing and Organizing your E-Mail Inbox - Microsoft Outlook
DESCRIPTION:This workshop is for Microsoft Outlook users who want to learn new and innovative techniques for better managing and organizing their inbox and overcoming e-mail overload. In this session you will learn powerful tips and techniques that can save you hours and help you get the results you desire from your e-mail communication. You will learn practical Microsoft Outlook features such as customizing and setting flags\, using categories to organize your inbox\, using calendar and tasks to track action e-mails\, using advanced searches to easily find relevant information\, and organizing and archiving your messages for future reference. In addition\, you get important advice on e-mail management strategies which will help you transform e-mail into a productivity tool that can help you\, your team\, and your organization better succeed. \nHighlights of what you will learn: \n\nHow to organize your inbox for easy handling\nHow to track unfinished messages\nHow to organize and archive messages\nValuable tips for managing the time you spend on e-mail\nMany shortcuts and techniques for everyday usage
URL:https://link.ucop.edu/event/managing-and-organizing-your-e-mail-inbox-microsoft-outlook-2/
END:VEVENT
BEGIN:VEVENT
DTSTART;TZID=America/Los_Angeles:20240111T140000
DTEND;TZID=America/Los_Angeles:20240111T150000
DTSTAMP:20260423T161246
CREATED:20230725T224140Z
LAST-MODIFIED:20230725T224140Z
UID:10009821-1704981600-1704985200@link.ucop.edu
SUMMARY:BRC Travel & Entertainment Training
DESCRIPTION:This training is geared toward UCOP employees who travel or book travel on behalf of others. Beginning July 1\, 2020\, all travel requests will need to be pre-approved in the new Concur system. Travel & entertainment expense reports will be submitted in Concur rather than UCLA Express. Additionally\, procurement card (PCard) expenses will be processed through Concur.
URL:https://link.ucop.edu/event/brc-travel-entertainment-training/2024-01-11/
END:VEVENT
BEGIN:VEVENT
DTSTART;TZID=America/Los_Angeles:20240111T140000
DTEND;TZID=America/Los_Angeles:20240111T150000
DTSTAMP:20260423T161246
CREATED:20230801T174117Z
LAST-MODIFIED:20230801T174349Z
UID:10008373-1704981600-1704985200@link.ucop.edu
SUMMARY:Event Expenses & Other Reimbursement Training
DESCRIPTION:In this session we will provide information on how to submit non-travel expenses for reimbursement in Concur. If you’re interested in learning how to submit a reimbursement for non-travel expenses\, please join us for this informative session! \nThe training will include a live demonstration for a non-event expense report to provide you with the tools to become more familiarized with submitting non-travel expenses for reimbursement in Concur. \nKey topics will include: \n\nSystems overview of the BRC & Concur home pages\nReview of travel and entertainment policies\nLive demonstration of an Event Expense and Other Reimbursement expense report for non-travel related expenses\n\nT&E staff will be available in the training to answer any questions to ensure your next Concur experience is a success!
URL:https://link.ucop.edu/event/event-expenses-other-reimbursement-training/2024-01-11/
END:VEVENT
BEGIN:VEVENT
DTSTART;TZID=America/Los_Angeles:20240112T090000
DTEND;TZID=America/Los_Angeles:20240112T120000
DTSTAMP:20260423T161246
CREATED:20231130T233931Z
LAST-MODIFIED:20231130T233931Z
UID:10009953-1705050000-1705060800@link.ucop.edu
SUMMARY:21 Practices for Happiness and Accomplishment at Work
DESCRIPTION:This workshop is designed to help participants develop and practice mindfulness\, emotional intelligence\, growth mindset\, and productivity skills that are crucial in today’s workplace. Participants focus on behavioral changes and initiative-taking\, while at the same time paying attention to self-care\, stress reduction\, fostering enjoyment\, and self-fulfillment. \nThe workshop consists of a blend of short presentations\, brief individual and group interactive exercises\, and exposure to a variety of mindfulness practices. \nKey takeaways \n\nA better understanding of mindfulness.\nInsight into how emotional intelligence can help improve working relationships and collaboration with stakeholders at all levels.\nStrategies\, tools\, and techniques for managing distractions and staying focused as well as effectively managing competing demands when they arise.\nGuidance on paying attention to self-care.
URL:https://link.ucop.edu/event/21-practices-for-happiness-and-accomplishment-at-work/
END:VEVENT
BEGIN:VEVENT
DTSTART;VALUE=DATE:20240115
DTEND;VALUE=DATE:20240116
DTSTAMP:20260423T161246
CREATED:20231106T200151Z
LAST-MODIFIED:20231106T200151Z
UID:10009926-1705276800-1705363199@link.ucop.edu
SUMMARY:Martin Luther King\, Jr. Day
DESCRIPTION:
URL:https://link.ucop.edu/event/martin-luther-king-jr-day-2/
END:VEVENT
END:VCALENDAR