BEGIN:VCALENDAR
VERSION:2.0
PRODID:-//Link: UCOP&#039;s e-newsletter - ECPv6.15.20//NONSGML v1.0//EN
CALSCALE:GREGORIAN
METHOD:PUBLISH
X-ORIGINAL-URL:https://link.ucop.edu
X-WR-CALDESC:Events for Link: UCOP&#039;s e-newsletter
REFRESH-INTERVAL;VALUE=DURATION:PT1H
X-Robots-Tag:noindex
X-PUBLISHED-TTL:PT1H
BEGIN:VTIMEZONE
TZID:America/Los_Angeles
BEGIN:STANDARD
TZOFFSETFROM:-0700
TZOFFSETTO:-0800
DTSTART:19701029T020000
RRULE:FREQ=YEARLY;BYMONTH=11;BYDAY=1SU
END:STANDARD
BEGIN:DAYLIGHT
DTSTART:19700402T020000
TZOFFSETFROM:-0800
TZOFFSETTO:-0700
RRULE:FREQ=YEARLY;BYMONTH=3;BYDAY=2SU
END:DAYLIGHT
END:VTIMEZONE
BEGIN:VTIMEZONE
TZID:America/Los_Angeles
BEGIN:DAYLIGHT
TZOFFSETFROM:-0800
TZOFFSETTO:-0700
TZNAME:PDT
DTSTART:20230312T100000
END:DAYLIGHT
BEGIN:STANDARD
TZOFFSETFROM:-0700
TZOFFSETTO:-0800
TZNAME:PST
DTSTART:20231105T090000
END:STANDARD
BEGIN:DAYLIGHT
TZOFFSETFROM:-0800
TZOFFSETTO:-0700
TZNAME:PDT
DTSTART:20240310T100000
END:DAYLIGHT
BEGIN:STANDARD
TZOFFSETFROM:-0700
TZOFFSETTO:-0800
TZNAME:PST
DTSTART:20241103T090000
END:STANDARD
BEGIN:DAYLIGHT
TZOFFSETFROM:-0800
TZOFFSETTO:-0700
TZNAME:PDT
DTSTART:20250309T100000
END:DAYLIGHT
BEGIN:STANDARD
TZOFFSETFROM:-0700
TZOFFSETTO:-0800
TZNAME:PST
DTSTART:20251102T090000
END:STANDARD
END:VTIMEZONE
BEGIN:VEVENT
DTSTART;TZID=America/Los_Angeles:20240624T120000
DTEND;TZID=America/Los_Angeles:20240624T130000
DTSTAMP:20260423T173002
CREATED:20240613T163154Z
LAST-MODIFIED:20240613T163154Z
UID:10010277-1719230400-1719234000@link.ucop.edu
SUMMARY:Allies for All Abilities (3A) Affinity Group Meeting
DESCRIPTION:Join Allies for All Abilities — aka 3A — for our group launch meeting. Meet members\, learn about our goals\, and help brainstorm ideas for future activities. Learn more about 3A by visiting our website.
URL:https://link.ucop.edu/event/allies-for-all-abilities-3a-affinity-group-meeting/
END:VEVENT
BEGIN:VEVENT
DTSTART;TZID=America/Los_Angeles:20240626T110000
DTEND;TZID=America/Los_Angeles:20240626T120000
DTSTAMP:20260423T173002
CREATED:20240521T231552Z
LAST-MODIFIED:20240521T231552Z
UID:10010266-1719399600-1719403200@link.ucop.edu
SUMMARY:Career Development Tools
DESCRIPTION:UCOP has free career development tools available at your fingertips. Come learn how to use LinkedIn\, and LinkedIn Learning and My UC Career to support with your career planning.
URL:https://link.ucop.edu/event/career-development-tools/
ORGANIZER;CN="Learning &amp%3B Development":MAILTO:ucopld@ucop.edu
END:VEVENT
BEGIN:VEVENT
DTSTART;TZID=America/Los_Angeles:20240627T090000
DTEND;TZID=America/Los_Angeles:20240627T110000
DTSTAMP:20260423T173002
CREATED:20240521T231639Z
LAST-MODIFIED:20240625T182811Z
UID:10010267-1719478800-1719486000@link.ucop.edu
SUMMARY:Critical and Creative Thinking
DESCRIPTION:In this workshop\, you will explore strategies and techniques\, at the individual and collective level\, for improving both your critical and creative thinking. Topics include common biases that stymie creative and critical thinking\, articulating disagreement without being disagreeable\, overcoming psychological fixedness\, and mastering productive brainstorming. \nKey Takeaways \n\nHow to ask assumption-busting questions\nRedefine goals to open-up creative thinking\nThink from an opposite perspective\nHow to look for disconfirming evidence
URL:https://link.ucop.edu/event/critical-and-creative-thinking/
END:VEVENT
BEGIN:VEVENT
DTSTART;TZID=America/Los_Angeles:20240627T100000
DTEND;TZID=America/Los_Angeles:20240627T110000
DTSTAMP:20260423T173002
CREATED:20240515T205434Z
LAST-MODIFIED:20241223T184209Z
UID:10010121-1719482400-1719486000@link.ucop.edu
SUMMARY:Compliance\, Accounting\, Audit\, & Policy (CAAP) Office Hours
DESCRIPTION:Ask questions about journals/reports\, cost transfers\, ITF’s\, Chart of Accounts\, General Ledger\, and CashNet. \n\nDial-in: 1 669 219 2599\nMeeting ID: 919 8651 9749\nPasscode:  654321
URL:https://link.ucop.edu/event/compliance-accounting-audit-policy-caap-office-hours/2024-06-27/
END:VEVENT
BEGIN:VEVENT
DTSTART;TZID=America/Los_Angeles:20240628T100000
DTEND;TZID=America/Los_Angeles:20240628T120000
DTSTAMP:20260423T173002
CREATED:20240521T231728Z
LAST-MODIFIED:20240521T231728Z
UID:10008626-1719568800-1719576000@link.ucop.edu
SUMMARY:Navigating Change and Transitions
DESCRIPTION:“The only thing that is constant is change” — Heraclitus who lived 100 years before Plato knew this\, and it is still true in today’s world. This workshop will explore the human response to change and stages within the transition process. Participants will expand their capability to successfully navigate through personal and professional changes while utilizing the William Bridges’ Transition Model and Psychological Flexibility framework.
URL:https://link.ucop.edu/event/navigating-change-and-transitions-2/
ORGANIZER;CN="Learning &amp%3B Development":MAILTO:ucopld@ucop.edu
END:VEVENT
BEGIN:VEVENT
DTSTART;TZID=America/Los_Angeles:20240703T140000
DTEND;TZID=America/Los_Angeles:20240703T150000
DTSTAMP:20260423T173002
CREATED:20240125T164634Z
LAST-MODIFIED:20240604T204603Z
UID:10009993-1720015200-1720018800@link.ucop.edu
SUMMARY:BRC T&E Team's Event Expenses & Other Reimbursement Training
DESCRIPTION:Drop-ins welcome: https://UCOP.zoom.us/j/3301316753?pwd=STFNemVrbTJsV0tJZU1BNWZFL2VSUT09 \n 
URL:https://link.ucop.edu/event/brc-te-teams-event-expenses-other-reimbursement-training/2024-07-03/
END:VEVENT
BEGIN:VEVENT
DTSTART;VALUE=DATE:20240704
DTEND;VALUE=DATE:20240705
DTSTAMP:20260423T173002
CREATED:20231106T200704Z
LAST-MODIFIED:20231106T200704Z
UID:10008440-1720051200-1720137599@link.ucop.edu
SUMMARY:Independence Day
DESCRIPTION:
URL:https://link.ucop.edu/event/independence-day-5/
END:VEVENT
BEGIN:VEVENT
DTSTART;TZID=America/Los_Angeles:20240709T090000
DTEND;TZID=America/Los_Angeles:20240709T120000
DTSTAMP:20260423T173002
CREATED:20231114T194914Z
LAST-MODIFIED:20240605T153407Z
UID:10009944-1720515600-1720526400@link.ucop.edu
SUMMARY:New Employee Orientation
DESCRIPTION:Starting a new job or new location can be daunting. The UCOP New Employee Orientation is designed to facilitate a smooth transition to the organization and is offered in person every month at the UCOP Broadway building in Oakland. Topics include: • University of California and our history • Overview of UCOP and the organization • Tools and Resources • Safety • Compliance \nRegister for New Employee Orientation \nPlease note:  For information about orientations to UCOP benefits or UCOP IT tools\, visit the UCOP Life webpage: https://www.ucop.edu/local-human-resources//op-life/new-employee-orientation.html
URL:https://link.ucop.edu/event/new-employee-orientation-39-2024-07-09/
LOCATION:Franklin Lobby 1
END:VEVENT
BEGIN:VEVENT
DTSTART;TZID=America/Los_Angeles:20240709T110000
DTEND;TZID=America/Los_Angeles:20240709T120000
DTSTAMP:20260423T173002
CREATED:20240701T175507Z
LAST-MODIFIED:20240701T175507Z
UID:10010278-1720522800-1720526400@link.ucop.edu
SUMMARY:Council of UC Staff Assemblies Town Hall
DESCRIPTION:This session is open to staff throughout the UC system and will feature presentations of the recommendations from each CUCSA workgroup. Chairs will provide very brief updates on their recommendations\, then allow time for questions and feedback from staff. \nRegister to attend: https://ucsc.zoom.us/meeting/register/tJYuceurrTMpHN1XSzC5GIq3X5iIfLW1hbNs#/registration
URL:https://link.ucop.edu/event/council-of-uc-staff-assemblies-town-hall/
ORGANIZER;CN="CUCSA":MAILTO:thecucsa@gmail.com
END:VEVENT
BEGIN:VEVENT
DTSTART;TZID=America/Los_Angeles:20240710T110000
DTEND;TZID=America/Los_Angeles:20240710T120000
DTSTAMP:20260423T173002
CREATED:20240605T155907Z
LAST-MODIFIED:20240605T155907Z
UID:10010271-1720609200-1720612800@link.ucop.edu
SUMMARY:Box Fundamentals
DESCRIPTION:This course will give you an overview of Box\, the cloud-based service that provides secure file storage and file sharing. The session will go over: \n\nHow to use Box\nHow to collaborate with UCOP and non-UCOP people\nCommenting directly on files\, folder permissions\, shared links\, and many other tips that will help you when using Box\n\nAdministrators from IT will be on hand to answer your questions and review the best features of Box.
URL:https://link.ucop.edu/event/box-fundamentals-24/
ORGANIZER;CN="Learning &amp%3B Development":MAILTO:ucopld@ucop.edu
END:VEVENT
BEGIN:VEVENT
DTSTART;TZID=America/Los_Angeles:20240711T100000
DTEND;TZID=America/Los_Angeles:20240711T110000
DTSTAMP:20260423T173002
CREATED:20240515T205434Z
LAST-MODIFIED:20241223T184209Z
UID:10010122-1720692000-1720695600@link.ucop.edu
SUMMARY:Compliance\, Accounting\, Audit\, & Policy (CAAP) Office Hours
DESCRIPTION:Ask questions about journals/reports\, cost transfers\, ITF’s\, Chart of Accounts\, General Ledger\, and CashNet. \n\nDial-in: 1 669 219 2599\nMeeting ID: 919 8651 9749\nPasscode:  654321
URL:https://link.ucop.edu/event/compliance-accounting-audit-policy-caap-office-hours/2024-07-11/
END:VEVENT
BEGIN:VEVENT
DTSTART;TZID=America/Los_Angeles:20240711T100000
DTEND;TZID=America/Los_Angeles:20240711T120000
DTSTAMP:20260423T173002
CREATED:20240206T190845Z
LAST-MODIFIED:20240306T192500Z
UID:10010019-1720692000-1720699200@link.ucop.edu
SUMMARY:New Employee Orientation (Virtual)
DESCRIPTION:Starting a new job or new location can be daunting. The UCOP New Employee Orientation is designed to facilitate a smooth transition to the organization.\nTopics include University of California and our history\, Overview of UCOP and the organization\, Tools and Resources\, Safety\, Compliance \nAll UCOP employees are encouraged to attend a session as soon as possible following their date of hire. \nNote: Eligible employees must sign up for health insurance and disability benefits within their period of initial eligibility (PIE)\, which is thirty-one days from the date of eligibility for benefits\, regardless of when they attend the orientation session.
URL:https://link.ucop.edu/event/new-employee-orientation-virtual-3/2024-07-11/
END:VEVENT
BEGIN:VEVENT
DTSTART;TZID=America/Los_Angeles:20240717T113000
DTEND;TZID=America/Los_Angeles:20240717T120000
DTSTAMP:20260423T173002
CREATED:20240611T221558Z
LAST-MODIFIED:20240611T221558Z
UID:10010272-1721215800-1721217600@link.ucop.edu
SUMMARY:Gartner Introduction
DESCRIPTION:You’ve activated your Gartner membership through UCOP\, now what? Join us to learn how to tailor your Gartner experience and leverage the latest research available to you on generative AI\, manager effectiveness\, DEI\, and much more. Together\, we will: \n\nExplore different membership views and tailor your homepage with What I Follow\nDiscover the Research Resource Centers\, Tools & Benchmarks\, and upcoming Webinars in areas of interest\nLearn how to cut to the chase and find what you’re looking for with Advanced Search\n\nRegister in the UC Learning Center \nFor questions\, email ucopld@ucop.edu
URL:https://link.ucop.edu/event/gartner-introduction-2/
END:VEVENT
BEGIN:VEVENT
DTSTART;TZID=America/Los_Angeles:20240717T130000
DTEND;TZID=America/Los_Angeles:20240717T134500
DTSTAMP:20260423T173002
CREATED:20240611T221732Z
LAST-MODIFIED:20240611T221732Z
UID:10010273-1721221200-1721223900@link.ucop.edu
SUMMARY:Same Dishes\, Healthier Swaps
DESCRIPTION:Healthy doesn’t have to be hard. Simple changes can lead to big transformation when it comes to increasing energy\, adding vibrancy to skin\, and boosting health from the inside out. The key is making those small changes consistent. Learn about nutritious swaps that you can make on the fly to start incorporating into your cooking. \nRegister by using this step-by-step registration guide (Box log-in required) \nQuestions? Email ucopld@ucop.edu
URL:https://link.ucop.edu/event/same-dishes-healthier-swaps-2/
END:VEVENT
BEGIN:VEVENT
DTSTART;TZID=America/Los_Angeles:20240717T140000
DTEND;TZID=America/Los_Angeles:20240717T151500
DTSTAMP:20260423T173002
CREATED:20240125T162458Z
LAST-MODIFIED:20240604T204251Z
UID:10009986-1721224800-1721229300@link.ucop.edu
SUMMARY:BRC T&E Team's New/Infrequent Traveler's Presentation
DESCRIPTION:Drop-ins welcome: https://UCOP.zoom.us/j/3301316753?pwd=STFNemVrbTJsV0tJZU1BNWZFL2VSUT09 \n  \n 
URL:https://link.ucop.edu/event/brc-te-teams-new-infrequent-travelers-presentation/2024-07-17/
LOCATION:Zoom
END:VEVENT
BEGIN:VEVENT
DTSTART;TZID=America/Los_Angeles:20240718T100000
DTEND;TZID=America/Los_Angeles:20240718T110000
DTSTAMP:20260423T173002
CREATED:20240515T205434Z
LAST-MODIFIED:20241223T184209Z
UID:10010123-1721296800-1721300400@link.ucop.edu
SUMMARY:Compliance\, Accounting\, Audit\, & Policy (CAAP) Office Hours
DESCRIPTION:Ask questions about journals/reports\, cost transfers\, ITF’s\, Chart of Accounts\, General Ledger\, and CashNet. \n\nDial-in: 1 669 219 2599\nMeeting ID: 919 8651 9749\nPasscode:  654321
URL:https://link.ucop.edu/event/compliance-accounting-audit-policy-caap-office-hours/2024-07-18/
END:VEVENT
BEGIN:VEVENT
DTSTART;TZID=America/Los_Angeles:20240719T120000
DTEND;TZID=America/Los_Angeles:20240719T130000
DTSTAMP:20260423T173002
CREATED:20240715T170634Z
LAST-MODIFIED:20240715T170634Z
UID:10010297-1721390400-1721394000@link.ucop.edu
SUMMARY:Staff Assembly Virtual Bingo
DESCRIPTION:The OP Staff Assembly invites all staff to attend virtual bingo with colleagues from all UCOP locations\, as well as UC Berkeley\, UCLA\, UC Riverside\, UC Santa Barbara and UCSF. This month\, we’ll meet UC Riverside Staff Assembly’s Director of Finance Penni Ebina and another special guest board member from UC Riverside. There will be two virtual sessions: Matinee\, from 12 – 1 p.m. (PT)\, and evening\, from 6 – 7:30 p.m. (PT). The registration deadline is 5 p.m. (PT) on July 18. Instructions and rules will be sent to each participant prior to the games. Zoom rooms will open 10 minutes before each session.
URL:https://link.ucop.edu/event/staff-assembly-virtual-bingo-6/
END:VEVENT
BEGIN:VEVENT
DTSTART;TZID=America/Los_Angeles:20240723T100000
DTEND;TZID=America/Los_Angeles:20240723T120000
DTSTAMP:20260423T173002
CREATED:20240611T221908Z
LAST-MODIFIED:20240611T221908Z
UID:10010274-1721728800-1721736000@link.ucop.edu
SUMMARY:GROWing your Check In Conversations for Employees
DESCRIPTION:GROWing your Check-in Conversations is a two-hour virtual live workshop that provides employees with an opportunity to practice using the GROW framework in STEP check-ins and share tips and strategies for providing feedback. \nRegister in the UC Learning Center \nQuestions? Email ucopld@ucop.edu
URL:https://link.ucop.edu/event/growing-your-check-in-conversations-for-employees-5/
END:VEVENT
BEGIN:VEVENT
DTSTART;TZID=America/Los_Angeles:20240724T113000
DTEND;TZID=America/Los_Angeles:20240724T120000
DTSTAMP:20260423T173002
CREATED:20240723T000912Z
LAST-MODIFIED:20240723T000935Z
UID:10008661-1721820600-1721822400@link.ucop.edu
SUMMARY:UC Travel Presents Delta Air Lines
DESCRIPTION:Join the UC Central Travel Office for our supplier spotlight series! This event will feature Delta Airlines. Register to attend: \nhttps://ucop.zoom.us/webinar/register/WN_cT_G1pTpRDym0rXnWLXacg
URL:https://link.ucop.edu/event/uc-travel-presents-delta-air-lines/
END:VEVENT
BEGIN:VEVENT
DTSTART;TZID=America/Los_Angeles:20240724T120000
DTEND;TZID=America/Los_Angeles:20240724T130000
DTSTAMP:20260423T173002
CREATED:20240718T135728Z
LAST-MODIFIED:20240718T145842Z
UID:10008653-1721822400-1721826000@link.ucop.edu
SUMMARY:PACSW Women We Admire: Theresa Maldonado
DESCRIPTION:Join the President’s Advisory Committee for the Status of Women for a special presentation in the Women We Admire speaker series. We will feature Theresa A. Maldonado\, systemwide vice president for Research & Innovation\, who is based at UCOP. Advance registration is not required. \nJoin via Zoom \n* Link:  https://UCOP.zoom.us/j/95306324726?pwd=nb5EkEDn6bO79sJBrAYjaG89avxJ2x.1 \n* Meeting ID: 953 0632 4726 \n* Password: 705062
URL:https://link.ucop.edu/event/pacsw-women-we-admire-theresa-a-maldonado/
END:VEVENT
BEGIN:VEVENT
DTSTART;TZID=America/Los_Angeles:20240724T140000
DTEND;TZID=America/Los_Angeles:20240724T153000
DTSTAMP:20260423T173002
CREATED:20240125T161649Z
LAST-MODIFIED:20240604T204136Z
UID:10009975-1721829600-1721835000@link.ucop.edu
SUMMARY:BRC T&E Team's Concur Training Sessions
DESCRIPTION:Drop-ins welcome – https://UCOP.zoom.us/j/3301316753?pwd=STFNemVrbTJsV0tJZU1BNWZFL2VSUT09
URL:https://link.ucop.edu/event/concur-training-4/2024-07-24/
LOCATION:Zoom
END:VEVENT
BEGIN:VEVENT
DTSTART;TZID=America/Los_Angeles:20240725T090000
DTEND;TZID=America/Los_Angeles:20240725T120000
DTSTAMP:20260423T173002
CREATED:20240611T222113Z
LAST-MODIFIED:20240611T222113Z
UID:10010275-1721898000-1721908800@link.ucop.edu
SUMMARY:Subtle Acts of Exclusion
DESCRIPTION:The term “microaggression” has become widely used\, yet just as widely misunderstood. Join us as we reframe microaggressions as Subtle Acts of Exclusion (SAE). Explore the SAE framework and participate in group dialogue on how to normalize interrupting these acts and engage colleagues in discussion. In this session\, participants will: \n\nReflect on socialization and its impact on our outlook\, attitudes\, and behaviors\nUnderstand the shift in language from Microaggressions to Subtle Acts of Exclusion\nExplore the Subtle Acts of Exclusion Framework\nParticipate in group dialogue on best practices to interrupt SAEs\n\nRegister in the UC Learning Center \nQuestions? Contact ucopld@ucop.edu
URL:https://link.ucop.edu/event/subtle-acts-of-exclusion-3/
END:VEVENT
BEGIN:VEVENT
DTSTART;TZID=America/Los_Angeles:20240725T100000
DTEND;TZID=America/Los_Angeles:20240725T110000
DTSTAMP:20260423T173002
CREATED:20240515T205434Z
LAST-MODIFIED:20241223T184209Z
UID:10010124-1721901600-1721905200@link.ucop.edu
SUMMARY:Compliance\, Accounting\, Audit\, & Policy (CAAP) Office Hours
DESCRIPTION:Ask questions about journals/reports\, cost transfers\, ITF’s\, Chart of Accounts\, General Ledger\, and CashNet. \n\nDial-in: 1 669 219 2599\nMeeting ID: 919 8651 9749\nPasscode:  654321
URL:https://link.ucop.edu/event/compliance-accounting-audit-policy-caap-office-hours/2024-07-25/
END:VEVENT
BEGIN:VEVENT
DTSTART;TZID=America/Los_Angeles:20240726T113000
DTEND;TZID=America/Los_Angeles:20240726T120000
DTSTAMP:20260423T173002
CREATED:20240718T153105Z
LAST-MODIFIED:20240718T153105Z
UID:10008655-1721993400-1721995200@link.ucop.edu
SUMMARY:Accessibility for Managers and Non-Designers
DESCRIPTION:On National Accessibility Independence Day (July 26)\, join Judy Thai\, director of Application Engineering\, and Beena Albert\, Business Intelligence technical lead\, for a discussion on the importance of and techniques surrounding digital accessibility. \nIf you’re able\, we recommend that you take the LinkedIn Learning course\,  “Accessibility for Managers and Non-Designers\,” prior to the event. Find out how to activate your LinkedIn Learning membership at: link.ucop.edu/linkedin. \nAdvance registration is required for this event:  https://ucop.zoom.us/meeting/register/tJAvf-uqqz4qGdF2Sy_OTEoirwsuH8pYuugL#/registration
URL:https://link.ucop.edu/event/accessibility-for-managers-and-non-designers/
END:VEVENT
BEGIN:VEVENT
DTSTART;TZID=America/Los_Angeles:20240731T110000
DTEND;TZID=America/Los_Angeles:20240731T120000
DTSTAMP:20260423T173002
CREATED:20240611T222357Z
LAST-MODIFIED:20240611T222357Z
UID:10010276-1722423600-1722427200@link.ucop.edu
SUMMARY:LinkedIn Learning for Managers
DESCRIPTION:Learn how to use LinkedIn Learning with your team as a professional learning tool. As a UCOP Manager or Supervisor\, LinkedIn Learning has tools and features to make assigning and tracking team learning easy! \nRegister in the UC Learning Center \nQuestions? Email ucopld@ucop.edu
URL:https://link.ucop.edu/event/linkedin-learning-for-managers-4/
END:VEVENT
BEGIN:VEVENT
DTSTART;TZID=America/Los_Angeles:20240801T100000
DTEND;TZID=America/Los_Angeles:20240801T110000
DTSTAMP:20260423T173002
CREATED:20240515T205434Z
LAST-MODIFIED:20241223T184209Z
UID:10010125-1722506400-1722510000@link.ucop.edu
SUMMARY:Compliance\, Accounting\, Audit\, & Policy (CAAP) Office Hours
DESCRIPTION:Ask questions about journals/reports\, cost transfers\, ITF’s\, Chart of Accounts\, General Ledger\, and CashNet. \n\nDial-in: 1 669 219 2599\nMeeting ID: 919 8651 9749\nPasscode:  654321
URL:https://link.ucop.edu/event/compliance-accounting-audit-policy-caap-office-hours/2024-08-01/
END:VEVENT
BEGIN:VEVENT
DTSTART;TZID=America/Los_Angeles:20240801T100000
DTEND;TZID=America/Los_Angeles:20240801T120000
DTSTAMP:20260423T173002
CREATED:20240703T171335Z
LAST-MODIFIED:20240703T171335Z
UID:10010279-1722506400-1722513600@link.ucop.edu
SUMMARY:GROWing your Check In Conversations for Managers
DESCRIPTION:GROW is a popular coaching framework used around the world for problem solving\, goal setting and performance improvement. This interactive session provides managers the opportunity to discuss and practice using the GROW framework as a strategy and tool to support engaging STEP checkpoint conversations. GROW is a simple meeting structure that supports a growth and development stance in employee-manager coaching and feedback conversations.\n \nThe framework breaks down the conversation into 4 parts: Goal\, Reality\, Options\, & Will: \n\n1. Determine Goal\n2. Discuss Current Reality\n3. Discuss Options\n4. Determine the Will\n\nNote: The ecourse “GROWing your Checkpoint Conversations must be taken prior to this class \nAdditional Sessions: \n\nFriday\, August 9 | 10am-12pm\nWednesday\, September 4 | 10am-12pm\n\nRegister in the UC Learning Center \nQuestions? Email ucopld@ucop.edu
URL:https://link.ucop.edu/event/growing-your-check-in-conversations-for-managers-10/
END:VEVENT
BEGIN:VEVENT
DTSTART;TZID=America/Los_Angeles:20240802T090000
DTEND;TZID=America/Los_Angeles:20240802T120000
DTSTAMP:20260423T173002
CREATED:20240703T171510Z
LAST-MODIFIED:20240703T171510Z
UID:10010280-1722589200-1722600000@link.ucop.edu
SUMMARY:The Science of Managing Stress
DESCRIPTION:Job stress can be all-consuming — but it doesn’t have to be. Find ways to identify your triggers\, keep perspective\, learn helpful strategies\, and know when to seek help. \nRegister in the UC Learning Center \nQuestions? Email ucopld@ucop.edu
URL:https://link.ucop.edu/event/the-science-of-managing-stress-4/
END:VEVENT
BEGIN:VEVENT
DTSTART;TZID=America/Los_Angeles:20240805T140000
DTEND;TZID=America/Los_Angeles:20240805T150000
DTSTAMP:20260423T173002
CREATED:20240125T164634Z
LAST-MODIFIED:20240604T204603Z
UID:10009994-1722866400-1722870000@link.ucop.edu
SUMMARY:BRC T&E Team's Event Expenses & Other Reimbursement Training
DESCRIPTION:Drop-ins welcome: https://UCOP.zoom.us/j/3301316753?pwd=STFNemVrbTJsV0tJZU1BNWZFL2VSUT09 \n 
URL:https://link.ucop.edu/event/brc-te-teams-event-expenses-other-reimbursement-training/2024-08-05/
END:VEVENT
BEGIN:VEVENT
DTSTART;TZID=America/Los_Angeles:20240806T080000
DTEND;TZID=America/Los_Angeles:20240806T170000
DTSTAMP:20260423T173002
CREATED:20240709T215301Z
LAST-MODIFIED:20241021T181859Z
UID:10010360-1722931200-1722963600@link.ucop.edu
SUMMARY:UCOP Safety: Basic Awareness
DESCRIPTION:Melissa Collins\, Program Manager for Security\, Risk and Resilience\, will facilitate this live virtual class that will provide basic safety tips to help employees feel informed\, alert\, and safe as they travel to and from the workplace. Extra time will be allotted for questions and feedback. Melissa joined UCOP after serving 20 years with the UC San Diego Police Department\, retiring as a lieutenant\, and is a safety expert. \nAdditional Sessions: \n\nSeptember 11: 2-3pm\nOctober 10: 9-10am\nDecember 3: 11am-12pm\n\nRegister in the UC Learning Center \nQuestions? Email ucopld@ucop.edu
URL:https://link.ucop.edu/event/ucop-safety-basic-awareness-3/2024-08-06/1/
END:VEVENT
END:VCALENDAR