BEGIN:VCALENDAR
VERSION:2.0
PRODID:-//Link: UCOP&#039;s e-newsletter - ECPv6.15.19//NONSGML v1.0//EN
CALSCALE:GREGORIAN
METHOD:PUBLISH
X-ORIGINAL-URL:https://link.ucop.edu
X-WR-CALDESC:Events for Link: UCOP&#039;s e-newsletter
REFRESH-INTERVAL;VALUE=DURATION:PT1H
X-Robots-Tag:noindex
X-PUBLISHED-TTL:PT1H
BEGIN:VTIMEZONE
TZID:America/Los_Angeles
BEGIN:STANDARD
TZOFFSETFROM:-0700
TZOFFSETTO:-0800
DTSTART:19701029T020000
RRULE:FREQ=YEARLY;BYMONTH=11;BYDAY=1SU
END:STANDARD
BEGIN:DAYLIGHT
DTSTART:19700402T020000
TZOFFSETFROM:-0800
TZOFFSETTO:-0700
RRULE:FREQ=YEARLY;BYMONTH=3;BYDAY=2SU
END:DAYLIGHT
END:VTIMEZONE
BEGIN:VTIMEZONE
TZID:America/Los_Angeles
BEGIN:DAYLIGHT
TZOFFSETFROM:-0800
TZOFFSETTO:-0700
TZNAME:PDT
DTSTART:20250309T100000
END:DAYLIGHT
BEGIN:STANDARD
TZOFFSETFROM:-0700
TZOFFSETTO:-0800
TZNAME:PST
DTSTART:20251102T090000
END:STANDARD
BEGIN:DAYLIGHT
TZOFFSETFROM:-0800
TZOFFSETTO:-0700
TZNAME:PDT
DTSTART:20260308T100000
END:DAYLIGHT
BEGIN:STANDARD
TZOFFSETFROM:-0700
TZOFFSETTO:-0800
TZNAME:PST
DTSTART:20261101T090000
END:STANDARD
BEGIN:DAYLIGHT
TZOFFSETFROM:-0800
TZOFFSETTO:-0700
TZNAME:PDT
DTSTART:20270314T100000
END:DAYLIGHT
BEGIN:STANDARD
TZOFFSETFROM:-0700
TZOFFSETTO:-0800
TZNAME:PST
DTSTART:20271107T090000
END:STANDARD
END:VTIMEZONE
BEGIN:VEVENT
DTSTART;TZID=America/Los_Angeles:20260508T120000
DTEND;TZID=America/Los_Angeles:20260508T130000
DTSTAMP:20260423T014511
CREATED:20260402T215107Z
LAST-MODIFIED:20260414T194632Z
UID:10014717-1778241600-1778245200@link.ucop.edu
SUMMARY:FSAP: Working Parents: Strategies for Wellness and Avoiding Burnout
DESCRIPTION:This 1-hour webinar will provide an overview of today’s challenges in being a successful working parent and how to address the risks for parental burnout. By the end of the webinar\, you will be able to: \n\nRecognize signs and causes of parental burnout\nDiscover personal\, family\, and career strategies for prevention & recovery\nDesign your own plan to make working parenthood more sustainable\nKnow how to access resources for dealing with parental burnout inside and outside your workplace.\n\nJoin Heike Mitchell\, PhD and the Staff Assistance Program (FSAP) for this practical\, solution-focused session to help you manage the pressures of working parenthood and improve your well-being. \nBio: \nIn celebration of Mental Health Awareness Month\, The Faculty and Staff Assistance Program (FSAP) is delighted to welcome Dr. Heike Mitchell as our guest presenter for this special webinar. \nHeike Mitchell\, PhD is a champion of workplace well-being\, especially for new and working parents. Drawing on her psychological expertise and a strong understanding of workplace dynamics\, she develops practical and science-based solutions that help both individuals and organizations thrive. Dr. Mitchell previously served as a fellow at UCSF’s Faculty & Staff Assistance Program and is pleased to return to present this webinar. \nIn celebration of Mental Health Awareness Month\, FSAP is offering a series of webinars throughout May. Visit our website to view the full schedule:  \nhttps://hr.ucsf.edu/wellbeing/faculty-and-staff-assistance-program/events
URL:https://link.ucop.edu/event/working-parents-strategies-for-wellness-and-avoiding-burnout/
LOCATION:Online
CATEGORIES:Learning & Development
ORGANIZER;CN="UCOP Learning and Development":MAILTO:ucopld@ucop.edu
END:VEVENT
END:VCALENDAR