BEGIN:VCALENDAR
VERSION:2.0
PRODID:-//Link: UCOP&#039;s e-newsletter - ECPv6.15.19//NONSGML v1.0//EN
CALSCALE:GREGORIAN
METHOD:PUBLISH
X-ORIGINAL-URL:https://link.ucop.edu
X-WR-CALDESC:Events for Link: UCOP&#039;s e-newsletter
REFRESH-INTERVAL;VALUE=DURATION:PT1H
X-Robots-Tag:noindex
X-PUBLISHED-TTL:PT1H
BEGIN:VTIMEZONE
TZID:America/Los_Angeles
BEGIN:STANDARD
TZOFFSETFROM:-0700
TZOFFSETTO:-0800
DTSTART:19701029T020000
RRULE:FREQ=YEARLY;BYMONTH=11;BYDAY=1SU
END:STANDARD
BEGIN:DAYLIGHT
DTSTART:19700402T020000
TZOFFSETFROM:-0800
TZOFFSETTO:-0700
RRULE:FREQ=YEARLY;BYMONTH=3;BYDAY=2SU
END:DAYLIGHT
END:VTIMEZONE
BEGIN:VTIMEZONE
TZID:America/Los_Angeles
BEGIN:DAYLIGHT
TZOFFSETFROM:-0800
TZOFFSETTO:-0700
TZNAME:PDT
DTSTART:20250309T100000
END:DAYLIGHT
BEGIN:STANDARD
TZOFFSETFROM:-0700
TZOFFSETTO:-0800
TZNAME:PST
DTSTART:20251102T090000
END:STANDARD
BEGIN:DAYLIGHT
TZOFFSETFROM:-0800
TZOFFSETTO:-0700
TZNAME:PDT
DTSTART:20260308T100000
END:DAYLIGHT
BEGIN:STANDARD
TZOFFSETFROM:-0700
TZOFFSETTO:-0800
TZNAME:PST
DTSTART:20261101T090000
END:STANDARD
BEGIN:DAYLIGHT
TZOFFSETFROM:-0800
TZOFFSETTO:-0700
TZNAME:PDT
DTSTART:20270314T100000
END:DAYLIGHT
BEGIN:STANDARD
TZOFFSETFROM:-0700
TZOFFSETTO:-0800
TZNAME:PST
DTSTART:20271107T090000
END:STANDARD
END:VTIMEZONE
BEGIN:VEVENT
DTSTART;TZID=America/Los_Angeles:20260501T093000
DTEND;TZID=America/Los_Angeles:20260501T120000
DTSTAMP:20260420T080604
CREATED:20260331T002448Z
LAST-MODIFIED:20260331T002448Z
UID:10014641-1777627800-1777636800@link.ucop.edu
SUMMARY:Manager and Employee Conversations Part 2: Feedback for Employee Accountability
DESCRIPTION:Accountability Conversations for Managers is the second part in the required live training series on manager and employee performance conversations. This training answers the question: What do I do when my coaching is not improving performance? In this highly interactive live virtual workshop\, we will cover providing productive critical feedback\, managing emotions\, creating efficient documentation\, and holding effective accountability conversations. Managers will also practice having Accountability Conversations using the UCOP GROW Plus framework. This training is part of the STEP training plan developed by the STEP workgroup made up of people from all divisions. \nThe previous STEP trainings are all prerequisites to this training.
URL:https://link.ucop.edu/event/manager-and-employee-conversations-part-2-feedback-for-employee-accountability/
LOCATION:Online
CATEGORIES:Learning & Development
ORGANIZER;CN="UCOP Learning and Development":MAILTO:ucopld@ucop.edu
END:VEVENT
BEGIN:VEVENT
DTSTART;TZID=America/Los_Angeles:20260506T100000
DTEND;TZID=America/Los_Angeles:20260506T110000
DTSTAMP:20260420T080604
CREATED:20260331T000946Z
LAST-MODIFIED:20260331T000946Z
UID:10014639-1778061600-1778065200@link.ucop.edu
SUMMARY:STEP: Goals and Competencies
DESCRIPTION:In this instructor-led training on the Staff Talent Evaluation Process (STEP)\, we will expand on the materials presented in the STEP Fundamentals for Employees eCourse by going into detail on the first stage of STEP\, Define Criteria. You will practice writing goals and review how to align them to the UCOP Competencies. This course is designed to support new employees and employees who would like a refresher to elevate their STEP goals.
URL:https://link.ucop.edu/event/step-goals-and-competencies-2/
LOCATION:Online
CATEGORIES:Learning & Development
ORGANIZER;CN="UCOP Learning and Development":MAILTO:ucopld@ucop.edu
END:VEVENT
END:VCALENDAR