BEGIN:VCALENDAR
VERSION:2.0
PRODID:-//Link: UCOP&#039;s e-newsletter - ECPv6.15.20//NONSGML v1.0//EN
CALSCALE:GREGORIAN
METHOD:PUBLISH
X-ORIGINAL-URL:https://link.ucop.edu
X-WR-CALDESC:Events for Link: UCOP&#039;s e-newsletter
REFRESH-INTERVAL;VALUE=DURATION:PT1H
X-Robots-Tag:noindex
X-PUBLISHED-TTL:PT1H
BEGIN:VTIMEZONE
TZID:America/Los_Angeles
BEGIN:STANDARD
TZOFFSETFROM:-0700
TZOFFSETTO:-0800
DTSTART:19701029T020000
RRULE:FREQ=YEARLY;BYMONTH=11;BYDAY=1SU
END:STANDARD
BEGIN:DAYLIGHT
DTSTART:19700402T020000
TZOFFSETFROM:-0800
TZOFFSETTO:-0700
RRULE:FREQ=YEARLY;BYMONTH=3;BYDAY=2SU
END:DAYLIGHT
END:VTIMEZONE
BEGIN:VTIMEZONE
TZID:America/Los_Angeles
BEGIN:DAYLIGHT
TZOFFSETFROM:-0800
TZOFFSETTO:-0700
TZNAME:PDT
DTSTART:20240310T100000
END:DAYLIGHT
BEGIN:STANDARD
TZOFFSETFROM:-0700
TZOFFSETTO:-0800
TZNAME:PST
DTSTART:20241103T090000
END:STANDARD
BEGIN:DAYLIGHT
TZOFFSETFROM:-0800
TZOFFSETTO:-0700
TZNAME:PDT
DTSTART:20250309T100000
END:DAYLIGHT
BEGIN:STANDARD
TZOFFSETFROM:-0700
TZOFFSETTO:-0800
TZNAME:PST
DTSTART:20251102T090000
END:STANDARD
BEGIN:DAYLIGHT
TZOFFSETFROM:-0800
TZOFFSETTO:-0700
TZNAME:PDT
DTSTART:20260308T100000
END:DAYLIGHT
BEGIN:STANDARD
TZOFFSETFROM:-0700
TZOFFSETTO:-0800
TZNAME:PST
DTSTART:20261101T090000
END:STANDARD
END:VTIMEZONE
BEGIN:VEVENT
DTSTART;TZID=America/Los_Angeles:20250409T120000
DTEND;TZID=America/Los_Angeles:20250409T130000
DTSTAMP:20260424T075008
CREATED:20250331T203159Z
LAST-MODIFIED:20250331T203159Z
UID:10011963-1744200000-1744203600@link.ucop.edu
SUMMARY:AI in Action: UC AI Innovation Virtual Share Fair
DESCRIPTION:See groundbreaking AI implementations transforming workplace safety\, policy navigation\, and administrative efficiency across the UC system. This interactive session features real-world AI use cases\, with presenters sharing their journey from ideation to implementation\, highlighting key challenges\, lessons learned\, and alignment with UC’s AI Principles. Whether you’re exploring AI for your own initiatives or looking to connect with peers\, this event offers insights\, collaboration\, and inspiration to drive innovation. \nRegister online: https://ucop.zoom.us/webinar/register/WN_GPycVkLXStqBpWcPB5jRcA#/registration
URL:https://link.ucop.edu/event/ai-in-action-uc-ai-innovation-virtual-share-fair-2/
LOCATION:Zoom
END:VEVENT
END:VCALENDAR