BEGIN:VCALENDAR
VERSION:2.0
PRODID:-//Link: UCOP&#039;s e-newsletter - ECPv6.15.19//NONSGML v1.0//EN
CALSCALE:GREGORIAN
METHOD:PUBLISH
X-ORIGINAL-URL:https://link.ucop.edu
X-WR-CALDESC:Events for Link: UCOP&#039;s e-newsletter
REFRESH-INTERVAL;VALUE=DURATION:PT1H
X-Robots-Tag:noindex
X-PUBLISHED-TTL:PT1H
BEGIN:VTIMEZONE
TZID:America/Los_Angeles
BEGIN:STANDARD
TZOFFSETFROM:-0700
TZOFFSETTO:-0800
DTSTART:19701029T020000
RRULE:FREQ=YEARLY;BYMONTH=11;BYDAY=1SU
END:STANDARD
BEGIN:DAYLIGHT
DTSTART:19700402T020000
TZOFFSETFROM:-0800
TZOFFSETTO:-0700
RRULE:FREQ=YEARLY;BYMONTH=3;BYDAY=2SU
END:DAYLIGHT
END:VTIMEZONE
BEGIN:VTIMEZONE
TZID:America/Los_Angeles
BEGIN:DAYLIGHT
TZOFFSETFROM:-0800
TZOFFSETTO:-0700
TZNAME:PDT
DTSTART:20170312T100000
END:DAYLIGHT
BEGIN:STANDARD
TZOFFSETFROM:-0700
TZOFFSETTO:-0800
TZNAME:PST
DTSTART:20171105T090000
END:STANDARD
BEGIN:DAYLIGHT
TZOFFSETFROM:-0800
TZOFFSETTO:-0700
TZNAME:PDT
DTSTART:20180311T100000
END:DAYLIGHT
BEGIN:STANDARD
TZOFFSETFROM:-0700
TZOFFSETTO:-0800
TZNAME:PST
DTSTART:20181104T090000
END:STANDARD
BEGIN:DAYLIGHT
TZOFFSETFROM:-0800
TZOFFSETTO:-0700
TZNAME:PDT
DTSTART:20190310T100000
END:DAYLIGHT
BEGIN:STANDARD
TZOFFSETFROM:-0700
TZOFFSETTO:-0800
TZNAME:PST
DTSTART:20191103T090000
END:STANDARD
BEGIN:DAYLIGHT
TZOFFSETFROM:-0800
TZOFFSETTO:-0700
TZNAME:PDT
DTSTART:20200308T100000
END:DAYLIGHT
BEGIN:STANDARD
TZOFFSETFROM:-0700
TZOFFSETTO:-0800
TZNAME:PST
DTSTART:20201101T090000
END:STANDARD
END:VTIMEZONE
BEGIN:VEVENT
DTSTART;TZID=America/Los_Angeles:20191212T113000
DTEND;TZID=America/Los_Angeles:20191212T133000
DTSTAMP:20260419T180256
CREATED:20191028T194754Z
LAST-MODIFIED:20191028T194754Z
UID:10006825-1576150200-1576157400@link.ucop.edu
SUMMARY:BSFO Holiday Potluck
DESCRIPTION:Join the BSFO for a holiday potluck!
URL:https://link.ucop.edu/event/bsfo-holiday-potluck-2/
LOCATION:Franklin 9204
CATEGORIES:Employee Resource + Affinity Groups
ORGANIZER;CN="Black Staff & Faculty Organization":MAILTO:ghanya.thomas@ucop.edu
END:VEVENT
BEGIN:VEVENT
DTSTART;TZID=America/Los_Angeles:20190918T120000
DTEND;TZID=America/Los_Angeles:20190918T133000
DTSTAMP:20260419T180256
CREATED:20190807T183447Z
LAST-MODIFIED:20190916T220654Z
UID:10007383-1568808000-1568813400@link.ucop.edu
SUMMARY:BSFO Hot Dog\, Chili & Nacho Scholarship Lunch
DESCRIPTION:BSFO is hosting its annual scholarship lunch on Wednesday\, Sept. 18\, and you’re invited! This delicious and fun lunchtime event will raise funds for BSFO’s annual scholarship program. Members’ goal is to raise $3\,000 for three deserving UC-enrolled students — $1\,000 per student. \nThe menu includes: \n\nHot dogs\nChili (beef\, turkey and vegan)\nNachos\n\nPlace your order now!\nPlease note that you must place your order by Monday\, Sept. 16 to participate. \nPlease contact Antoinette.Lewis-Long@ucop.edu with any questions.
URL:https://link.ucop.edu/event/bsfo-hot-dog-chili-nacho-scholarship-lunch/
LOCATION:Franklin 5320
CATEGORIES:Employee Resource + Affinity Groups,Special event
ORGANIZER;CN="Black Staff & Faculty Organization":MAILTO:ghanya.thomas@ucop.edu
END:VEVENT
BEGIN:VEVENT
DTSTART;TZID=America/Los_Angeles:20190619T120000
DTEND;TZID=America/Los_Angeles:20190619T133000
DTSTAMP:20260419T180256
CREATED:20190523T203412Z
LAST-MODIFIED:20190530T201508Z
UID:10007322-1560945600-1560951000@link.ucop.edu
SUMMARY:BSFO Juneteenth Celebration
DESCRIPTION:Join the Black Staff and Faculty Organization in celebrating Juneteenth! \nJuneteenth is the oldest known celebration commemorating the ending of slavery in the United States. It was on June 19\, 1865\, when Union soldiers arrived at Galveston\, Texas with news the Civil War had ended and that all slaves were free. \nWe will celebrate at UCOP with a potluck lunch and board games. Bring your favorite dish and game. (You don’t have to bring something to participate). \nSign up here.
URL:https://link.ucop.edu/event/bsfo-juneteenth-celebration/
LOCATION:Franklin Lobby 1
CATEGORIES:Employee Resource + Affinity Groups,Film,Special event
ORGANIZER;CN="Black Staff & Faculty Organization":MAILTO:ghanya.thomas@ucop.edu
GEO:37.8022945;-122.271448
END:VEVENT
BEGIN:VEVENT
DTSTART;TZID=America/Los_Angeles:20190228T120000
DTEND;TZID=America/Los_Angeles:20190228T130000
DTSTAMP:20260419T180256
CREATED:20190221T230644Z
LAST-MODIFIED:20190222T004427Z
UID:10007223-1551355200-1551358800@link.ucop.edu
SUMMARY:BSFO Films: "Pushing Skills" & "Jabari Keating"
DESCRIPTION:BSFO Film Premieres\nJoin the Black Staff and Faculty Organization (BSFO) in viewing films from the San Francisco Black Film Festival (SBFF) during Black History Month! \n“Pushing Skills”\nA street-smart hustler uses his invention to give people extraordinary skills for few hours but finds himself in trouble when the wrong people hear about it. (Run time: 15 minutes) \n \n“Jabari Keating”\nUpon making a life altering decision\, Jabari Keating is a candid first person narrative film that explores his personal reflections\, life experiences and trials and tribulations as an African American in present day America. (Run time: 10 minutes) \n \nAbout the SBFF\nThe SBFF’s mission is to celebrate African-American cinema and the African cultural diaspora\, while showcasing a diverse collection of (short and full-length feature) films from emerging and established filmmakers. This is accomplished by presenting back films\, which reinforce positive images and dispel negative stereotypes. We provide a forum for the work of film artists from around the world — particularly the Bay Area — to be viewed and discussed. \nSFBFF believes film can lead to a better understanding of and communication between\, people of diverse cultures\, races and lifestyles\, while simultaneously serving as a vehicle to initiate dialogue on the important issues of our times. \nFor more information\, please contact Latascha.MagnessCotton@ucop.edu.
URL:https://link.ucop.edu/event/black-history-month-film-series-2/
LOCATION:Franklin Lobby 1
CATEGORIES:Employee Resource + Affinity Groups,Film,Special event
ORGANIZER;CN="Black Staff & Faculty Organization":MAILTO:ghanya.thomas@ucop.edu
END:VEVENT
BEGIN:VEVENT
DTSTART;TZID=America/Los_Angeles:20190225T120000
DTEND;TZID=America/Los_Angeles:20190225T130000
DTSTAMP:20260419T180256
CREATED:20190221T230515Z
LAST-MODIFIED:20190222T004342Z
UID:10007222-1551096000-1551099600@link.ucop.edu
SUMMARY:BSFO Films: "Gladys Brown\," "Charlie" (Pt. 2) & "To Raise a Child"
DESCRIPTION:BSFO Film Premieres\nJoin the Black Staff and Faculty Organization (BSFO) in viewing films from the San Francisco Black Film Festival (SBFF) during Black History Month! \n“Gladys Brown”\nAfter being cheated out of her dream job\, a long-suffering receptionist plots revenge. (Run time: 12.5 minutes) \n \n  \n“La Vie Magnifique de Charlie”\nA carefree woman struggles to remain so\, even after the death the love of her life: her sister. (Showing part two. Total run time: 1 hour\, 23 minutes) \n \n“To Raise a Child”\nOlivia Jones\, up until now\, believed that her son was killed by a white police officer. Just seven months after her son was shot and killed\, Olivia pulls herself together to host a family dinner while dealing with the loss of her son and the strain on her marriage. Tensions and emotion arise amid conversations about love\, grief and police brutality. (Total run time: 20 minutes) \n \nAbout the SBFF\nThe SBFF’s mission is to celebrate African-American cinema and the African cultural diaspora\, while showcasing a diverse collection of (short and full-length feature) films from emerging and established filmmakers. This is accomplished by presenting back films\, which reinforce positive images and dispel negative stereotypes. We provide a forum for the work of film artists from around the world — particularly the Bay Area — to be viewed and discussed. \nSFBFF believes film can lead to a better understanding of and communication between\, people of diverse cultures\, races and lifestyles\, while simultaneously serving as a vehicle to initiate dialogue on the important issues of our times. \nFor more information\, please contact Latascha.MagnessCotton@ucop.edu.
URL:https://link.ucop.edu/event/black-history-month-film-series/
LOCATION:Franklin Lobby 1
CATEGORIES:Employee Resource + Affinity Groups,Film,Special event
ORGANIZER;CN="Black Staff & Faculty Organization":MAILTO:ghanya.thomas@ucop.edu
END:VEVENT
BEGIN:VEVENT
DTSTART;TZID=America/Los_Angeles:20190221T120000
DTEND;TZID=America/Los_Angeles:20190221T130000
DTSTAMP:20260419T180256
CREATED:20190116T200420Z
LAST-MODIFIED:20190220T170205Z
UID:10006613-1550750400-1550754000@link.ucop.edu
SUMMARY:CANCELED: A Special Presentation for Black Women
DESCRIPTION:CANCELED \n 
URL:https://link.ucop.edu/event/a-special-presentation-for-black-women/
CATEGORIES:Employee Resource + Affinity Groups,Special event,Special presentation
ORGANIZER;CN="Black Staff & Faculty Organization":MAILTO:ghanya.thomas@ucop.edu
END:VEVENT
BEGIN:VEVENT
DTSTART;TZID=America/Los_Angeles:20190220T120000
DTEND;TZID=America/Los_Angeles:20190220T130000
DTSTAMP:20260419T180256
CREATED:20190116T200232Z
LAST-MODIFIED:20190205T225952Z
UID:10007129-1550664000-1550667600@link.ucop.edu
SUMMARY:Black History Month: Genealogy Workshop
DESCRIPTION:Discover your family roots!  Genealogy family tree forms will be provided in advance. Genealogy experts hail from the African American Genealogical Society of Northern California (AAGSNC).
URL:https://link.ucop.edu/event/interactive-workshop-featuring-genealogy-experts/
LOCATION:Franklin Lobby 1
CATEGORIES:Employee Resource + Affinity Groups,Special event,Special presentation
ORGANIZER;CN="Black Staff & Faculty Organization":MAILTO:ghanya.thomas@ucop.edu
END:VEVENT
BEGIN:VEVENT
DTSTART;TZID=America/Los_Angeles:20190214T120000
DTEND;TZID=America/Los_Angeles:20190214T130000
DTSTAMP:20260419T180256
CREATED:20190116T200023Z
LAST-MODIFIED:20190118T222121Z
UID:10007127-1550145600-1550149200@link.ucop.edu
SUMMARY:BSFO Guest Speaker Series
DESCRIPTION:This guest speaker event will feature Mary Ellen Butler\, retired Oakland Tribune journalist and author of Heart & Soul: The Remarkable Courtship and Marriage of Josh and Virginia Craft Rose.
URL:https://link.ucop.edu/event/bsfo-guest-speaker-series/
LOCATION:Franklin Lobby 1
CATEGORIES:Employee Resource + Affinity Groups,Special event,Special presentation
ORGANIZER;CN="Black Staff & Faculty Organization":MAILTO:ghanya.thomas@ucop.edu
END:VEVENT
BEGIN:VEVENT
DTSTART;TZID=America/Los_Angeles:20190211T120000
DTEND;TZID=America/Los_Angeles:20190211T130000
DTSTAMP:20260419T180256
CREATED:20190116T195810Z
LAST-MODIFIED:20190116T195810Z
UID:10007125-1549886400-1549890000@link.ucop.edu
SUMMARY:Fireside Chat with Provost & Executive Vice President Michael Brown
DESCRIPTION:
URL:https://link.ucop.edu/event/fireside-chat-with-provost-executive-vice-president-michael-brown/
LOCATION:Franklin Lobby 1
CATEGORIES:Employee Resource + Affinity Groups,Special event,Special presentation
ORGANIZER;CN="Black Staff & Faculty Organization":MAILTO:ghanya.thomas@ucop.edu
END:VEVENT
BEGIN:VEVENT
DTSTART;TZID=America/Los_Angeles:20190207T120000
DTEND;TZID=America/Los_Angeles:20190207T130000
DTSTAMP:20260419T180256
CREATED:20190116T195649Z
LAST-MODIFIED:20190116T195649Z
UID:10007123-1549540800-1549544400@link.ucop.edu
SUMMARY:BSFO’s Community Partnership Presentations
DESCRIPTION:Concerned Parents Alliance/College Bound Programs & The Young Gents Organization will talk about their work as community partners with BSFO.
URL:https://link.ucop.edu/event/bsfos-community-partnership-presentations/
LOCATION:Franklin Lobby 1
CATEGORIES:Employee Resource + Affinity Groups,Special event,Special presentation
ORGANIZER;CN="Black Staff & Faculty Organization":MAILTO:ghanya.thomas@ucop.edu
END:VEVENT
BEGIN:VEVENT
DTSTART;TZID=America/Los_Angeles:20190204T120000
DTEND;TZID=America/Los_Angeles:20190204T130000
DTSTAMP:20260419T180256
CREATED:20190116T195357Z
LAST-MODIFIED:20190116T195357Z
UID:10007121-1549281600-1549285200@link.ucop.edu
SUMMARY:BSFO’s Black History Month Kick-off Event
DESCRIPTION:This kick-off event will feature  UC Davis Chancellor Gary S. May\, as well as the presentation to the recipient of BSFO’s $1\,000 UC Student Scholarship Award.
URL:https://link.ucop.edu/event/bsfos-black-history-month-kick-off-event/
LOCATION:Franklin Lobby 1
CATEGORIES:Employee Resource + Affinity Groups,Special event,Special presentation
ORGANIZER;CN="Black Staff & Faculty Organization":MAILTO:ghanya.thomas@ucop.edu
END:VEVENT
BEGIN:VEVENT
DTSTART;TZID=America/Los_Angeles:20181212T113000
DTEND;TZID=America/Los_Angeles:20181212T130000
DTSTAMP:20260419T180256
CREATED:20181130T214220Z
LAST-MODIFIED:20181130T214220Z
UID:10006600-1544614200-1544619600@link.ucop.edu
SUMMARY:BSFO Holiday Potluck
DESCRIPTION:Join the members of the Black Staff and Faculty Organization affinity group for this festive holiday event featuring great food\, wonderful conversation and fantastic music. Sign up to bring your favorite soul food dish or other needed items (plates\, cups\, etc.) at https://goo.gl/DA9e1p. \nQuestions about this event? Contact Ghanya.Thomas@ucop.edu or Latscha.MagnessCotton@ucop.edu.
URL:https://link.ucop.edu/event/bsfo-holiday-potluck/
LOCATION:Franklin 9204
CATEGORIES:Employee Resource + Affinity Groups
ORGANIZER;CN="Black Staff & Faculty Organization":MAILTO:ghanya.thomas@ucop.edu
END:VEVENT
BEGIN:VEVENT
DTSTART;TZID=America/Los_Angeles:20180626T120000
DTEND;TZID=America/Los_Angeles:20180626T140000
DTSTAMP:20260419T180256
CREATED:20180614T165322Z
LAST-MODIFIED:20180615T191729Z
UID:10006977-1530014400-1530021600@link.ucop.edu
SUMMARY:BBQ lunch fundraiser sponsored by OGC Diversity Committee and BSFO
DESCRIPTION:The Office of General Counsel Diversity Committee and Black Staff and Faculty Organization are sponsoring a BBQ lunch fundraiser and a screening of the film “Black Panther.” \nThe menu includes bbq chicken\, pork ribs\, beef links and a vegan option. All orders will include potato salad\, dessert and one bottle of water. To place your order online: https://goo.gl/Yz3thS \nProceeds will benefit the BSFO’s Student Scholarship Fund.
URL:https://link.ucop.edu/event/bbq-lunch-fundraiser-sponsored-by-ogc-diversity-committee-and-bsfo/
LOCATION:Franklin Lobby 1
CATEGORIES:Employee Resource + Affinity Groups
ORGANIZER;CN="Black Staff & Faculty Organization":MAILTO:ghanya.thomas@ucop.edu
GEO:37.8022945;-122.271448
END:VEVENT
BEGIN:VEVENT
DTSTART;TZID=America/Los_Angeles:20180619T120000
DTEND;TZID=America/Los_Angeles:20180619T130000
DTSTAMP:20260419T180256
CREATED:20180614T164634Z
LAST-MODIFIED:20180614T164634Z
UID:10006975-1529409600-1529413200@link.ucop.edu
SUMMARY:Celebrate Juneteenth with the Black Staff & Faculty Organization
DESCRIPTION:Join the Black Staff and Faculty Organization and the Office of General Counsel Diversity Committee for an afternoon of celebration and community to mark Juneteenth\, one of the most significant and historical days in African American history. \nHere’s the schedule for the Tuesday\, June 19 celebration: \n\n12–12:15 p.m.: Group photo on the Franklin fifth floor patio\n12:15–1:15 p.m.: Potluck in Franklin 9204\n\nAfrican attire preferred during the photoshoot but not required for the potluck.
URL:https://link.ucop.edu/event/celebrate-juneteenth-with-the-black-staff-faculty-organization/
CATEGORIES:Employee Resource + Affinity Groups
ORGANIZER;CN="Black Staff & Faculty Organization":MAILTO:ghanya.thomas@ucop.edu
END:VEVENT
BEGIN:VEVENT
DTSTART;TZID=America/Los_Angeles:20180423T120000
DTEND;TZID=America/Los_Angeles:20180423T130000
DTSTAMP:20260419T180256
CREATED:20180320T164440Z
LAST-MODIFIED:20180402T235437Z
UID:10006935-1524484800-1524488400@link.ucop.edu
SUMMARY:Book signing and discussion with the nation's oldest career park ranger
DESCRIPTION:Betty Reid Soskin\, 96\, has lived an extraordinary life of purpose through service to others. She is the oldest park ranger serving with the National Park Service. She will share her insights into American history on April 23. \nSoskin is the author of “Sign My Name to Freedom: A Memoir of a Pioneering Life\,” and will also be signing copies of her book. \nQuestions about this event? Please contact the Black Staff and Faculty Organization at Latascha.MagnessCotton@ucop.edu.
URL:https://link.ucop.edu/event/legacy-of-service-96-years-of-stories/
LOCATION:Franklin Lobby 1
CATEGORIES:Employee Resource + Affinity Groups
ORGANIZER;CN="Black Staff & Faculty Organization":MAILTO:ghanya.thomas@ucop.edu
GEO:37.8022945;-122.271448
END:VEVENT
END:VCALENDAR