BEGIN:VCALENDAR
VERSION:2.0
PRODID:-//Link: UCOP&#039;s e-newsletter - ECPv6.15.19//NONSGML v1.0//EN
CALSCALE:GREGORIAN
METHOD:PUBLISH
X-ORIGINAL-URL:https://link.ucop.edu
X-WR-CALDESC:Events for Link: UCOP&#039;s e-newsletter
REFRESH-INTERVAL;VALUE=DURATION:PT1H
X-Robots-Tag:noindex
X-PUBLISHED-TTL:PT1H
BEGIN:VTIMEZONE
TZID:America/Los_Angeles
BEGIN:STANDARD
TZOFFSETFROM:-0700
TZOFFSETTO:-0800
DTSTART:19701029T020000
RRULE:FREQ=YEARLY;BYMONTH=11;BYDAY=1SU
END:STANDARD
BEGIN:DAYLIGHT
DTSTART:19700402T020000
TZOFFSETFROM:-0800
TZOFFSETTO:-0700
RRULE:FREQ=YEARLY;BYMONTH=3;BYDAY=2SU
END:DAYLIGHT
END:VTIMEZONE
BEGIN:VTIMEZONE
TZID:America/Los_Angeles
BEGIN:DAYLIGHT
TZOFFSETFROM:-0800
TZOFFSETTO:-0700
TZNAME:PDT
DTSTART:20230312T100000
END:DAYLIGHT
BEGIN:STANDARD
TZOFFSETFROM:-0700
TZOFFSETTO:-0800
TZNAME:PST
DTSTART:20231105T090000
END:STANDARD
BEGIN:DAYLIGHT
TZOFFSETFROM:-0800
TZOFFSETTO:-0700
TZNAME:PDT
DTSTART:20240310T100000
END:DAYLIGHT
BEGIN:STANDARD
TZOFFSETFROM:-0700
TZOFFSETTO:-0800
TZNAME:PST
DTSTART:20241103T090000
END:STANDARD
BEGIN:DAYLIGHT
TZOFFSETFROM:-0800
TZOFFSETTO:-0700
TZNAME:PDT
DTSTART:20250309T100000
END:DAYLIGHT
BEGIN:STANDARD
TZOFFSETFROM:-0700
TZOFFSETTO:-0800
TZNAME:PST
DTSTART:20251102T090000
END:STANDARD
END:VTIMEZONE
BEGIN:VEVENT
DTSTART;TZID=America/Los_Angeles:20241217T090000
DTEND;TZID=America/Los_Angeles:20241217T150000
DTSTAMP:20260419T084116
CREATED:20240409T222802Z
LAST-MODIFIED:20240909T202603Z
UID:10010091-1734426000-1734447600@link.ucop.edu
SUMMARY:Red Cross Blood Drive
DESCRIPTION:All employees are invited to take part in an American Red Crossblood  To schedule your appointment\, or for questions\, please contact Jan Kehoe at 510-987-9692 or jkehoe.blood@yahoo.com or carlos.arias@ucop.edu. \n\nContacts: Jan Kehoe at 510-987-9692\,blood@yahoo.com;
URL:https://link.ucop.edu/event/red-cross-blood-drive-3/2024-12-17/
LOCATION:Franklin Lobby 1
END:VEVENT
BEGIN:VEVENT
DTSTART;TZID=America/Los_Angeles:20241001T090000
DTEND;TZID=America/Los_Angeles:20241001T150000
DTSTAMP:20260419T084116
CREATED:20240409T222802Z
LAST-MODIFIED:20240909T202603Z
UID:10010090-1727773200-1727794800@link.ucop.edu
SUMMARY:Red Cross Blood Drive
DESCRIPTION:All employees are invited to take part in an American Red Crossblood  To schedule your appointment\, or for questions\, please contact Jan Kehoe at 510-987-9692 or jkehoe.blood@yahoo.com or carlos.arias@ucop.edu. \n\nContacts: Jan Kehoe at 510-987-9692\,blood@yahoo.com;
URL:https://link.ucop.edu/event/red-cross-blood-drive-3/2024-10-01/
LOCATION:Franklin Lobby 1
END:VEVENT
BEGIN:VEVENT
DTSTART;TZID=America/Los_Angeles:20240618T090000
DTEND;TZID=America/Los_Angeles:20240618T150000
DTSTAMP:20260419T084116
CREATED:20240409T222802Z
LAST-MODIFIED:20240909T202603Z
UID:10010089-1718701200-1718722800@link.ucop.edu
SUMMARY:Red Cross Blood Drive
DESCRIPTION:All employees are invited to take part in an American Red Crossblood  To schedule your appointment\, or for questions\, please contact Jan Kehoe at 510-987-9692 or jkehoe.blood@yahoo.com or carlos.arias@ucop.edu. \n\nContacts: Jan Kehoe at 510-987-9692\,blood@yahoo.com;
URL:https://link.ucop.edu/event/red-cross-blood-drive-3/2024-06-18/
LOCATION:Franklin Lobby 1
END:VEVENT
END:VCALENDAR