BEGIN:VCALENDAR
VERSION:2.0
PRODID:-//Link: UCOP&#039;s e-newsletter - ECPv6.15.19//NONSGML v1.0//EN
CALSCALE:GREGORIAN
METHOD:PUBLISH
X-ORIGINAL-URL:https://link.ucop.edu
X-WR-CALDESC:Events for Link: UCOP&#039;s e-newsletter
REFRESH-INTERVAL;VALUE=DURATION:PT1H
X-Robots-Tag:noindex
X-PUBLISHED-TTL:PT1H
BEGIN:VTIMEZONE
TZID:America/Los_Angeles
BEGIN:STANDARD
TZOFFSETFROM:-0700
TZOFFSETTO:-0800
DTSTART:19701029T020000
RRULE:FREQ=YEARLY;BYMONTH=11;BYDAY=1SU
END:STANDARD
BEGIN:DAYLIGHT
DTSTART:19700402T020000
TZOFFSETFROM:-0800
TZOFFSETTO:-0700
RRULE:FREQ=YEARLY;BYMONTH=3;BYDAY=2SU
END:DAYLIGHT
END:VTIMEZONE
BEGIN:VTIMEZONE
TZID:America/Los_Angeles
BEGIN:DAYLIGHT
TZOFFSETFROM:-0800
TZOFFSETTO:-0700
TZNAME:PDT
DTSTART:20170312T100000
END:DAYLIGHT
BEGIN:STANDARD
TZOFFSETFROM:-0700
TZOFFSETTO:-0800
TZNAME:PST
DTSTART:20171105T090000
END:STANDARD
BEGIN:DAYLIGHT
TZOFFSETFROM:-0800
TZOFFSETTO:-0700
TZNAME:PDT
DTSTART:20180311T100000
END:DAYLIGHT
BEGIN:STANDARD
TZOFFSETFROM:-0700
TZOFFSETTO:-0800
TZNAME:PST
DTSTART:20181104T090000
END:STANDARD
BEGIN:DAYLIGHT
TZOFFSETFROM:-0800
TZOFFSETTO:-0700
TZNAME:PDT
DTSTART:20190310T100000
END:DAYLIGHT
BEGIN:STANDARD
TZOFFSETFROM:-0700
TZOFFSETTO:-0800
TZNAME:PST
DTSTART:20191103T090000
END:STANDARD
END:VTIMEZONE
BEGIN:VEVENT
DTSTART;TZID=America/Los_Angeles:20181205T100000
DTEND;TZID=America/Los_Angeles:20181205T140000
DTSTAMP:20260421T024742
CREATED:20181203T175415Z
LAST-MODIFIED:20181203T175415Z
UID:10007084-1544004000-1544018400@link.ucop.edu
SUMMARY:UCOP Craft Fair
DESCRIPTION:An annual tradition\, this year’s Craft Fair will feature several new sellers as well as many returning favorites. All vendors and crafters are UCOP employees or their family and friends\, os this is the ultimate ‘shop local’ event. \nQuestions about this event? Contact Carol.Lake@ucop.edu or Rebecca.Landes@ucop.edu
URL:https://link.ucop.edu/event/ucop-craft-fair/
LOCATION:Franklin lobby
CATEGORIES:Special event
END:VEVENT
BEGIN:VEVENT
DTSTART;TZID=America/Los_Angeles:20181205T100000
DTEND;TZID=America/Los_Angeles:20181205T140000
DTSTAMP:20260421T024742
CREATED:20180910T171326Z
LAST-MODIFIED:20180910T171326Z
UID:10007003-1544004000-1544018400@link.ucop.edu
SUMMARY:UCOP Winter Crafts Fair
DESCRIPTION:The popular annual UCOP Winter Crafts Fair returns with hand-crafted items created by your UCOP colleagues! The four-hour fair will be held in the Franklin lobby. \nStay tuned for more details!
URL:https://link.ucop.edu/event/ucop-winter-crafts-fair/
LOCATION:Franklin lobby
CATEGORIES:Employee Resource + Affinity Groups,Special event
END:VEVENT
BEGIN:VEVENT
DTSTART;TZID=America/Los_Angeles:20181015T080000
DTEND;TZID=America/Los_Angeles:20181015T170000
DTSTAMP:20260421T024742
CREATED:20180910T171125Z
LAST-MODIFIED:20180910T171125Z
UID:10007001-1539590400-1539622800@link.ucop.edu
SUMMARY:Deadline to apply to sell at UCOP Winter Crafts Fair
DESCRIPTION:If you bead\, knit\, paint\, print\, sew\, tie-dye\, make paper or wood crafts\, or create any other hand-crafted items\, consider selling at the UCOP Winter Crafts Fair on Wednesday\, Dec. 5 in the Franklin Lobby. \nThe cost is $30\, which provides you with a table\, table cover and chair. You keep all sale proceeds. \nTo apply\, send photos of your work to rebecca.landes@ucop.edu by Monday\, Oct. 15. No mass-produced or imported items will be accepted. \nQuestions? Contact carol.lake@ucop.edu or rebecca.landes@ucop.edu.
URL:https://link.ucop.edu/event/deadline-to-apply-to-sell-at-ucop-winter-crafts-fair/
CATEGORIES:Employee Resource + Affinity Groups
END:VEVENT
END:VCALENDAR