BEGIN:VCALENDAR
VERSION:2.0
PRODID:-//Link: UCOP&#039;s e-newsletter - ECPv6.15.19//NONSGML v1.0//EN
CALSCALE:GREGORIAN
METHOD:PUBLISH
X-ORIGINAL-URL:https://link.ucop.edu
X-WR-CALDESC:Events for Link: UCOP&#039;s e-newsletter
REFRESH-INTERVAL;VALUE=DURATION:PT1H
X-Robots-Tag:noindex
X-PUBLISHED-TTL:PT1H
BEGIN:VTIMEZONE
TZID:America/Los_Angeles
BEGIN:STANDARD
TZOFFSETFROM:-0700
TZOFFSETTO:-0800
DTSTART:19701029T020000
RRULE:FREQ=YEARLY;BYMONTH=11;BYDAY=1SU
END:STANDARD
BEGIN:DAYLIGHT
DTSTART:19700402T020000
TZOFFSETFROM:-0800
TZOFFSETTO:-0700
RRULE:FREQ=YEARLY;BYMONTH=3;BYDAY=2SU
END:DAYLIGHT
END:VTIMEZONE
BEGIN:VTIMEZONE
TZID:America/Los_Angeles
BEGIN:DAYLIGHT
TZOFFSETFROM:-0800
TZOFFSETTO:-0700
TZNAME:PDT
DTSTART:20190310T100000
END:DAYLIGHT
BEGIN:STANDARD
TZOFFSETFROM:-0700
TZOFFSETTO:-0800
TZNAME:PST
DTSTART:20191103T090000
END:STANDARD
BEGIN:DAYLIGHT
TZOFFSETFROM:-0800
TZOFFSETTO:-0700
TZNAME:PDT
DTSTART:20200308T100000
END:DAYLIGHT
BEGIN:STANDARD
TZOFFSETFROM:-0700
TZOFFSETTO:-0800
TZNAME:PST
DTSTART:20201101T090000
END:STANDARD
BEGIN:DAYLIGHT
TZOFFSETFROM:-0800
TZOFFSETTO:-0700
TZNAME:PDT
DTSTART:20210314T100000
END:DAYLIGHT
BEGIN:STANDARD
TZOFFSETFROM:-0700
TZOFFSETTO:-0800
TZNAME:PST
DTSTART:20211107T090000
END:STANDARD
END:VTIMEZONE
BEGIN:VEVENT
DTSTART;TZID=America/Los_Angeles:20200211T133000
DTEND;TZID=America/Los_Angeles:20200211T141500
DTSTAMP:20260420T045420
CREATED:20200114T231638Z
LAST-MODIFIED:20200114T231638Z
UID:10007651-1581427800-1581430500@link.ucop.edu
SUMMARY:Fidelity Workshop - Create a budget\, ditch your debt\, and start building for the future
DESCRIPTION:Create a budget\, ditch your debt\, and start building for the future \nWhen: Tuesday\, Feb. 11\, 1:30-2:15 p.m. \nWhere: Franklin 12129 \nRegister and confirm location at Fidelity’s Consultations & Workshops page.
URL:https://link.ucop.edu/event/fidelity-workshop-create-a-budget-ditch-your-debt-and-start-building-for-the-future/
LOCATION:Franklin 12129
CATEGORIES:Financial workshop
END:VEVENT
BEGIN:VEVENT
DTSTART;TZID=America/Los_Angeles:20200211T124500
DTEND;TZID=America/Los_Angeles:20200211T133000
DTSTAMP:20260420T045420
CREATED:20200114T231420Z
LAST-MODIFIED:20200114T231420Z
UID:10007650-1581425100-1581427800@link.ucop.edu
SUMMARY:Fidelity Workshop - The UC Retirement Choice Program
DESCRIPTION:The UC Retirement Choice Program \nWhen: Tuesday\, Feb. 11\, 12:45-1:30 p.m. \nWhere: Franklin 12129 \nRegister and confirm location at Fidelity’s Consultations & Workshops page. \n 
URL:https://link.ucop.edu/event/fidelity-workshop-the-uc-retirement-choice-program-2/
LOCATION:Franklin 12129
CATEGORIES:Financial workshop
END:VEVENT
BEGIN:VEVENT
DTSTART;TZID=America/Los_Angeles:20200211T120000
DTEND;TZID=America/Los_Angeles:20200211T124500
DTSTAMP:20260420T045420
CREATED:20200114T231224Z
LAST-MODIFIED:20200114T231224Z
UID:10007649-1581422400-1581425100@link.ucop.edu
SUMMARY:Fidelity Workshop - Fundamentals of retirement income planning
DESCRIPTION:Fundamentals of retirement income planning \nWhen: Tuesday\, Feb. 11\, 12-12:45 p.m. \nWhere: Franklin 12129 \nRegister and confirm location at Fidelity’s Consultations & Workshops page. \n 
URL:https://link.ucop.edu/event/fidelity-workshop-fundamentals-of-retirement-income-planning/
LOCATION:Franklin 12129
CATEGORIES:Financial workshop
GEO:36.778261;-119.4179324
END:VEVENT
BEGIN:VEVENT
DTSTART;TZID=America/Los_Angeles:20200211T094500
DTEND;TZID=America/Los_Angeles:20200211T103000
DTSTAMP:20260420T045420
CREATED:20200114T230819Z
LAST-MODIFIED:20200114T231018Z
UID:10007648-1581414300-1581417000@link.ucop.edu
SUMMARY:Fidelity Workshop - Women and investing — organize\, plan\, own your future
DESCRIPTION:Women and investing — organize\, plan\, own your future \nWhen: Tuesday\, Feb. 11\, 9:45-10:30 a.m. \nWhere: Kaiser 705 \nRegister and confirm location at Fidelity’s Consultations & Workshops page.
URL:https://link.ucop.edu/event/fidelity-workshop-women-and-investing-organize-plan-own-your-future/
LOCATION:Kaiser 705
CATEGORIES:Financial workshop
END:VEVENT
BEGIN:VEVENT
DTSTART;TZID=America/Los_Angeles:20200211T090000
DTEND;TZID=America/Los_Angeles:20200211T094500
DTSTAMP:20260420T045420
CREATED:20200114T230614Z
LAST-MODIFIED:20200114T230614Z
UID:10007645-1581411600-1581414300@link.ucop.edu
SUMMARY:Fidelity Workshop - Preserving your savings for future generations
DESCRIPTION:Preserving your savings for future generations \nWhen: Tuesday\, Feb. 11\, 9-9:45 a.m. \nWhere: Kaiser 705 \nRegister and confirm location at Fidelity’s Consultations & Workshops page.
URL:https://link.ucop.edu/event/fidelity-workshop-preserving-your-savings-for-future-generations/
LOCATION:Kaiser 705
CATEGORIES:Financial workshop
END:VEVENT
BEGIN:VEVENT
DTSTART;TZID=America/Los_Angeles:20200124T140000
DTEND;TZID=America/Los_Angeles:20200124T141500
DTSTAMP:20260420T045420
CREATED:20200114T214454Z
LAST-MODIFIED:20200114T214610Z
UID:10007643-1579874400-1579875300@link.ucop.edu
SUMMARY:Fidelity Workshop - Your college savings options
DESCRIPTION:Your college savings options \nWhen: Friday\, Jan. 24\, 1:30-2:15 p.m. \nWhere: Franklin 9115 \nRegister and confirm location at Fidelity’s Consultations & Workshops page.
URL:https://link.ucop.edu/event/fidelity-workshop-your-college-savings-options/
LOCATION:Franklin 9115
CATEGORIES:Financial workshop
END:VEVENT
BEGIN:VEVENT
DTSTART;TZID=America/Los_Angeles:20200124T124500
DTEND;TZID=America/Los_Angeles:20200124T133000
DTSTAMP:20260420T045420
CREATED:20200114T214314Z
LAST-MODIFIED:20200114T214314Z
UID:10007641-1579869900-1579872600@link.ucop.edu
SUMMARY:Fidelity Workshop - Guide to investing in the UC Retirement Savings Program
DESCRIPTION:Guide to investing in the UC Retirement Savings Program \nWhen: Friday\, Jan. 24\, 12:45-1:30 p.m. \nWhere: Franklin 9115 \nRegister and confirm location at Fidelity’s Consultations & Workshops page.
URL:https://link.ucop.edu/event/fidelity-workshop-guide-to-investing-in-the-uc-retirement-savings-program/
LOCATION:Franklin 9115
CATEGORIES:Financial workshop
END:VEVENT
BEGIN:VEVENT
DTSTART;TZID=America/Los_Angeles:20200124T120000
DTEND;TZID=America/Los_Angeles:20200124T124500
DTSTAMP:20260420T045420
CREATED:20200114T214122Z
LAST-MODIFIED:20200114T214122Z
UID:10007639-1579867200-1579869900@link.ucop.edu
SUMMARY:Fidelity Workshop - Make the most of the UC Retirement Savings Program
DESCRIPTION:Make the most of the UC Retirement Savings Program \nWhen: Friday\, Jan. 24\, 12-12:45 p.m. \nWhere: Franklin 9115 \nRegister and confirm location at Fidelity’s Consultations & Workshops page. \n 
URL:https://link.ucop.edu/event/fidelity-workshop-make-the-most-of-the-uc-retirement-savings-program/
LOCATION:Franklin 9115
CATEGORIES:Financial workshop
END:VEVENT
BEGIN:VEVENT
DTSTART;TZID=America/Los_Angeles:20200124T094500
DTEND;TZID=America/Los_Angeles:20200124T103000
DTSTAMP:20260420T045420
CREATED:20200114T213935Z
LAST-MODIFIED:20200114T213935Z
UID:10007637-1579859100-1579861800@link.ucop.edu
SUMMARY:Fidelity Workshop - Identify and prioritize your savings goals
DESCRIPTION:Identify and prioritize your savings goals \nWhen: Friday\, Jan. 24\, 9:45-10:30 a.m. \nWhere: Kaiser 705 \nRegister and confirm location at Fidelity’s Consultations & Workshops page.
URL:https://link.ucop.edu/event/fidelity-workshop-identify-and-prioritize-your-savings-goals/
LOCATION:Kaiser 705
CATEGORIES:Financial workshop
END:VEVENT
BEGIN:VEVENT
DTSTART;TZID=America/Los_Angeles:20200124T090000
DTEND;TZID=America/Los_Angeles:20200124T094500
DTSTAMP:20260420T045420
CREATED:20200114T213744Z
LAST-MODIFIED:20200114T213744Z
UID:10007635-1579856400-1579859100@link.ucop.edu
SUMMARY:Fidelity Workshop - The UC Retirement Choice Program
DESCRIPTION:The UC Retirement Choice Program \nWhen: Friday\, Jan. 24\, 9:00-9:45 a.m. \nWhere: Kaiser 705 \nRegister and confirm location at Fidelity’s Consultations & Workshops page. \n 
URL:https://link.ucop.edu/event/fidelity-workshop-the-uc-retirement-choice-program/
LOCATION:Kaiser 705
CATEGORIES:Financial workshop
END:VEVENT
BEGIN:VEVENT
DTSTART;TZID=America/Los_Angeles:20200114T080000
DTEND;TZID=America/Los_Angeles:20200114T170000
DTSTAMP:20260420T045420
CREATED:20200114T232151Z
LAST-MODIFIED:20200114T232151Z
UID:10007652-1578988800-1579021200@link.ucop.edu
SUMMARY:Fidelity Workshop - Strategies for drawing income in retirement
DESCRIPTION:Strategies for drawing income in retirement \nWhen: Friday\, March 20\, 12:45-1:30 p.m. \nWhere: Franklin 9115 \nRegister and confirm location at Fidelity’s Consultations & Workshops page. \n 
URL:https://link.ucop.edu/event/fidelity-workshop-strategies-for-drawing-income-in-retirement/
LOCATION:Franklin 9115
CATEGORIES:Financial workshop
END:VEVENT
END:VCALENDAR