BEGIN:VCALENDAR
VERSION:2.0
PRODID:-//Link: UCOP&#039;s e-newsletter - ECPv6.15.19//NONSGML v1.0//EN
CALSCALE:GREGORIAN
METHOD:PUBLISH
X-ORIGINAL-URL:https://link.ucop.edu
X-WR-CALDESC:Events for Link: UCOP&#039;s e-newsletter
REFRESH-INTERVAL;VALUE=DURATION:PT1H
X-Robots-Tag:noindex
X-PUBLISHED-TTL:PT1H
BEGIN:VTIMEZONE
TZID:America/Los_Angeles
BEGIN:STANDARD
TZOFFSETFROM:-0700
TZOFFSETTO:-0800
DTSTART:19701029T020000
RRULE:FREQ=YEARLY;BYMONTH=11;BYDAY=1SU
END:STANDARD
BEGIN:DAYLIGHT
DTSTART:19700402T020000
TZOFFSETFROM:-0800
TZOFFSETTO:-0700
RRULE:FREQ=YEARLY;BYMONTH=3;BYDAY=2SU
END:DAYLIGHT
END:VTIMEZONE
BEGIN:VTIMEZONE
TZID:America/Los_Angeles
BEGIN:DAYLIGHT
TZOFFSETFROM:-0800
TZOFFSETTO:-0700
TZNAME:PDT
DTSTART:20190310T100000
END:DAYLIGHT
BEGIN:STANDARD
TZOFFSETFROM:-0700
TZOFFSETTO:-0800
TZNAME:PST
DTSTART:20191103T090000
END:STANDARD
BEGIN:DAYLIGHT
TZOFFSETFROM:-0800
TZOFFSETTO:-0700
TZNAME:PDT
DTSTART:20200308T100000
END:DAYLIGHT
BEGIN:STANDARD
TZOFFSETFROM:-0700
TZOFFSETTO:-0800
TZNAME:PST
DTSTART:20201101T090000
END:STANDARD
BEGIN:DAYLIGHT
TZOFFSETFROM:-0800
TZOFFSETTO:-0700
TZNAME:PDT
DTSTART:20210314T100000
END:DAYLIGHT
BEGIN:STANDARD
TZOFFSETFROM:-0700
TZOFFSETTO:-0800
TZNAME:PST
DTSTART:20211107T090000
END:STANDARD
END:VTIMEZONE
BEGIN:VEVENT
DTSTART;TZID=America/Los_Angeles:20200124T094500
DTEND;TZID=America/Los_Angeles:20200124T103000
DTSTAMP:20260418T001135
CREATED:20200114T213935Z
LAST-MODIFIED:20200114T213935Z
UID:10007637-1579859100-1579861800@link.ucop.edu
SUMMARY:Fidelity Workshop - Identify and prioritize your savings goals
DESCRIPTION:Identify and prioritize your savings goals \nWhen: Friday\, Jan. 24\, 9:45-10:30 a.m. \nWhere: Kaiser 705 \nRegister and confirm location at Fidelity’s Consultations & Workshops page.
URL:https://link.ucop.edu/event/fidelity-workshop-identify-and-prioritize-your-savings-goals/
LOCATION:Kaiser 705
CATEGORIES:Financial workshop
END:VEVENT
BEGIN:VEVENT
DTSTART;TZID=America/Los_Angeles:20200124T090000
DTEND;TZID=America/Los_Angeles:20200124T094500
DTSTAMP:20260418T001135
CREATED:20200114T213744Z
LAST-MODIFIED:20200114T213744Z
UID:10007635-1579856400-1579859100@link.ucop.edu
SUMMARY:Fidelity Workshop - The UC Retirement Choice Program
DESCRIPTION:The UC Retirement Choice Program \nWhen: Friday\, Jan. 24\, 9:00-9:45 a.m. \nWhere: Kaiser 705 \nRegister and confirm location at Fidelity’s Consultations & Workshops page. \n 
URL:https://link.ucop.edu/event/fidelity-workshop-the-uc-retirement-choice-program/
LOCATION:Kaiser 705
CATEGORIES:Financial workshop
END:VEVENT
BEGIN:VEVENT
DTSTART;TZID=America/Los_Angeles:20200114T080000
DTEND;TZID=America/Los_Angeles:20200114T170000
DTSTAMP:20260418T001135
CREATED:20200114T232151Z
LAST-MODIFIED:20200114T232151Z
UID:10007652-1578988800-1579021200@link.ucop.edu
SUMMARY:Fidelity Workshop - Strategies for drawing income in retirement
DESCRIPTION:Strategies for drawing income in retirement \nWhen: Friday\, March 20\, 12:45-1:30 p.m. \nWhere: Franklin 9115 \nRegister and confirm location at Fidelity’s Consultations & Workshops page. \n 
URL:https://link.ucop.edu/event/fidelity-workshop-strategies-for-drawing-income-in-retirement/
LOCATION:Franklin 9115
CATEGORIES:Financial workshop
END:VEVENT
END:VCALENDAR