BEGIN:VCALENDAR
VERSION:2.0
PRODID:-//Link: UCOP&#039;s e-newsletter - ECPv6.15.20//NONSGML v1.0//EN
CALSCALE:GREGORIAN
METHOD:PUBLISH
X-ORIGINAL-URL:https://link.ucop.edu
X-WR-CALDESC:Events for Link: UCOP&#039;s e-newsletter
REFRESH-INTERVAL;VALUE=DURATION:PT1H
X-Robots-Tag:noindex
X-PUBLISHED-TTL:PT1H
BEGIN:VTIMEZONE
TZID:America/Los_Angeles
BEGIN:STANDARD
TZOFFSETFROM:-0700
TZOFFSETTO:-0800
DTSTART:19701029T020000
RRULE:FREQ=YEARLY;BYMONTH=11;BYDAY=1SU
END:STANDARD
BEGIN:DAYLIGHT
DTSTART:19700402T020000
TZOFFSETFROM:-0800
TZOFFSETTO:-0700
RRULE:FREQ=YEARLY;BYMONTH=3;BYDAY=2SU
END:DAYLIGHT
END:VTIMEZONE
BEGIN:VTIMEZONE
TZID:America/Los_Angeles
BEGIN:DAYLIGHT
TZOFFSETFROM:-0800
TZOFFSETTO:-0700
TZNAME:PDT
DTSTART:20240310T100000
END:DAYLIGHT
BEGIN:STANDARD
TZOFFSETFROM:-0700
TZOFFSETTO:-0800
TZNAME:PST
DTSTART:20241103T090000
END:STANDARD
BEGIN:DAYLIGHT
TZOFFSETFROM:-0800
TZOFFSETTO:-0700
TZNAME:PDT
DTSTART:20250309T100000
END:DAYLIGHT
BEGIN:STANDARD
TZOFFSETFROM:-0700
TZOFFSETTO:-0800
TZNAME:PST
DTSTART:20251102T090000
END:STANDARD
BEGIN:DAYLIGHT
TZOFFSETFROM:-0800
TZOFFSETTO:-0700
TZNAME:PDT
DTSTART:20260308T100000
END:DAYLIGHT
BEGIN:STANDARD
TZOFFSETFROM:-0700
TZOFFSETTO:-0800
TZNAME:PST
DTSTART:20261101T090000
END:STANDARD
END:VTIMEZONE
BEGIN:VEVENT
DTSTART;TZID=America/Los_Angeles:20251021T140000
DTEND;TZID=America/Los_Angeles:20251021T151500
DTSTAMP:20260423T175405
CREATED:20251006T161543Z
LAST-MODIFIED:20251006T161543Z
UID:10013329-1761055200-1761059700@link.ucop.edu
SUMMARY:UCOP AI Innovators Share Fair
DESCRIPTION:Join us this October for a virtual share fair to learn from fellow UCOP colleagues on ways they’re streamlining tasks\, enhancing productivity\, and solving everyday challenges with AI. \n2:00 – 2:40 p.m.\nPresentations & Demos \nAttendees will get an overview of our different event tracks and hear from four UCOP AI Innovators. Presenters will share the challenges they addressed and demonstrate innovative solutions they developed. \n2:40 – 3:15 p.m.\nBreakout Sessions Interactive \nJoin the breakout room that best suits your interest!\nHear from additional presenters\, Q&A\, and workshop how to apply AI into your workflow \nTRACK 1\nData Visualization\nUsing AI to create graphs\, flyers\, or space plans \nTRACK 2\nPublic Research and Data Analysis\nUsing AI to find information and analyze large sets of data \nTRACK 3\nCustom Agents\nUsing AI to create process-specific autonomous agents \nTRACK 4\nPython\nUsing AI to generate Python code
URL:https://link.ucop.edu/event/ucop-ai-innovators-share-fair/
END:VEVENT
END:VCALENDAR