BEGIN:VCALENDAR
VERSION:2.0
PRODID:-//Link: UCOP&#039;s e-newsletter - ECPv6.15.20//NONSGML v1.0//EN
CALSCALE:GREGORIAN
METHOD:PUBLISH
X-ORIGINAL-URL:https://link.ucop.edu
X-WR-CALDESC:Events for Link: UCOP&#039;s e-newsletter
REFRESH-INTERVAL;VALUE=DURATION:PT1H
X-Robots-Tag:noindex
X-PUBLISHED-TTL:PT1H
BEGIN:VTIMEZONE
TZID:America/Los_Angeles
BEGIN:STANDARD
TZOFFSETFROM:-0700
TZOFFSETTO:-0800
DTSTART:19701029T020000
RRULE:FREQ=YEARLY;BYMONTH=11;BYDAY=1SU
END:STANDARD
BEGIN:DAYLIGHT
DTSTART:19700402T020000
TZOFFSETFROM:-0800
TZOFFSETTO:-0700
RRULE:FREQ=YEARLY;BYMONTH=3;BYDAY=2SU
END:DAYLIGHT
END:VTIMEZONE
BEGIN:VTIMEZONE
TZID:America/Los_Angeles
BEGIN:DAYLIGHT
TZOFFSETFROM:-0800
TZOFFSETTO:-0700
TZNAME:PDT
DTSTART:20250309T100000
END:DAYLIGHT
BEGIN:STANDARD
TZOFFSETFROM:-0700
TZOFFSETTO:-0800
TZNAME:PST
DTSTART:20251102T090000
END:STANDARD
BEGIN:DAYLIGHT
TZOFFSETFROM:-0800
TZOFFSETTO:-0700
TZNAME:PDT
DTSTART:20260308T100000
END:DAYLIGHT
BEGIN:STANDARD
TZOFFSETFROM:-0700
TZOFFSETTO:-0800
TZNAME:PST
DTSTART:20261101T090000
END:STANDARD
BEGIN:DAYLIGHT
TZOFFSETFROM:-0800
TZOFFSETTO:-0700
TZNAME:PDT
DTSTART:20270314T100000
END:DAYLIGHT
BEGIN:STANDARD
TZOFFSETFROM:-0700
TZOFFSETTO:-0800
TZNAME:PST
DTSTART:20271107T090000
END:STANDARD
END:VTIMEZONE
BEGIN:VEVENT
DTSTART;TZID=America/Los_Angeles:20260113T110000
DTEND;TZID=America/Los_Angeles:20260113T130000
DTSTAMP:20260425T065011
CREATED:20251029T205955Z
LAST-MODIFIED:20251029T205955Z
UID:10013408-1768302000-1768309200@link.ucop.edu
SUMMARY:BSFO “I Have a Dream” Speech and Luncheon
DESCRIPTION:Join UCOP-BSFO in honoring the legacy and birthday of Dr. Martin Luther King Jr. at our third annual “I Have a Dream” speech and luncheon! Employees from all locations are invited to attend the virtual speech reading from 11:05 – 11:55 a.m. From 12:30 – 1 p.m.\, Oakland employees will enjoy remarks by our guest speaker\, John Brown Childs\, Ph.D.\, professor emeritus of sociology at UC Santa Cruz. Let’s lift our voices in community to spread Dr. King’s message of love\, justice and unity!
URL:https://link.ucop.edu/event/bsfo-i-have-a-dream-speech-and-luncheon/
LOCATION:Oakland\, Franklin Lobby 1 + Zoom
ORGANIZER;CN="Joyce Price":MAILTO:joyce.price@ucop.edu
END:VEVENT
END:VCALENDAR