BEGIN:VCALENDAR
VERSION:2.0
PRODID:-//Link: UCOP&#039;s e-newsletter - ECPv6.15.19//NONSGML v1.0//EN
CALSCALE:GREGORIAN
METHOD:PUBLISH
X-ORIGINAL-URL:https://link.ucop.edu
X-WR-CALDESC:Events for Link: UCOP&#039;s e-newsletter
REFRESH-INTERVAL;VALUE=DURATION:PT1H
X-Robots-Tag:noindex
X-PUBLISHED-TTL:PT1H
BEGIN:VTIMEZONE
TZID:America/Los_Angeles
BEGIN:STANDARD
TZOFFSETFROM:-0700
TZOFFSETTO:-0800
DTSTART:19701029T020000
RRULE:FREQ=YEARLY;BYMONTH=11;BYDAY=1SU
END:STANDARD
BEGIN:DAYLIGHT
DTSTART:19700402T020000
TZOFFSETFROM:-0800
TZOFFSETTO:-0700
RRULE:FREQ=YEARLY;BYMONTH=3;BYDAY=2SU
END:DAYLIGHT
END:VTIMEZONE
BEGIN:VTIMEZONE
TZID:America/Los_Angeles
BEGIN:DAYLIGHT
TZOFFSETFROM:-0800
TZOFFSETTO:-0700
TZNAME:PDT
DTSTART:20170312T100000
END:DAYLIGHT
BEGIN:STANDARD
TZOFFSETFROM:-0700
TZOFFSETTO:-0800
TZNAME:PST
DTSTART:20171105T090000
END:STANDARD
BEGIN:DAYLIGHT
TZOFFSETFROM:-0800
TZOFFSETTO:-0700
TZNAME:PDT
DTSTART:20180311T100000
END:DAYLIGHT
BEGIN:STANDARD
TZOFFSETFROM:-0700
TZOFFSETTO:-0800
TZNAME:PST
DTSTART:20181104T090000
END:STANDARD
BEGIN:DAYLIGHT
TZOFFSETFROM:-0800
TZOFFSETTO:-0700
TZNAME:PDT
DTSTART:20190310T100000
END:DAYLIGHT
BEGIN:STANDARD
TZOFFSETFROM:-0700
TZOFFSETTO:-0800
TZNAME:PST
DTSTART:20191103T090000
END:STANDARD
BEGIN:DAYLIGHT
TZOFFSETFROM:-0800
TZOFFSETTO:-0700
TZNAME:PDT
DTSTART:20200308T100000
END:DAYLIGHT
BEGIN:STANDARD
TZOFFSETFROM:-0700
TZOFFSETTO:-0800
TZNAME:PST
DTSTART:20201101T090000
END:STANDARD
BEGIN:DAYLIGHT
TZOFFSETFROM:-0800
TZOFFSETTO:-0700
TZNAME:PDT
DTSTART:20210314T100000
END:DAYLIGHT
BEGIN:STANDARD
TZOFFSETFROM:-0700
TZOFFSETTO:-0800
TZNAME:PST
DTSTART:20211107T090000
END:STANDARD
END:VTIMEZONE
BEGIN:VEVENT
DTSTART;TZID=America/Los_Angeles:20201009T090000
DTEND;TZID=America/Los_Angeles:20201009T100000
DTSTAMP:20260419T162811
CREATED:20200928T221828Z
LAST-MODIFIED:20200928T221923Z
UID:10007066-1602234000-1602237600@link.ucop.edu
SUMMARY:The LaSA Speaker Series Presents: Dr. Theresa Maldonado
DESCRIPTION:Join us for coffee and conversation with VP Maldonado to learn about her background\, path to leadership\, and how she handled challenges along the way. \nDr. Theresa Maldonado joined UCOP as Vice President for Research and Innovation in early March 2020. With 29 years of academic experience\, she most recently served as Dean and Riter Professor of Engineering at the University of Texas at El Paso (UTEP). She also has extensive experience at the federal level in advancing engineering research\, education\, and commercialization initiatives\, having served as a division director in the National Science Foundation’s Engineering Directorate. \nQuestions about this event? Contact Alina.Tejera@ucop.edu or Patricia.Osorio-ODea@ucop.edu \nZoom: 408-638-0968 \nMeeting ID: 510 587 6147 \nhttps://UCOP.zoom.us/j/5105876147
URL:https://link.ucop.edu/event/the-lasa-speaker-series-presents-dr-theresa-maldonado/
ORGANIZER;CN="Latino Staff Association":MAILTO:juliann.martinez@ucop.edu
END:VEVENT
BEGIN:VEVENT
DTSTART;TZID=America/Los_Angeles:20181106T120000
DTEND;TZID=America/Los_Angeles:20181106T130000
DTSTAMP:20260419T162811
CREATED:20180424T181622Z
LAST-MODIFIED:20180802T234604Z
UID:10006951-1541505600-1541509200@link.ucop.edu
SUMMARY:Monthly meeting of LaSA
DESCRIPTION:The Latino Staff Association is an employee organization that promotes the general welfare and interests of Latinos in the Office of the President. Membership in LaSA is open to all Office of the President employees and retirees who wish to participate in carrying out the objectives of the association. 
URL:https://link.ucop.edu/event/monthly-meeting-of-lasa-2-2018-07-03/2018-11-06/
LOCATION:Franklin 5318
CATEGORIES:Employee Resource + Affinity Groups
ORGANIZER;CN="Latino Staff Association":MAILTO:juliann.martinez@ucop.edu
END:VEVENT
BEGIN:VEVENT
DTSTART;TZID=America/Los_Angeles:20181101T113000
DTEND;TZID=America/Los_Angeles:20181101T133000
DTSTAMP:20260419T162811
CREATED:20181022T175426Z
LAST-MODIFIED:20181022T202935Z
UID:10007042-1541071800-1541079000@link.ucop.edu
SUMMARY:Coco Film Screening
DESCRIPTION:Coco follows aspiring musician Miguel\, confronted with his family’s ancestral ban on music\, enters the Land of the Dead to find his great-great-grandfather\, a legendary singer. \nPopcorn\, pan dulce and horchata will be served. There will also be a drawing for a chance to win a gift basket filled with delicious items.
URL:https://link.ucop.edu/event/coco-film-screening/
LOCATION:Franklin Lobby 1
CATEGORIES:Special event
ORGANIZER;CN="Latino Staff Association":MAILTO:juliann.martinez@ucop.edu
GEO:37.8022945;-122.271448
END:VEVENT
BEGIN:VEVENT
DTSTART;TZID=America/Los_Angeles:20181030T120000
DTEND;TZID=America/Los_Angeles:20181030T130000
DTSTAMP:20260419T162811
CREATED:20181022T175446Z
LAST-MODIFIED:20181024T162118Z
UID:10007044-1540900800-1540904400@link.ucop.edu
SUMMARY:Sugar Skull Decorating with the UCOP Craft Club
DESCRIPTION:LaSA will once again join forces with the Craft Club to create a space for staff to make their very own sugar skulls (calaveras). \nIf you will be attending\, please RSVP via the link on LaSA’s event webpage so that we will have enough supplies for everyone: http://ucoplasa.weebly.com/events.html
URL:https://link.ucop.edu/event/sugar-skull-decorating-with-the-ucop-craft-club/
LOCATION:Franklin 9204
CATEGORIES:Special event
ORGANIZER;CN="Latino Staff Association":MAILTO:juliann.martinez@ucop.edu
END:VEVENT
BEGIN:VEVENT
DTSTART;VALUE=DATE:20181029
DTEND;VALUE=DATE:20181103
DTSTAMP:20260419T162811
CREATED:20181022T175511Z
LAST-MODIFIED:20181022T202602Z
UID:10007046-1540771200-1541203199@link.ucop.edu
SUMMARY:Dia de los Muertos Ofrenda
DESCRIPTION:LaSA and the OGC Diversity Committee will display a Dia de los Muertos ofrenda in the Franklin lobby. Please bring a picture or memento of a deceased friend\, relative\, or pet to add to the ofrenda. If you bring a photo\, consider adding a note explaining who the person was. Please label the back of the photo with your name so we know to whom it belongs.
URL:https://link.ucop.edu/event/dia-de-los-muertos-ofrenda/
LOCATION:Franklin lobby
CATEGORIES:Special event
ORGANIZER;CN="Latino Staff Association":MAILTO:juliann.martinez@ucop.edu
END:VEVENT
BEGIN:VEVENT
DTSTART;TZID=America/Los_Angeles:20181016T120000
DTEND;TZID=America/Los_Angeles:20181016T130000
DTSTAMP:20260419T162811
CREATED:20180424T181622Z
LAST-MODIFIED:20181003T201809Z
UID:10006955-1539691200-1539694800@link.ucop.edu
SUMMARY:Monthly meeting of LaSA
DESCRIPTION:The Latino Staff Association is an employee organization that promotes the general welfare and interests of Latinos in the Office of the President. Membership in LaSA is open to all Office of the President employees and retirees who wish to participate in carrying out the objectives of the association. 
URL:https://link.ucop.edu/event/monthly-meeting-of-lasa-2-2018-07-03-2018-10-02/
LOCATION:Franklin 5318
CATEGORIES:Employee Resource + Affinity Groups
ORGANIZER;CN="Latino Staff Association":MAILTO:juliann.martinez@ucop.edu
END:VEVENT
BEGIN:VEVENT
DTSTART;TZID=America/Los_Angeles:20180911T120000
DTEND;TZID=America/Los_Angeles:20180911T130000
DTSTAMP:20260419T162811
CREATED:20180424T181622Z
LAST-MODIFIED:20180828T212841Z
UID:10006953-1536667200-1536670800@link.ucop.edu
SUMMARY:Monthly meeting of LaSA
DESCRIPTION:The Latino Staff Association is an employee organization that promotes the general welfare and interests of Latinos in the Office of the President. Membership in LaSA is open to all Office of the President employees and retirees who wish to participate in carrying out the objectives of the association. 
URL:https://link.ucop.edu/event/monthly-meeting-of-lasa-2-2018-07-03-2018-09-04/
LOCATION:Franklin 5318
CATEGORIES:Employee Resource + Affinity Groups
ORGANIZER;CN="Latino Staff Association":MAILTO:juliann.martinez@ucop.edu
END:VEVENT
BEGIN:VEVENT
DTSTART;TZID=America/Los_Angeles:20180909T130000
DTEND;TZID=America/Los_Angeles:20180909T160000
DTSTAMP:20260419T162811
CREATED:20180822T222656Z
LAST-MODIFIED:20180822T231225Z
UID:10006545-1536498000-1536508800@link.ucop.edu
SUMMARY:LaSA's day at the ballpark
DESCRIPTION:To kickoff Hispanic Heritage Month\, the Latino Staff Association (LaSA) invites all UCOP staff to Hispanic Heritage Day at the Oakland Coliseum as the Oakland A’s take on the Texas Rangers! \nSeats to the 1:05 p.m. Sunday\, Sept. 9 game are $22 each and are located in the Plaza level\, Section 209.  Gate giveaway is an A’s branded Sugar Skull! \nTo reserve your tickets send an email to Juliann at juliann.martinez@ucop.edu and provide a check payable to “UC Latino Staff Association” no later than Friday\, Sept. 7. \nSee you at the game!
URL:https://link.ucop.edu/event/lasas-day-at-the-ballpark/
LOCATION:Oakland Coliseum
CATEGORIES:Employee Resource + Affinity Groups
ORGANIZER;CN="Latino Staff Association":MAILTO:juliann.martinez@ucop.edu
END:VEVENT
BEGIN:VEVENT
DTSTART;TZID=America/Los_Angeles:20180807T120000
DTEND;TZID=America/Los_Angeles:20180807T130000
DTSTAMP:20260419T162811
CREATED:20180424T181622Z
LAST-MODIFIED:20180802T234604Z
UID:10006950-1533643200-1533646800@link.ucop.edu
SUMMARY:Monthly meeting of LaSA
DESCRIPTION:The Latino Staff Association is an employee organization that promotes the general welfare and interests of Latinos in the Office of the President. Membership in LaSA is open to all Office of the President employees and retirees who wish to participate in carrying out the objectives of the association. 
URL:https://link.ucop.edu/event/monthly-meeting-of-lasa-2-2018-07-03/2018-08-07/
LOCATION:Franklin 5318
CATEGORIES:Employee Resource + Affinity Groups
ORGANIZER;CN="Latino Staff Association":MAILTO:juliann.martinez@ucop.edu
END:VEVENT
BEGIN:VEVENT
DTSTART;TZID=America/Los_Angeles:20180712T120000
DTEND;TZID=America/Los_Angeles:20180712T130000
DTSTAMP:20260419T162811
CREATED:20180424T181622Z
LAST-MODIFIED:20180802T234604Z
UID:10006949-1531396800-1531400400@link.ucop.edu
SUMMARY:Monthly meeting of LaSA
DESCRIPTION:The Latino Staff Association is an employee organization that promotes the general welfare and interests of Latinos in the Office of the President. Membership in LaSA is open to all Office of the President employees and retirees who wish to participate in carrying out the objectives of the association. 
URL:https://link.ucop.edu/event/monthly-meeting-of-lasa-2-2018-07-03/2018-07-12/
LOCATION:Franklin 5318
CATEGORIES:Employee Resource + Affinity Groups
ORGANIZER;CN="Latino Staff Association":MAILTO:juliann.martinez@ucop.edu
END:VEVENT
BEGIN:VEVENT
DTSTART;TZID=America/Los_Angeles:20180605T120000
DTEND;TZID=America/Los_Angeles:20180605T130000
DTSTAMP:20260419T162811
CREATED:20180424T181622Z
LAST-MODIFIED:20180424T181703Z
UID:10006947-1528200000-1528203600@link.ucop.edu
SUMMARY:Monthly meeting of LaSA
DESCRIPTION:The Latino Staff Association is an employee organization that promotes the general welfare and interests of Latinos in the Office of the President. Membership in LaSA is open to all Office of the President employees and retirees who wish to participate in carrying out the objectives of the association. 
URL:https://link.ucop.edu/event/monthly-meeting-of-lasa-2/2018-06-05/
LOCATION:Franklin 5318
CATEGORIES:Employee Resource + Affinity Groups
ORGANIZER;CN="Latino Staff Association":MAILTO:juliann.martinez@ucop.edu
END:VEVENT
BEGIN:VEVENT
DTSTART;TZID=America/Los_Angeles:20180501T120000
DTEND;TZID=America/Los_Angeles:20180501T130000
DTSTAMP:20260419T162811
CREATED:20180424T181341Z
LAST-MODIFIED:20180424T181341Z
UID:10006944-1525176000-1525179600@link.ucop.edu
SUMMARY:Monthly meeting of LaSA
DESCRIPTION:The Latino Staff Association will hold its monthly meeting on Tuesday\, May 1. LaSA is an employee organization that promotes the general welfare and interests of Latinos in the Office of the President. Membership in LaSA is open to all Office of the President employees and retirees who wish to participate in carrying out the objectives of the association. 
URL:https://link.ucop.edu/event/monthly-meeting-of-lasa/
LOCATION:Franklin 9115
CATEGORIES:Employee Resource + Affinity Groups
ORGANIZER;CN="Latino Staff Association":MAILTO:juliann.martinez@ucop.edu
END:VEVENT
BEGIN:VEVENT
DTSTART;TZID=America/Los_Angeles:20180328T120000
DTEND;TZID=America/Los_Angeles:20180328T130000
DTSTAMP:20260419T162811
CREATED:20180308T185516Z
LAST-MODIFIED:20180326T204618Z
UID:10006930-1522238400-1522242000@link.ucop.edu
SUMMARY:Cesar Chavez Celebration
DESCRIPTION:Join the Latino Staff Association for a Cesar Chavez celebration featuring Vicki Lynn Ruiz\, Distinguished Professor Emerita of History and Chicano/Latino Studies at UC Irvine and the first Latina recipient of the National Humanities Medal. An expert in 20th century U.S. history\, Ruiz has dedicated much of her nearly 40-year academic career to reclaiming the stories of Latinas who have fought for civil and labor rights. She will be speaking on the topic of “Why Latino history matters to U.S. history.” \nThis event is co-sponsored by PACSW\, with support from Diversity & Engagement. \nTo RSVP\, please visit the event page: http://ucoplasa.weebly.com/events.html. Refreshments from Tortilleria El Molino will be served. \nIf you cannot attend in person\, you can watch the live streaming at https://UCOP.zoom.us/j/5105876036 
URL:https://link.ucop.edu/event/cesar-chavez-celebration/
LOCATION:Franklin Lobby 1
CATEGORIES:Employee Resource + Affinity Groups,Special event,Special presentation
ORGANIZER;CN="Latino Staff Association":MAILTO:juliann.martinez@ucop.edu
GEO:37.8022945;-122.271448
END:VEVENT
END:VCALENDAR