BEGIN:VCALENDAR
VERSION:2.0
PRODID:-//Link: UCOP&#039;s e-newsletter - ECPv6.15.19//NONSGML v1.0//EN
CALSCALE:GREGORIAN
METHOD:PUBLISH
X-ORIGINAL-URL:https://link.ucop.edu
X-WR-CALDESC:Events for Link: UCOP&#039;s e-newsletter
REFRESH-INTERVAL;VALUE=DURATION:PT1H
X-Robots-Tag:noindex
X-PUBLISHED-TTL:PT1H
BEGIN:VTIMEZONE
TZID:America/Los_Angeles
BEGIN:STANDARD
TZOFFSETFROM:-0700
TZOFFSETTO:-0800
DTSTART:19701029T020000
RRULE:FREQ=YEARLY;BYMONTH=11;BYDAY=1SU
END:STANDARD
BEGIN:DAYLIGHT
DTSTART:19700402T020000
TZOFFSETFROM:-0800
TZOFFSETTO:-0700
RRULE:FREQ=YEARLY;BYMONTH=3;BYDAY=2SU
END:DAYLIGHT
END:VTIMEZONE
BEGIN:VTIMEZONE
TZID:America/Los_Angeles
BEGIN:DAYLIGHT
TZOFFSETFROM:-0800
TZOFFSETTO:-0700
TZNAME:PDT
DTSTART:20240310T100000
END:DAYLIGHT
BEGIN:STANDARD
TZOFFSETFROM:-0700
TZOFFSETTO:-0800
TZNAME:PST
DTSTART:20241103T090000
END:STANDARD
BEGIN:DAYLIGHT
TZOFFSETFROM:-0800
TZOFFSETTO:-0700
TZNAME:PDT
DTSTART:20250309T100000
END:DAYLIGHT
BEGIN:STANDARD
TZOFFSETFROM:-0700
TZOFFSETTO:-0800
TZNAME:PST
DTSTART:20251102T090000
END:STANDARD
BEGIN:DAYLIGHT
TZOFFSETFROM:-0800
TZOFFSETTO:-0700
TZNAME:PDT
DTSTART:20260308T100000
END:DAYLIGHT
BEGIN:STANDARD
TZOFFSETFROM:-0700
TZOFFSETTO:-0800
TZNAME:PST
DTSTART:20261101T090000
END:STANDARD
END:VTIMEZONE
BEGIN:VEVENT
DTSTART;TZID=America/Los_Angeles:20250320T150000
DTEND;TZID=America/Los_Angeles:20250320T153500
DTSTAMP:20260421T131259
CREATED:20250325T161826Z
LAST-MODIFIED:20250325T162334Z
UID:10011952-1742482800-1742484900@link.ucop.edu
SUMMARY:Responsible Tech: Earth Hour Celebration & Discussion
DESCRIPTION:Join members of the UC Tech community for gathering in observance of Earth Hour\, as we explore the critical topic of responsible technology in an increasingly complex tech landscape. Register online here: https://ucop.zoom.us/meeting/register/7vPlo0rCSpaO8diGCJmyug#/registration
URL:https://link.ucop.edu/event/responsible-tech-earth-hour-celebration-discussion/
LOCATION:Zoom
END:VEVENT
END:VCALENDAR