BEGIN:VCALENDAR
VERSION:2.0
PRODID:-//Link: UCOP&#039;s e-newsletter - ECPv6.15.19//NONSGML v1.0//EN
CALSCALE:GREGORIAN
METHOD:PUBLISH
X-ORIGINAL-URL:https://link.ucop.edu
X-WR-CALDESC:Events for Link: UCOP&#039;s e-newsletter
REFRESH-INTERVAL;VALUE=DURATION:PT1H
X-Robots-Tag:noindex
X-PUBLISHED-TTL:PT1H
BEGIN:VTIMEZONE
TZID:America/Los_Angeles
BEGIN:STANDARD
TZOFFSETFROM:-0700
TZOFFSETTO:-0800
DTSTART:19701029T020000
RRULE:FREQ=YEARLY;BYMONTH=11;BYDAY=1SU
END:STANDARD
BEGIN:DAYLIGHT
DTSTART:19700402T020000
TZOFFSETFROM:-0800
TZOFFSETTO:-0700
RRULE:FREQ=YEARLY;BYMONTH=3;BYDAY=2SU
END:DAYLIGHT
END:VTIMEZONE
BEGIN:VTIMEZONE
TZID:America/Los_Angeles
BEGIN:DAYLIGHT
TZOFFSETFROM:-0800
TZOFFSETTO:-0700
TZNAME:PDT
DTSTART:20210314T100000
END:DAYLIGHT
BEGIN:STANDARD
TZOFFSETFROM:-0700
TZOFFSETTO:-0800
TZNAME:PST
DTSTART:20211107T090000
END:STANDARD
BEGIN:DAYLIGHT
TZOFFSETFROM:-0800
TZOFFSETTO:-0700
TZNAME:PDT
DTSTART:20220313T100000
END:DAYLIGHT
BEGIN:STANDARD
TZOFFSETFROM:-0700
TZOFFSETTO:-0800
TZNAME:PST
DTSTART:20221106T090000
END:STANDARD
BEGIN:DAYLIGHT
TZOFFSETFROM:-0800
TZOFFSETTO:-0700
TZNAME:PDT
DTSTART:20230312T100000
END:DAYLIGHT
BEGIN:STANDARD
TZOFFSETFROM:-0700
TZOFFSETTO:-0800
TZNAME:PST
DTSTART:20231105T090000
END:STANDARD
END:VTIMEZONE
BEGIN:VEVENT
DTSTART;TZID=America/Los_Angeles:20220928T120000
DTEND;TZID=America/Los_Angeles:20220928T130000
DTSTAMP:20260420T045844
CREATED:20220912T163627Z
LAST-MODIFIED:20220912T163627Z
UID:10009387-1664366400-1664370000@link.ucop.edu
SUMMARY:ANR Latinx & Friends Affinity Group: Jose Pablo Ortiz-Partida
DESCRIPTION:Join the UC ANR Latinx & Friends Affinity Group for a presentation by Jose Pablo Ortiz-Partida\, Ph.D.\, senior water and climate scientist for the Climate & Energy program at the Union of Concerned Scientists. Pablo will discuss the environmental justice study he conducted in the San Joaquin Valley\, as well as his professional focus on developing equitable solutions for preserving and distributing clean water for people and the environment. Register here.
URL:https://link.ucop.edu/event/anr-latinx-friends-affinity-group-jose-pablo-ortiz-partida/
END:VEVENT
END:VCALENDAR