BEGIN:VCALENDAR
VERSION:2.0
PRODID:-//Link: UCOP&#039;s e-newsletter - ECPv6.15.19//NONSGML v1.0//EN
CALSCALE:GREGORIAN
METHOD:PUBLISH
X-ORIGINAL-URL:https://link.ucop.edu
X-WR-CALDESC:Events for Link: UCOP&#039;s e-newsletter
REFRESH-INTERVAL;VALUE=DURATION:PT1H
X-Robots-Tag:noindex
X-PUBLISHED-TTL:PT1H
BEGIN:VTIMEZONE
TZID:America/Los_Angeles
BEGIN:STANDARD
TZOFFSETFROM:-0700
TZOFFSETTO:-0800
DTSTART:19701029T020000
RRULE:FREQ=YEARLY;BYMONTH=11;BYDAY=1SU
END:STANDARD
BEGIN:DAYLIGHT
DTSTART:19700402T020000
TZOFFSETFROM:-0800
TZOFFSETTO:-0700
RRULE:FREQ=YEARLY;BYMONTH=3;BYDAY=2SU
END:DAYLIGHT
END:VTIMEZONE
BEGIN:VTIMEZONE
TZID:America/Los_Angeles
BEGIN:DAYLIGHT
TZOFFSETFROM:-0800
TZOFFSETTO:-0700
TZNAME:PDT
DTSTART:20210314T100000
END:DAYLIGHT
BEGIN:STANDARD
TZOFFSETFROM:-0700
TZOFFSETTO:-0800
TZNAME:PST
DTSTART:20211107T090000
END:STANDARD
BEGIN:DAYLIGHT
TZOFFSETFROM:-0800
TZOFFSETTO:-0700
TZNAME:PDT
DTSTART:20220313T100000
END:DAYLIGHT
BEGIN:STANDARD
TZOFFSETFROM:-0700
TZOFFSETTO:-0800
TZNAME:PST
DTSTART:20221106T090000
END:STANDARD
BEGIN:DAYLIGHT
TZOFFSETFROM:-0800
TZOFFSETTO:-0700
TZNAME:PDT
DTSTART:20230312T100000
END:DAYLIGHT
BEGIN:STANDARD
TZOFFSETFROM:-0700
TZOFFSETTO:-0800
TZNAME:PST
DTSTART:20231105T090000
END:STANDARD
END:VTIMEZONE
BEGIN:VEVENT
DTSTART;TZID=America/Los_Angeles:20220525T110000
DTEND;TZID=America/Los_Angeles:20220525T120000
DTSTAMP:20260419T055406
CREATED:20220523T182826Z
LAST-MODIFIED:20220523T182826Z
UID:10007613-1653476400-1653480000@link.ucop.edu
SUMMARY:Travel Perks
DESCRIPTION:Explore the many benefits provided in UC’s contracts with the major airlines\, hotels and car rental companies and learn how to take advantage of them when booking travel
URL:https://link.ucop.edu/event/travel-perks-2/
END:VEVENT
BEGIN:VEVENT
DTSTART;TZID=America/Los_Angeles:20220330T110000
DTEND;TZID=America/Los_Angeles:20220330T120000
DTSTAMP:20260419T055406
CREATED:20220217T214418Z
LAST-MODIFIED:20220217T214418Z
UID:10009187-1648638000-1648641600@link.ucop.edu
SUMMARY:Taking Advantage of UC’s Car Rental Rates
DESCRIPTION:This session will go over which car rental companies UC has contracts with\, what that means and how to maximize on the offerings. UC’s Risk Services will also join us to share information on insurance coverage for business rentals. \nZoom: https://ucop.zoom.us/webinar/register/WN_xW7th9SJQ1WgXGFYzNad3Q \n  \n 
URL:https://link.ucop.edu/event/taking-advantage-of-ucs-car-rental-rates/
END:VEVENT
END:VCALENDAR